Workbook

Sheet 新契约+批改
A1: 投保单位：安徽中科兴皖医学研究有限公司 | G1: 保单号：
A2: 表格中打*号是必填项
A3: 序号 | B3: 类型 | C3: 姓名* | D3: 证件类型* | E3: 证件号码* | F3: 出生日期 | G3: 性别 | H3: 计划名称* | I3: 生效日期* | J3: 职业(职业代码)* | K3: 职业类别 | L3: 特别约定* | M3: 手机号码 | N3: 监护人姓名 | O3: 监护人证件类型 | P3: 监护人证件号码
A4: 1 | B4: 新契约 | C4: 孙一一 | D4: 身份证 | E4: 341623202512240000 | F4: =MID(E4,7,8) -> 20251224 | G4: =IF(MOD(MID(E4,17,1),2)=1,"男","女") -> 女 | J4: 1201002 | K4: 1类 | L4: 新保 | M4: 18226070000 | N4: 李一一 | O4: 身份证 | P4: 341227198905130000

Sheet 0628减5
A1: 投保单位：杭州诺辉健康科技有限公司 | G1: 保单号：HA1100001510003029
A2: 表格中打*号是必填项
A3: 序号 | B3: 加减保标志* | C3: 姓名* | D3: 证件类型* | E3: 证件号码* | F3: 出生日期* | G3: 性别* | H3: 与主被保人关系 | I3: 主被保人证件姓名 | J3: 主被保人证件类型 | K3: 主被保人证件号码 | L3: 保险计划* | M3: 生效日期* | N3: 职业类别 | O3: 职业(职业代码)* | P3: 入职日期 | Q3: 手机号 | R3: 邮箱 | S3: 是否有医保* | T3: 医保所在地 | U3: 工作所在地 | V3: 国籍 | W3: 分公司 | X3: 部门 | Y3: 职业 | Z3: 月薪 | AA3: 理赔账户银行全称 | AB3: 户名 | AC3: 帐号 | AD3: 员工号 | AE3: 备注
A4: 1 | B4: 减少 | C4: 贾昕晔 | D4: 身份证 | E4: 150424199410254529 | F4: =--TEXT(MID(E4,7,8),"00000") -> 19941025 | G4: 男 | H4: 本人 | L4: 计划1 | M4: 20220628 | N4: 2类 | O4: 0001002 | S4: 是 | V4: 中国
A5: 2 | B5: 减少 | C5: 胡超胜 | D5: 身份证 | E5: 421127199006080458 | F5: =--TEXT(MID(E5,7,8),"00000") -> 19900608 | G5: 男 | H5: 本人 | L5: 计划1 | M5: 20220628 | N5: 2类 | O5: 0001002 | S5: 是 | V5: 中国
A6: 3 | B6: 减少 | C6: 陈婷婷 | D6: 身份证 | E6: 141024200008140040 | F6: =--TEXT(MID(E6,7,8),"00000") -> 20000814 | G6: 女 | H6: 本人 | L6: 计划1 | M6: 20220628 | N6: 2类 | O6: 0001002 | S6: 是 | V6: 中国
A7: 4 | B7: 减少 | C7: 李乾凤 | D7: 身份证 | E7: 500382199908012002 | F7: =--TEXT(MID(E7,7,8),"00000") -> 19990801 | G7: 女 | H7: 本人 | L7: 计划1 | M7: 20220628 | N7: 2类 | O7: 0001002 | S7: 是 | V7: 中国
A8: 5 | B8: 减少 | C8: 业彬 | D8: 身份证 | E8: 530421199504291517 | F8: =--TEXT(MID(E8,7,8),"00000") -> 19950429 | G8: 男 | H8: 本人 | L8: 计划1 | M8: 20220628 | N8: 2类 | O8: 0001002 | S8: 是 | V8: 中国

Sheet 0624减3
A1: 投保单位：杭州诺辉健康科技有限公司 | G1: 保单号：HA1100001510003029
A2: 表格中打*号是必填项
A3: 序号 | B3: 加减保标志* | C3: 姓名* | D3: 证件类型* | E3: 证件号码* | F3: 出生日期* | G3: 性别* | H3: 与主被保人关系 | I3: 主被保人证件姓名 | J3: 主被保人证件类型 | K3: 主被保人证件号码 | L3: 保险计划* | M3: 生效日期* | N3: 职业类别 | O3: 职业(职业代码)* | P3: 入职日期 | Q3: 手机号 | R3: 邮箱 | S3: 是否有医保* | T3: 医保所在地 | U3: 工作所在地 | V3: 国籍 | W3: 分公司 | X3: 部门 | Y3: 职业 | Z3: 月薪 | AA3: 理赔账户银行全称 | AB3: 户名 | AC3: 帐号 | AD3: 员工号 | AE3: 备注
A4: 1 | B4: 减少 | C4: 陈桂生 | D4: 身份证 | E4: =_xlfn.XLOOKUP(C4,[12]在职员工!$F:$F,[12]在职员工!$Y:$Y) -> 350702198108164718 | F4: =--TEXT(MID(E4,7,8),"00000") -> 19810816 | G4: 男 | H4: 本人 | L4: 计划1 | M4: 20220624 | N4: 2类 | O4: 0001002 | S4: 是 | V4: 中国
A5: 2 | B5: 减少 | C5: 王丹蕾 | D5: 身份证 | E5: =_xlfn.XLOOKUP(C5,[12]在职员工!$F:$F,[12]在职员工!$Y:$Y) -> 510681199410040323 | F5: =--TEXT(MID(E5,7,8),"00000") -> 19941004 | G5: 女 | H5: 本人 | L5: 计划1 | M5: 20220624 | N5: 2类 | O5: 0001002 | S5: 是 | V5: 中国
A6: 3 | B6: 减少 | C6: 张义乔 | D6: 身份证 | E6: =_xlfn.XLOOKUP(C6,[12]在职员工!$F:$F,[12]在职员工!$Y:$Y) -> 211103200106251520 | F6: =--TEXT(MID(E6,7,8),"00000") -> 20010625 | G6: 女 | H6: 本人 | L6: 计划1 | M6: 20220624 | N6: 2类 | O6: 0001002 | S6: 是 | V6: 中国

Sheet 0622减3
A1: 投保单位：杭州诺辉健康科技有限公司 | G1: 保单号：HA1100001510003029
A2: 表格中打*号是必填项
A3: 序号 | B3: 加减保标志* | C3: 姓名* | D3: 证件类型* | E3: 证件号码* | F3: 出生日期* | G3: 性别* | H3: 与主被保人关系 | I3: 主被保人证件姓名 | J3: 主被保人证件类型 | K3: 主被保人证件号码 | L3: 保险计划* | M3: 生效日期* | N3: 职业类别 | O3: 职业(职业代码)* | P3: 入职日期 | Q3: 手机号 | R3: 邮箱 | S3: 是否有医保* | T3: 医保所在地 | U3: 工作所在地 | V3: 国籍 | W3: 分公司 | X3: 部门 | Y3: 职业 | Z3: 月薪 | AA3: 理赔账户银行全称 | AB3: 户名 | AC3: 帐号 | AD3: 员工号 | AE3: 备注
A4: 1 | B4: 减少 | C4: 张冬生 | D4: 身份证 | E4: =_xlfn.XLOOKUP(C4,[12]在职员工!$F:$F,[12]在职员工!$Y:$Y) -> 340505198812010014 | F4: =--TEXT(MID(E4,7,8),"00000") -> 19881201 | G4: 男 | H4: 本人 | L4: 计划1 | M4: 20220622 | N4: 2类 | O4: 0001002 | S4: 是 | V4: 中国
A5: 2 | B5: 减少 | C5: 牛长青 | D5: 身份证 | E5: =_xlfn.XLOOKUP(C5,[12]在职员工!$F:$F,[12]在职员工!$Y:$Y) -> 130824198512131582 | F5: =--TEXT(MID(E5,7,8),"00000") -> 19851213 | G5: 男 | H5: 本人 | L5: 计划1 | M5: 20220622 | N5: 2类 | O5: 0001002 | S5: 是 | V5: 中国
A6: 3 | B6: 减少 | C6: 周贤娴 | D6: 身份证 | E6: =_xlfn.XLOOKUP(C6,[12]在职员工!$F:$F,[12]在职员工!$Y:$Y) -> 522328199909220249 | F6: =--TEXT(MID(E6,7,8),"00000") -> 19990922 | G6: 女 | H6: 本人 | L6: 计划1 | M6: 20220622 | N6: 2类 | O6: 0001002 | S6: 是 | V6: 中国

Sheet 0620减2
A1: 投保单位：杭州诺辉健康科技有限公司 | G1: 保单号：HA1100001510003029
A2: 表格中打*号是必填项
A3: 序号 | B3: 加减保标志* | C3: 姓名* | D3: 证件类型* | E3: 证件号码* | F3: 出生日期* | G3: 性别* | H3: 与主被保人关系 | I3: 主被保人证件姓名 | J3: 主被保人证件类型 | K3: 主被保人证件号码 | L3: 保险计划* | M3: 生效日期* | N3: 职业类别 | O3: 职业(职业代码)* | P3: 入职日期 | Q3: 手机号 | R3: 邮箱 | S3: 是否有医保* | T3: 医保所在地 | U3: 工作所在地 | V3: 国籍 | W3: 分公司 | X3: 部门 | Y3: 职业 | Z3: 月薪 | AA3: 理赔账户银行全称 | AB3: 户名 | AC3: 帐号 | AD3: 员工号 | AE3: 备注
A4: 1 | B4: 减少 | C4: 马文星 | D4: 身份证 | E4: =_xlfn.XLOOKUP(C4,[11]在职员工!$F:$F,[11]在职员工!$Y:$Y) -> 350702198603020324 | F4: =--TEXT(MID(E4,7,8),"00000") -> 19860302 | G4: 男 | H4: 本人 | L4: 计划1 | M4: 20220620 | N4: 2类 | O4: 0001002 | S4: 是 | V4: 中国
A5: 2 | B5: 减少 | C5: 刘世强 | D5: 身份证 | E5: =_xlfn.XLOOKUP(C5,[11]在职员工!$F:$F,[11]在职员工!$Y:$Y) -> 370829199807103213 | F5: =--TEXT(MID(E5,7,8),"00000") -> 19980710 | G5: 男 | H5: 本人 | L5: 计划1 | M5: 20220620 | N5: 2类 | O5: 0001002 | S5: 是 | V5: 中国

Sheet 0617减3
A1: 投保单位：杭州诺辉健康科技有限公司 | G1: 保单号：HA1100001510003029
A2: 表格中打*号是必填项
A3: 序号 | B3: 加减保标志* | C3: 姓名* | D3: 证件类型* | E3: 证件号码* | F3: 出生日期* | G3: 性别* | H3: 与主被保人关系 | I3: 主被保人证件姓名 | J3: 主被保人证件类型 | K3: 主被保人证件号码 | L3: 保险计划* | M3: 生效日期* | N3: 职业类别 | O3: 职业(职业代码)* | P3: 入职日期 | Q3: 手机号 | R3: 邮箱 | S3: 是否有医保* | T3: 医保所在地 | U3: 工作所在地 | V3: 国籍 | W3: 分公司 | X3: 部门 | Y3: 职业 | Z3: 月薪 | AA3: 理赔账户银行全称 | AB3: 户名 | AC3: 帐号 | AD3: 员工号 | AE3: 备注
A4: 1 | B4: 减少 | C4: 甘慧玲 | D4: 身份证 | E4: =_xlfn.XLOOKUP(C4,[10]离职人员!$F:$F,[10]离职人员!$Y:$Y) -> 361123200009154524 | F4: =--TEXT(MID(E4,7,8),"00000") -> 20000915 | G4: 女 | H4: 本人 | L4: 计划2 | M4: 20220617 | N4: 2类 | O4: 0001002 | S4: 是 | V4: 中国
A5: 2 | B5: 减少 | C5: 姜根林 | D5: 身份证 | E5: =_xlfn.XLOOKUP(C5,[10]在职员工!$F:$F,[10]在职员工!$Y:$Y) -> 370612199011076530 | F5: =--TEXT(MID(E5,7,8),"00000") -> 19901107 | G5: 男 | H5: 本人 | L5: 计划2 | M5: 20220617 | N5: 2类 | O5: 0001002 | S5: 是 | V5: 中国
A6: 3 | B6: 减少 | C6: 梁淇淇 | D6: 身份证 | E6: =_xlfn.XLOOKUP(C6,[10]在职员工!$F:$F,[10]在职员工!$Y:$Y) -> 440883199908040043 | F6: =--TEXT(MID(E6,7,8),"00000") -> 19990804 | G6: 女 | H6: 本人 | L6: 计划2 | M6: 20220617 | N6: 2类 | O6: 0001002 | S6: 是 | V6: 中国

Sheet 0616减7
A1: 投保单位：杭州诺辉健康科技有限公司 | G1: 保单号：HA1100001510003029
A2: 表格中打*号是必填项
A3: 序号 | B3: 加减保标志* | C3: 姓名* | D3: 证件类型* | E3: 证件号码* | F3: 出生日期* | G3: 性别* | H3: 与主被保人关系 | I3: 主被保人证件姓名 | J3: 主被保人证件类型 | K3: 主被保人证件号码 | L3: 保险计划* | M3: 生效日期* | N3: 职业类别 | O3: 职业(职业代码)* | P3: 入职日期 | Q3: 手机号 | R3: 邮箱 | S3: 是否有医保* | T3: 医保所在地 | U3: 工作所在地 | V3: 国籍 | W3: 分公司 | X3: 部门 | Y3: 职业 | Z3: 月薪 | AA3: 理赔账户银行全称 | AB3: 户名 | AC3: 帐号 | AD3: 员工号 | AE3: 备注
A4: 1 | B4: 减少 | C4: 宋国庆 | D4: 身份证 | E4: 420583199510013416 | F4: 19951001 | G4: 男 | H4: 本人 | L4: 计划2 | M4: 20220616 | N4: 2类 | O4: 0001002 | S4: 是 | V4: 中国
A5: 2 | B5: 减少 | C5: 颜炳福 | D5: 身份证 | E5: 350681198810124716 | F5: 19881012 | G5: 男 | H5: 本人 | L5: 计划2 | M5: 20220616 | N5: 2类 | O5: 0001002 | S5: 是 | V5: 中国
A6: 3 | B6: 减少 | C6: 莫晓萍 | D6: 身份证 | E6: 452231200106292521 | F6: 20010629 | G6: 女 | H6: 本人 | L6: 计划2 | M6: 20220616 | N6: 2类 | O6: 0001002 | S6: 是 | V6: 中国
A7: 4 | B7: 减少 | C7: 林安妮 | D7: 身份证 | E7: 330329200203232461 | F7: 20020323 | G7: 女 | H7: 本人 | L7: 计划2 | M7: 20220616 | N7: 2类 | O7: 0001002 | S7: 是 | V7: 中国
A8: 5 | B8: 减少 | C8: 吴莎莎 | D8: 身份证 | E8: 522227199809177245 | F8: 19980917 | G8: 女 | H8: 本人 | L8: 计划2 | M8: 20220616 | N8: 2类 | O8: 0001002 | S8: 是 | V8: 中国
A9: 6 | B9: 减少 | C9: 王洪伟 | D9: 身份证 | E9: 371329198904115733 | F9: 19890411 | G9: 男 | H9: 本人 | L9: 计划2 | M9: 20220616 | N9: 2类 | O9: 0001002 | S9: 是 | V9: 中国
A10: 7 | B10: 减少 | C10: 陶俊波 | D10: 身份证 | E10: 360121199503243531 | F10: 19950324 | G10: 男 | H10: 本人 | L10: 计划2 | M10: 20220616 | N10: 2类 | O10: 0001002 | S10: 是 | V10: 中国

Sheet 0609减10
A1: 投保单位：杭州诺辉健康科技有限公司 | G1: 保单号：HA1100001510003029
A2: 表格中打*号是必填项
A3: 序号 | B3: 加减保标志* | C3: 姓名* | D3: 证件类型* | E3: 证件号码* | F3: 出生日期* | G3: 性别* | H3: 与主被保人关系 | I3: 主被保人证件姓名 | J3: 主被保人证件类型 | K3: 主被保人证件号码 | L3: 保险计划* | M3: 生效日期* | N3: 职业类别 | O3: 职业(职业代码)* | P3: 入职日期 | Q3: 手机号 | R3: 邮箱 | S3: 是否有医保* | T3: 医保所在地 | U3: 工作所在地 | V3: 国籍 | W3: 分公司 | X3: 部门 | Y3: 职业 | Z3: 月薪 | AA3: 理赔账户银行全称 | AB3: 户名 | AC3: 帐号 | AD3: 员工号 | AE3: 备注
A4: 1 | B4: 减少 | C4: 张溢潇 | D4: 身份证 | E4: 33262420001013356X | F4: 20001013 | G4: 女 | H4: 本人 | L4: 计划2 | M4: 20220609 | N4: 2类 | O4: 0001002 | S4: 是 | V4: 中国
A5: 2 | B5: 减少 | C5: 黄城 | D5: 身份证 | E5: 362202199009245935 | F5: 19900924 | G5: 男 | H5: 本人 | L5: 计划2 | M5: 20220609 | N5: 2类 | O5: 0001002 | S5: 是 | V5: 中国
A6: 3 | B6: 减少 | C6: 任航 | D6: 身份证 | E6: 211223198608202615 | F6: 19860820 | G6: 男 | H6: 本人 | L6: 计划2 | M6: 20220609 | N6: 2类 | O6: 0001002 | S6: 是 | V6: 中国
A7: 4 | B7: 减少 | C7: 刘娜 | D7: 身份证 | E7: 220724198701253446 | F7: 19870125 | G7: 女 | H7: 本人 | L7: 计划2 | M7: 20220609 | N7: 2类 | O7: 0001002 | S7: 是 | V7: 中国
A8: 5 | B8: 减少 | C8: 高慧杰 | D8: 身份证 | E8: 652901199811224366 | F8: 19981122 | G8: 女 | H8: 本人 | L8: 计划2 | M8: 20220609 | N8: 2类 | O8: 0001002 | S8: 是 | V8: 中国
A9: 6 | B9: 减少 | C9: 白晴 | D9: 身份证 | E9: 360735200012100348 | F9: 20001210 | G9: 女 | H9: 本人 | L9: 计划2 | M9: 20220609 | N9: 2类 | O9: 0001002 | S9: 是 | V9: 中国
A10: 7 | B10: 减少 | C10: 李欢 | D10: 身份证 | E10: 511922199810044005 | F10: 19981004 | G10: 女 | H10: 本人 | L10: 计划2 | M10: 20220609 | N10: 2类 | O10: 0001002 | S10: 是 | V10: 中国
A11: 8 | B11: 减少 | C11: 余小乐 | D11: 身份证 | E11: 511502200008231266 | F11: 20000823 | G11: 女 | H11: 本人 | L11: 计划2 | M11: 20220609 | N11: 2类 | O11: 0001002 | S11: 是 | V11: 中国
A12: 9 | B12: 减少 | C12: 万佳琦 | D12: 身份证 | E12: 420302200008091546 | F12: 20000809 | G12: 女 | H12: 本人 | L12: 计划2 | M12: 20220609 | N12: 2类 | O12: 0001002 | S12: 是 | V12: 中国
A13: 10 | B13: 减少 | C13: 熊成状 | D13: 身份证 | E13: 420114199712305113 | F13: 19971230 | G13: 男 | H13: 本人 | L13: 计划2 | M13: 20220609 | N13: 2类 | O13: 0001002 | S13: 是 | V13: 中国

Sheet 0530增39
A1: 投保单位：杭州诺辉健康科技有限公司 | G1: 保单号：HA1100001510003029
A2: 表格中打*号是必填项
A3: 序号 | B3: 加减保标志* | C3: 姓名* | D3: 证件类型* | E3: 证件号码* | F3: 出生日期* | G3: 性别* | H3: 与主被保人关系 | I3: 主被保人证件姓名 | J3: 主被保人证件类型 | K3: 主被保人证件号码 | L3: 保险计划* | M3: 生效日期* | N3: 职业类别 | O3: 职业(职业代码)* | P3: 入职日期 | Q3: 手机号 | R3: 邮箱 | S3: 是否有医保* | T3: 医保所在地 | U3: 工作所在地 | V3: 国籍 | W3: 分公司 | X3: 部门 | Y3: 职业 | Z3: 月薪 | AA3: 理赔账户银行全称 | AB3: 户名 | AC3: 帐号 | AD3: 员工号 | AE3: 备注
A4: 1 | B4: 增加 | C4: 周江 | D4: 身份证 | E4: =_xlfn.XLOOKUP(C4,[9]在职员工!$F:$F,[9]在职员工!$Y:$Y) -> 51132119890618747X | F4: =--TEXT(MID(E4,7,8),"00000") -> 19890618 | G4: =_xlfn.XLOOKUP(C4,[9]在职员工!$F:$F,[9]在职员工!$J:$J) -> 男 | H4: 本人 | L4: 计划1 | M4: 20220601零时 | N4: 2类 | O4: 0001002 | S4: 是 | V4: 中国
A5: 2 | B5: 增加 | C5: 王迪 | D5: 身份证 | E5: =_xlfn.XLOOKUP(C5,[9]在职员工!$F:$F,[9]在职员工!$Y:$Y) -> 370982198811065048 | F5: =--TEXT(MID(E5,7,8),"00000") -> 19881106 | G5: =_xlfn.XLOOKUP(C5,[9]在职员工!$F:$F,[9]在职员工!$J:$J) -> 女 | H5: 本人 | L5: 计划1 | M5: 20220601零时 | N5: 2类 | O5: 0001002 | S5: 是 | V5: 中国
A6: 3 | B6: 增加 | C6: 刘宇飞 | D6: 身份证 | E6: =_xlfn.XLOOKUP(C6,[9]在职员工!$F:$F,[9]在职员工!$Y:$Y) -> 410521198703153567 | F6: =--TEXT(MID(E6,7,8),"00000") -> 19870315 | G6: =_xlfn.XLOOKUP(C6,[9]在职员工!$F:$F,[9]在职员工!$J:$J) -> 女 | H6: 本人 | L6: 计划1 | M6: 20220601零时 | N6: 2类 | O6: 0001002 | S6: 是 | V6: 中国
A7: 4 | B7: 增加 | C7: 陈洁 | D7: 身份证 | E7: =_xlfn.XLOOKUP(C7,[9]在职员工!$F:$F,[9]在职员工!$Y:$Y) -> 330106198707310827 | F7: =--TEXT(MID(E7,7,8),"00000") -> 19870731 | G7: =_xlfn.XLOOKUP(C7,[9]在职员工!$F:$F,[9]在职员工!$J:$J) -> 女 | H7: 本人 | L7: 计划1 | M7: 20220601零时 | N7: 2类 | O7: 0001002 | S7: 是 | V7: 中国
A8: 5 | B8: 增加 | C8: 夏文静 | D8: 身份证 | E8: =_xlfn.XLOOKUP(C8,[9]在职员工!$F:$F,[9]在职员工!$Y:$Y) -> 342201199908264929 | F8: =--TEXT(MID(E8,7,8),"00000") -> 19990826 | G8: =_xlfn.XLOOKUP(C8,[9]在职员工!$F:$F,[9]在职员工!$J:$J) -> 女 | H8: 本人 | L8: 计划1 | M8: 20220601零时 | N8: 2类 | O8: 0001002 | S8: 是 | V8: 中国
A9: 6 | B9: 增加 | C9: 刘航 | D9: 身份证 | E9: =_xlfn.XLOOKUP(C9,[9]在职员工!$F:$F,[9]在职员工!$Y:$Y) -> 410323200105061517 | F9: =--TEXT(MID(E9,7,8),"00000") -> 20010506 | G9: =_xlfn.XLOOKUP(C9,[9]在职员工!$F:$F,[9]在职员工!$J:$J) -> 男 | H9: 本人 | L9: 计划1 | M9: 20220601零时 | N9: 2类 | O9: 0001002 | S9: 是 | V9: 中国
A10: 7 | B10: 增加 | C10: 黄萍萍 | D10: 身份证 | E10: =_xlfn.XLOOKUP(C10,[9]在职员工!$F:$F,[9]在职员工!$Y:$Y) -> 430522198907020088 | F10: =--TEXT(MID(E10,7,8),"00000") -> 19890702 | G10: =_xlfn.XLOOKUP(C10,[9]在职员工!$F:$F,[9]在职员工!$J:$J) -> 女 | H10: 本人 | L10: 计划1 | M10: 20220601零时 | N10: 2类 | O10: 0001002 | S10: 是 | V10: 中国
A11: 8 | B11: 增加 | C11: 陆丽英 | D11: 身份证 | E11: =_xlfn.XLOOKUP(C11,[9]在职员工!$F:$F,[9]在职员工!$Y:$Y) -> 33050119801112222x | F11: =--TEXT(MID(E11,7,8),"00000") -> 19801112 | G11: =_xlfn.XLOOKUP(C11,[9]在职员工!$F:$F,[9]在职员工!$J:$J) -> 女 | H11: 本人 | L11: 计划1 | M11: 20220601零时 | N11: 2类 | O11: 0001002 | S11: 是 | V11: 中国
A12: 9 | B12: 增加 | C12: 安小龙 | D12: 身份证 | E12: =_xlfn.XLOOKUP(C12,[9]在职员工!$F:$F,[9]在职员工!$Y:$Y) -> 620503199609287033 | F12: =--TEXT(MID(E12,7,8),"00000") -> 19960928 | G12: =_xlfn.XLOOKUP(C12,[9]在职员工!$F:$F,[9]在职员工!$J:$J) -> 男 | H12: 本人 | L12: 计划1 | M12: 20220601零时 | N12: 2类 | O12: 0001002 | S12: 是 | V12: 中国
A13: 10 | B13: 增加 | C13: 李斌2 | D13: 身份证 | E13: =_xlfn.XLOOKUP(C13,[9]在职员工!$F:$F,[9]在职员工!$Y:$Y) -> 330184199110041859 | F13: =--TEXT(MID(E13,7,8),"00000") -> 19911004 | G13: =_xlfn.XLOOKUP(C13,[9]在职员工!$F:$F,[9]在职员工!$J:$J) -> 男 | H13: 本人 | L13: 计划1 | M13: 20220601零时 | N13: 2类 | O13: 0001002 | S13: 是 | V13: 中国
A14: 11 | B14: 增加 | C14: 刘喜灵 | D14: 身份证 | E14: =_xlfn.XLOOKUP(C14,[9]在职员工!$F:$F,[9]在职员工!$Y:$Y) -> 412728199210134546 | F14: =--TEXT(MID(E14,7,8),"00000") -> 19921013 | G14: =_xlfn.XLOOKUP(C14,[9]在职员工!$F:$F,[9]在职员工!$J:$J) -> 女 | H14: 本人 | L14: 计划1 | M14: 20220601零时 | N14: 2类 | O14: 0001002 | S14: 是 | V14: 中国
A15: 12 | B15: 增加 | C15: 郑欢绮 | D15: 身份证 | E15: =_xlfn.XLOOKUP(C15,[9]在职员工!$F:$F,[9]在职员工!$Y:$Y) -> 362321199310070526 | F15: =--TEXT(MID(E15,7,8),"00000") -> 19931007 | G15: =_xlfn.XLOOKUP(C15,[9]在职员工!$F:$F,[9]在职员工!$J:$J) -> 女 | H15: 本人 | L15: 计划1 | M15: 20220601零时 | N15: 2类 | O15: 0001002 | S15: 是 | V15: 中国
... A42: 39 | B42: 增加 | C42: 刘东升 | D42: 身份证 | E42: =_xlfn.XLOOKUP(C42,[9]在职员工!$F:$F,[9]在职员工!$Y:$Y) -> 370502198907163239 | F42: =--TEXT(MID(E42,7,8),"00000") -> 19890716 | G42: =_xlfn.XLOOKUP(C42,[9]在职员工!$F:$F,[9]在职员工!$J:$J) -> 男 | H42: 本人 | L42: 计划1 | M42: 20220601零时 | N42: 2类 | O42: 0001002 | S42: 是 | V42: 中国

Sheet 0530减7（2）
A1: 投保单位：杭州诺辉健康科技有限公司 | G1: 保单号：HA1100001510003029
A2: 表格中打*号是必填项
A3: 序号 | B3: 加减保标志* | C3: 姓名* | D3: 证件类型* | E3: 证件号码* | F3: 出生日期* | G3: 性别* | H3: 与主被保人关系 | I3: 主被保人证件姓名 | J3: 主被保人证件类型 | K3: 主被保人证件号码 | L3: 保险计划* | M3: 生效日期* | N3: 职业类别 | O3: 职业(职业代码)* | P3: 入职日期 | Q3: 手机号 | R3: 邮箱 | S3: 是否有医保* | T3: 医保所在地 | U3: 工作所在地 | V3: 国籍 | W3: 分公司 | X3: 部门 | Y3: 职业 | Z3: 月薪 | AA3: 理赔账户银行全称 | AB3: 户名 | AC3: 帐号 | AD3: 员工号 | AE3: 备注
A4: 1 | B4: 减少 | C4: 吴高永 | D4: 身份证 | E4: 320382198512108835 | F4: =--TEXT(MID(E4,7,8),"00000") -> 19851210 | G4: 男 | H4: 本人 | L4: 计划2 | M4: 20220530 | N4: 2类 | O4: 0001002 | P4: 43934 | S4: 是 | V4: 中国
A5: 2 | B5: 减少 | C5: 赵晓亮 | D5: 身份证 | E5: 152122198210283016 | F5: =--TEXT(MID(E5,7,8),"00000") -> 19821028 | G5: 男 | H5: 本人 | L5: 计划2 | M5: 20220530 | N5: 2类 | O5: 0001002 | P5: 43941 | S5: 是 | V5: 中国
A6: 3 | B6: 减少 | C6: 程学龙 | D6: 身份证 | E6: 130525199301020035 | F6: =--TEXT(MID(E6,7,8),"00000") -> 19930102 | G6: 男 | H6: 本人 | L6: 计划2 | M6: 20220530 | N6: 2类 | O6: 0001002 | P6: 43948 | S6: 是 | V6: 中国
A7: 4 | B7: 减少 | C7: 欧阳可祯 | D7: 身份证 | E7: 360782199709155612 | F7: =--TEXT(MID(E7,7,8),"00000") -> 19970915 | G7: 男 | H7: 本人 | L7: 计划2 | M7: 20220530 | N7: 2类 | O7: 0001002 | P7: 43928 | S7: 是 | V7: 中国
A8: 5 | B8: 减少 | C8: 杨华 | D8: 身份证 | E8: 330122198907190321 | F8: =--TEXT(MID(E8,7,8),"00000") -> 19890719 | G8: 女 | H8: 本人 | L8: 计划2 | M8: 20220530 | N8: 2类 | O8: 0001002 | P8: 44515 | S8: 是 | V8: 中国
A9: 6 | B9: 减少 | C9: 王起晨 | D9: 身份证 | E9: 654301199112250011 | F9: =--TEXT(MID(E9,7,8),"00000") -> 19911225 | G9: 男 | H9: 本人 | L9: 计划2 | M9: 20220530 | N9: 2类 | O9: 0001002 | P9: 43928 | S9: 是 | V9: 中国
A10: 7 | B10: 减少 | C10: 陈琪 | D10: 身份证 | E10: 610527199207086828 | F10: =--TEXT(MID(E10,7,8),"00000") -> 19920708 | G10: 女 | H10: 本人 | L10: 计划2 | M10: 20220530 | N10: 2类 | O10: 0001002 | P10: 44326 | S10: 是 | V10: 中国

Sheet 0526减2 
A1: 投保单位：杭州诺辉健康科技有限公司 | G1: 保单号：HA1100001510003029
A2: 表格中打*号是必填项
A3: 序号 | B3: 加减保标志* | C3: 姓名* | D3: 证件类型* | E3: 证件号码* | F3: 出生日期* | G3: 性别* | H3: 与主被保人关系 | I3: 主被保人证件姓名 | J3: 主被保人证件类型 | K3: 主被保人证件号码 | L3: 保险计划* | M3: 生效日期* | N3: 职业类别 | O3: 职业(职业代码)* | P3: 入职日期 | Q3: 手机号 | R3: 邮箱 | S3: 是否有医保* | T3: 医保所在地 | U3: 工作所在地 | V3: 国籍 | W3: 分公司 | X3: 部门 | Y3: 职业 | Z3: 月薪 | AA3: 理赔账户银行全称 | AB3: 户名 | AC3: 帐号 | AD3: 员工号 | AE3: 备注
A4: 1 | B4: 减少 | C4: 王天洋 | D4: 身份证 | E4: 230202199905111010 | F4: 19990511 | G4: 男 | H4: 本人 | L4: 计划2 | M4: 20220526 | N4: 2类 | O4: 0001002 | P4: 44643 | S4: 是 | V4: 中国
A5: 2 | B5: 减少 | C5: 韩铠泽 | D5: 身份证 | E5: 130323198706143254 | F5: 19870614 | G5: 男 | H5: 本人 | L5: 计划2 | M5: 20220526 | N5: 2类 | O5: 0001002 | P5: 44664 | S5: 是 | V5: 中国
A6: 3 | B6: 减少 | C6: 刘雪莹 | D6: 身份证 | E6: 210505199601250021 | F6: 19870615 | G6: 女 | H6: 本人 | L6: 计划2 | M6: 20220526 | N6: 2类 | O6: 0001002 | P6: 44606 | S6: 是 | V6: 中国
A7: 4 | B7: 减少 | C7: 夏金铃 | D7: 身份证 | E7: 420583198605131023 | F7: 19870616 | G7: 女 | H7: 本人 | L7: 计划2 | M7: 20220526 | N7: 2类 | O7: 0001002 | P7: 44650 | S7: 是 | V7: 中国
A8: 5 | B8: 减少 | C8: 石玉红 | D8: 身份证 | E8: 410482199308149025 | F8: 19870617 | G8: 女 | H8: 本人 | L8: 计划2 | M8: 20220526 | N8: 2类 | O8: 0001002 | P8: 44189 | S8: 是 | V8: 中国
A9: 6 | B9: 减少 | C9: 田洪艳 | D9: 身份证 | E9: 522527199912061124 | F9: 19870618 | G9: 女 | H9: 本人 | L9: 计划2 | M9: 20220526 | N9: 2类 | O9: 0001002 | P9: 44378 | S9: 是 | V9: 中国

Sheet 0524减1
A1: 投保单位：杭州诺辉健康科技有限公司 | G1: 保单号：HA1100001510003029
A2: 表格中打*号是必填项
A3: 序号 | B3: 加减保标志* | C3: 姓名* | D3: 证件类型* | E3: 证件号码* | F3: 出生日期* | G3: 性别* | H3: 与主被保人关系 | I3: 主被保人证件姓名 | J3: 主被保人证件类型 | K3: 主被保人证件号码 | L3: 保险计划* | M3: 生效日期* | N3: 职业类别 | O3: 职业(职业代码)* | P3: 入职日期 | Q3: 手机号 | R3: 邮箱 | S3: 是否有医保* | T3: 医保所在地 | U3: 工作所在地 | V3: 国籍 | W3: 分公司 | X3: 部门 | Y3: 职业 | Z3: 月薪 | AA3: 理赔账户银行全称 | AB3: 户名 | AC3: 帐号 | AD3: 员工号 | AE3: 备注
A4: 1 | B4: 减少 | C4: 赖嘉文 | D4: 身份证 | E4: 410322200010037710 | F4: 20001003 | G4: 男 | H4: 本人 | L4: 计划2 | M4: 20220524 | N4: 2类 | O4: 0001002 | P4: 44606 | S4: 是 | V4: 中国

Sheet 0519减2
A1: 投保单位：杭州诺辉健康科技有限公司 | G1: 保单号：HA1100001510003029
A2: 表格中打*号是必填项
A3: 序号 | B3: 加减保标志* | C3: 姓名* | D3: 证件类型* | E3: 证件号码* | F3: 出生日期* | G3: 性别* | H3: 与主被保人关系 | I3: 主被保人证件姓名 | J3: 主被保人证件类型 | K3: 主被保人证件号码 | L3: 保险计划* | M3: 生效日期* | N3: 职业类别 | O3: 职业(职业代码)* | P3: 入职日期 | Q3: 手机号 | R3: 邮箱 | S3: 是否有医保* | T3: 医保所在地 | U3: 工作所在地 | V3: 国籍 | W3: 分公司 | X3: 部门 | Y3: 职业 | Z3: 月薪 | AA3: 理赔账户银行全称 | AB3: 户名 | AC3: 帐号 | AD3: 员工号 | AE3: 备注
A4: 1 | B4: 减少 | C4: 段香宇 | D4: 身份证 | E4: 230421199812120022 | F4: 19981212 | G4: 女 | H4: 本人 | L4: 计划2 | M4: 20220519 | N4: 2类 | O4: 0001002 | P4: 44375 | S4: 是 | V4: 中国
A5: 2 | B5: 减少 | C5: 王文文 | D5: 身份证 | E5: 330327199908141342 | F5: 19990814 | G5: 女 | H5: 本人 | L5: 计划2 | M5: 20220519 | N5: 3类 | O5: 0001002 | P5: 44186 | S5: 是 | V5: 中国
A6: 3 | B6: 减少 | C6: 林伟平 | D6: 身份证 | E6: 440982198907065913 | F6: 19890706 | G6: 男 | H6: 本人 | L6: 计划2 | M6: 20220519 | N6: 2类 | O6: 0001002 | P6: 44660 | S6: 是 | V6: 中国

Sheet 0517减4
A1: 投保单位：杭州诺辉健康科技有限公司 | G1: 保单号：HA1100001510003029
A2: 表格中打*号是必填项
A3: 序号 | B3: 加减保标志* | C3: 姓名* | D3: 证件类型* | E3: 证件号码* | F3: 出生日期* | G3: 性别* | H3: 与主被保人关系 | I3: 主被保人证件姓名 | J3: 主被保人证件类型 | K3: 主被保人证件号码 | L3: 保险计划* | M3: 生效日期* | N3: 职业类别 | O3: 职业(职业代码)* | P3: 入职日期 | Q3: 手机号 | R3: 邮箱 | S3: 是否有医保* | T3: 医保所在地 | U3: 工作所在地 | V3: 国籍 | W3: 分公司 | X3: 部门 | Y3: 职业 | Z3: 月薪 | AA3: 理赔账户银行全称 | AB3: 户名 | AC3: 帐号 | AD3: 员工号 | AE3: 备注
A4: 1 | B4: 减少 | C4: 杨露 | D4: 身份证 | E4: 522529200102062641 | F4: =--TEXT(MID(E4,7,8),"00000") -> 20010206 | G4: 女 | H4: 本人 | L4: 计划2 | M4: 20220517 | N4: 2类 | O4: 0001002 | P4: 44508 | S4: 是 | V4: 中国
A5: 2 | B5: 减少 | C5: 林若鸿 | D5: 身份证 | E5: 330822200004190927 | F5: =--TEXT(MID(E5,7,8),"00000") -> 20000419 | G5: 女 | H5: 本人 | L5: 计划3 | M5: 20220517 | N5: 3类 | O5: 0001002 | P5: 44550 | S5: 是 | V5: 中国
A6: 3 | B6: 减少 | C6: 王洪涛 | D6: 身份证 | E6: 410927200008255019 | F6: =--TEXT(MID(E6,7,8),"00000") -> 20000825 | G6: 男 | H6: 本人 | L6: 计划4 | M6: 20220517 | N6: 4类 | O6: 0001002 | P6: 44573 | S6: 是 | V6: 中国
A7: 4 | B7: 减少 | C7: 何昭 | D7: 身份证 | E7: 62282419940806137X | F7: =--TEXT(MID(E7,7,8),"00000") -> 19940806 | G7: 男 | H7: 本人 | L7: 计划5 | M7: 20220517 | N7: 5类 | O7: 0001002 | P7: 44531 | S7: 是 | V7: 中国

Sheet 0511减3
A1: 投保单位：杭州诺辉健康科技有限公司 | G1: 保单号：HA1100001510003029
A2: 表格中打*号是必填项
A3: 序号 | B3: 加减保标志* | C3: 姓名* | D3: 证件类型* | E3: 证件号码* | F3: 出生日期* | G3: 性别* | H3: 与主被保人关系 | I3: 主被保人证件姓名 | J3: 主被保人证件类型 | K3: 主被保人证件号码 | L3: 保险计划* | M3: 生效日期* | N3: 职业类别 | O3: 职业(职业代码)* | P3: 入职日期 | Q3: 手机号 | R3: 邮箱 | S3: 是否有医保* | T3: 医保所在地 | U3: 工作所在地 | V3: 国籍 | W3: 分公司 | X3: 部门 | Y3: 职业 | Z3: 月薪 | AA3: 理赔账户银行全称 | AB3: 户名 | AC3: 帐号 | AD3: 员工号 | AE3: 备注
A4: 1 | B4: 减少 | C4: 胡鹏飞 | D4: 身份证 | E4: 511602199911117419 | F4: 19991111 | G4: 男 | H4: 本人 | L4: 计划2 | M4: 20220511 | N4: 2类 | O4: 0001002 | P4: 44627 | S4: 是 | V4: 中国
A5: 2 | B5: 减少 | C5: 兰海涛 | D5: 身份证 | E5: 420321197811203556 | F5: 19781120 | G5: 男 | H5: 本人 | L5: 计划2 | M5: 20220511 | N5: 2类 | O5: 0001002 | P5: 43692 | S5: 是 | V5: 中国
A6: 3 | B6: 减少 | C6: 李帅 | D6: 身份证 | E6: 210122198705186036 | F6: 19870518 | G6: 男 | H6: 本人 | L6: 计划2 | M6: 20220511 | N6: 2类 | O6: 0001002 | P6: 44349 | S6: 是 | V6: 中国
A7: 4 | B7: 减少 | C7: 李琳 | D7: 身份证 | E7: 370786199005155144 | F7: 19900515 | G7: 女 | H7: 本人 | L7: 计划2 | M7: 20220511 | N7: 2类 | O7: 0001002 | P7: 44384 | S7: 是 | V7: 中国

Sheet 0510减9
A1: 投保单位：杭州诺辉健康科技有限公司 | G1: 保单号：HA1100001510003029
A2: 表格中打*号是必填项
A3: 序号 | B3: 加减保标志* | C3: 姓名* | D3: 证件类型* | E3: 证件号码* | F3: 出生日期* | G3: 性别* | H3: 与主被保人关系 | I3: 主被保人证件姓名 | J3: 主被保人证件类型 | K3: 主被保人证件号码 | L3: 保险计划* | M3: 生效日期* | N3: 职业类别 | O3: 职业(职业代码)* | P3: 入职日期 | Q3: 手机号 | R3: 邮箱 | S3: 是否有医保* | T3: 医保所在地 | U3: 工作所在地 | V3: 国籍 | W3: 分公司 | X3: 部门 | Y3: 职业 | Z3: 月薪 | AA3: 理赔账户银行全称 | AB3: 户名 | AC3: 帐号 | AD3: 员工号 | AE3: 备注
A4: 1 | B4: 减少 | C4: 颜剑朗 | D4: 身份证 | E4: 350582199101283277 | F4: =--TEXT(MID(E4,7,8),"00000") -> 19910128 | G4: 男 | H4: 本人 | L4: 计划2 | M4: 20220510 | N4: 2类 | O4: 0001002 | P4: 20211110 | S4: 是 | V4: 中国
A5: 2 | B5: 减少 | C5: 汪满意 | D5: 身份证 | E5: 622425198602138019 | F5: =--TEXT(MID(E5,7,8),"00000") -> 19860213 | G5: 男 | H5: 本人 | L5: 计划2 | M5: 20220510 | N5: 2类 | O5: 0001002 | P5: 20160801 | S5: 是 | V5: 中国
A6: 3 | B6: 减少 | C6: 王瑞 | D6: 身份证 | E6: 130682198811284821 | F6: =--TEXT(MID(E6,7,8),"00000") -> 19881128 | G6: 男 | H6: 本人 | L6: 计划2 | M6: 20220510 | N6: 2类 | O6: 0001002 | P6: 20211110 | S6: 是 | V6: 中国
A7: 4 | B7: 减少 | C7: 吕新 | D7: 身份证 | E7: 411324199910281549 | F7: =--TEXT(MID(E7,7,8),"00000") -> 19991028 | G7: 男 | H7: 本人 | L7: 计划2 | M7: 20220510 | N7: 2类 | O7: 0001002 | P7: 20220112 | S7: 是 | V7: 中国
A8: 5 | B8: 减少 | C8: 朱洋洋 | D8: 身份证 | E8: 360122199006170614 | F8: =--TEXT(MID(E8,7,8),"00000") -> 19900617 | G8: 男 | H8: 本人 | L8: 计划2 | M8: 20220516 | N8: 2类 | O8: 0001002 | P8: 20210329 | S8: 是 | V8: 中国
A9: 6 | B9: 减少 | C9: 施一斌 | D9: 身份证 | E9: 330282199512179175 | F9: =--TEXT(MID(E9,7,8),"00000") -> 19951217 | G9: 男 | H9: 本人 | L9: 计划2 | M9: 20220520 | N9: 2类 | O9: 0001002 | P9: 20170701 | S9: 是 | V9: 中国
A10: 7 | B10: 减少 | C10: 许海华 | D10: 身份证 | E10: 44538119860816751X | F10: =--TEXT(MID(E10,7,8),"00000") -> 19860816 | G10: 男 | H10: 本人 | L10: 计划2 | M10: 20220521 | N10: 2类 | O10: 0001002 | P10: 20211122 | S10: 是 | V10: 中国
A11: 8 | B11: 减少 | C11: 李东亮 | D11: 身份证 | E11: 211103199307030016 | F11: =--TEXT(MID(E11,7,8),"00000") -> 19930703 | G11: 男 | H11: 本人 | L11: 计划2 | M11: 20220530 | N11: 2类 | O11: 0001002 | P11: 20210421 | S11: 是 | V11: 中国
A12: 9 | B12: 减少 | C12: 王钏名 | D12: 身份证 | E12: 450821199102145818 | F12: =--TEXT(MID(E12,7,8),"00000") -> 19910214 | G12: 男 | H12: 本人 | L12: 计划2 | M12: 20220530 | N12: 2类 | O12: 0001002 | P12: 20210705 | S12: 是 | V12: 中国

Sheet 0505减23
A1: 投保单位：杭州诺辉健康科技有限公司 | G1: 保单号：HA1100001510003029
A2: 表格中打*号是必填项
A3: 序号 | B3: 加减保标志* | C3: 姓名* | D3: 证件类型* | E3: 证件号码* | F3: 出生日期* | G3: 性别* | H3: 与主被保人关系 | I3: 主被保人证件姓名 | J3: 主被保人证件类型 | K3: 主被保人证件号码 | L3: 保险计划* | M3: 生效日期* | N3: 职业类别 | O3: 职业(职业代码)* | P3: 入职日期 | Q3: 手机号 | R3: 邮箱 | S3: 是否有医保* | T3: 医保所在地 | U3: 工作所在地 | V3: 国籍 | W3: 分公司 | X3: 部门 | Y3: 职业 | Z3: 月薪 | AA3: 理赔账户银行全称 | AB3: 户名 | AC3: 帐号 | AD3: 员工号 | AE3: 备注
A4: 1 | B4: 减少 | C4: 秦立烽 | D4: 身份证 | E4: 330682198202073030 | F4: 19820207 | G4: 男 | H4: 本人 | L4: 计划2 | M4: 20220520 | N4: 2类 | O4: 0001002 | P4: 20190301 | S4: 是 | V4: 中国
A5: 2 | B5: 减少 | C5: 刘阳 | D5: 身份证 | E5: 371322198912081233 | F5: 19891208 | G5: 男 | H5: 本人 | L5: 计划2 | M5: 20220527 | N5: 2类 | O5: 0001002 | P5: 20200927 | S5: 是 | V5: 中国
A6: 3 | B6: 减少 | C6: 周江 | D6: 身份证 | E6: 51132119890618747X | F6: 19890618 | G6: 男 | H6: 本人 | L6: 计划2 | M6: 20220507 | N6: 2类 | O6: 0001002 | P6: 20211110 | S6: 是 | V6: 中国
A7: 4 | B7: 减少 | C7: 陈睿 | D7: 身份证 | E7: 440882199210011551 | F7: 19921001 | G7: 男 | H7: 本人 | L7: 计划2 | M7: 20220531 | N7: 2类 | O7: 0001002 | P7: 20210125 | S7: 是 | V7: 中国
A8: 5 | B8: 减少 | C8: 杨道宏 | D8: 身份证 | E8: 350111199705272432 | F8: 19970527 | G8: 男 | H8: 本人 | L8: 计划2 | M8: 20220510 | N8: 2类 | O8: 0001002 | P8: 20211124 | S8: 是 | V8: 中国
A9: 6 | B9: 减少 | C9: 洪巍 | D9: 身份证 | E9: 652901199502066712 | F9: 19950206 | G9: 男 | H9: 本人 | L9: 计划2 | M9: 20220528 | N9: 2类 | O9: 0001002 | P9: 20210421 | S9: 是 | V9: 中国
A10: 7 | B10: 减少 | C10: 徐小杰 | D10: 身份证 | E10: 511621199303076157 | F10: 19930307 | G10: 男 | H10: 本人 | L10: 计划2 | M10: 20220527 | N10: 2类 | O10: 0001002 | P10: 20180502 | S10: 是 | V10: 中国
A11: 8 | B11: 减少 | C11: 顾阳 | D11: 身份证 | E11: 232101198710055018 | F11: 19871005 | G11: 男 | H11: 本人 | L11: 计划2 | M11: 20220505 | N11: 2类 | O11: 0001002 | P11: 20211117 | S11: 是 | V11: 中国
A12: 9 | B12: 减少 | C12: 张卫领 | D12: 身份证 | E12: 412725198902022277 | F12: 19890202 | G12: 男 | H12: 本人 | L12: 计划2 | M12: 20220531 | N12: 2类 | O12: 0001002 | P12: 20210421 | S12: 是 | V12: 中国
A13: 10 | B13: 减少 | C13: 邓韧 | D13: 身份证 | E13: 360481199303046018 | F13: 19930304 | G13: 男 | H13: 本人 | L13: 计划2 | M13: 20220510 | N13: 2类 | O13: 0001002 | P13: 20210926 | S13: 是 | V13: 中国
A14: 11 | B14: 减少 | C14: 李亚旗 | D14: 身份证 | E14: 411481199201010415 | F14: 19920101 | G14: 男 | H14: 本人 | L14: 计划2 | M14: 20220507 | N14: 2类 | O14: 0001002 | P14: 20220411 | S14: 是 | V14: 中国
A15: 12 | B15: 减少 | C15: 王迪 | D15: 身份证 | E15: 370982198811065048 | F15: 19881106 | G15: 女 | H15: 本人 | L15: 计划2 | M15: 20220507 | N15: 2类 | O15: 0001002 | P15: 20210125 | S15: 是 | V15: 中国
A16: 13 | B16: 减少 | C16: 杨露 | D16: 身份证 | E16: 420683199610310528 | F16: 19961031 | G16: =_xlfn.XLOOKUP(C16,[8]离职人员!$F:$F,[8]离职人员!$J:$J) -> 女 | H16: 本人 | L16: 计划2 | M16: 20200508 | N16: 2类 | O16: 0001002 | P16: 20190722 | S16: 是 | V16: 中国
A17: 14 | B17: 减少 | C17: 姜雨佳 | D17: 身份证 | E17: 231005199706230526 | F17: 19970623 | G17: =_xlfn.XLOOKUP(C17,[8]离职人员!$F:$F,[8]离职人员!$J:$J) -> 女 | H17: 本人 | L17: 计划2 | M17: 20220505 | N17: 2类 | O17: 0001002 | P17: 20211213 | S17: 是 | V17: 中国
A18: 15 | B18: 减少 | C18: 谢俊浩 | D18: 身份证 | E18: 44182719990319895X | F18: 19990319 | G18: =_xlfn.XLOOKUP(C18,[8]离职人员!$F:$F,[8]离职人员!$J:$J) -> 男 | H18: 本人 | L18: 计划2 | M18: 20220505 | N18: 2类 | O18: 0001002 | P18: 20210705 | S18: 是 | V18: 中国
A19: 16 | B19: 减少 | C19: 张响 | D19: 身份证 | E19: 652322198609130571 | F19: 19860913 | G19: =_xlfn.XLOOKUP(C19,[8]离职人员!$F:$F,[8]离职人员!$J:$J) -> 男 | H19: 本人 | L19: 计划2 | M19: 20220505 | N19: 2类 | O19: 0001002 | P19: 20211025 | S19: 是 | V19: 中国
A20: 17 | B20: 减少 | C20: 周亮 | D20: 身份证 | E20: 362204199402171429 | F20: 19940217 | G20: =_xlfn.XLOOKUP(C20,[8]离职人员!$F:$F,[8]离职人员!$J:$J) -> 女 | H20: 本人 | L20: 计划2 | M20: 20220505 | N20: 2类 | O20: 0001002 | P20: 20211013 | S20: 是 | V20: 中国
A21: 18 | B21: 减少 | C21: 陈栩 | D21: 身份证 | E21: 330327199508270671 | F21: 19950827 | G21: =_xlfn.XLOOKUP(C21,[8]离职人员!$F:$F,[8]离职人员!$J:$J) -> 男 | H21: 本人 | L21: 计划2 | M21: 20220505 | N21: 2类 | O21: 0001002 | P21: 20220228 | S21: 是 | V21: 中国
A22: 19 | B22: 减少 | C22: 范志光 | D22: 身份证 | E22: 440921198501036810 | F22: 19850103 | G22: =_xlfn.XLOOKUP(C22,[8]离职人员!$F:$F,[8]离职人员!$J:$J) -> 男 | H22: 本人 | L22: 计划2 | M22: 20220505 | N22: 2类 | O22: 0001002 | P22: 20220418 | S22: 是 | V22: 中国
A23: 20 | B23: 减少 | C23: 徐林 | D23: 身份证 | E23: 500231198611156232 | F23: 19861115 | G23: =_xlfn.XLOOKUP(C23,[8]离职人员!$F:$F,[8]离职人员!$J:$J) -> 男 | H23: 本人 | L23: 计划2 | M23: 20220505 | N23: 2类 | O23: 0001002 | P23: 20211101 | S23: 是 | V23: 中国
A24: 21 | B24: 减少 | C24: 韩晋 | D24: 身份证 | E24: 142333199201281820 | F24: 19920128 | G24: =_xlfn.XLOOKUP(C24,[8]离职人员!$F:$F,[8]离职人员!$J:$J) -> 女 | H24: 本人 | L24: 计划2 | M24: 20220505 | N24: 2类 | O24: 0001002 | P24: 20170104 | S24: 是 | V24: 中国
A25: 22 | B25: 减少 | C25: 尤林琪 | D25: 身份证 | E25: 331081198801226512 | F25: 19880122 | G25: =_xlfn.XLOOKUP(C25,[8]离职人员!$F:$F,[8]离职人员!$J:$J) -> 男 | H25: 本人 | L25: 计划2 | M25: 20220505 | N25: 2类 | O25: 0001002 | P25: 20170710 | S25: 是 | V25: 中国
A26: 23 | B26: 减少 | C26: 徐志刚 | D26: 身份证 | E26: 410182199108064514 | F26: 19910806 | G26: =_xlfn.XLOOKUP(C26,[8]离职人员!$F:$F,[8]离职人员!$J:$J) -> 男 | H26: 本人 | L26: 计划2 | M26: 20220505 | N26: 2类 | O26: 0001002 | P26: 20210705 | S26: 是 | V26: 中国

Sheet 0427增23
A1: 投保单位：杭州诺辉健康科技有限公司 | G1: 保单号：HA1100001510003029
A2: 表格中打*号是必填项
A3: 序号 | B3: 加减保标志* | C3: 姓名* | D3: 证件类型* | E3: 证件号码* | F3: 出生日期* | G3: 性别* | H3: 与主被保人关系 | I3: 主被保人证件姓名 | J3: 主被保人证件类型 | K3: 主被保人证件号码 | L3: 保险计划* | M3: 生效日期* | N3: 职业类别 | O3: 职业(职业代码)* | P3: 入职日期 | Q3: 手机号 | R3: 邮箱 | S3: 是否有医保* | T3: 医保所在地 | U3: 工作所在地 | V3: 国籍 | W3: 分公司 | X3: 部门 | Y3: 职业 | Z3: 月薪 | AA3: 理赔账户银行全称 | AB3: 户名 | AC3: 帐号 | AD3: 员工号 | AE3: 备注
A4: 1 | B4: 增加 | C4: 窦凤雏 | D4: 身份证 | E4: 440103199304033344 | F4: 19890720 | G4: 女 | H4: 本人 | L4: 计划1 | M4: 20220501零时 | N4: 2类 | O4: 0001002 | P4: 20220413 | Q4: 13822245561 | S4: 是 | V4: 中国
A5: 2 | B5: 增加 | C5: 李越 | D5: 身份证 | E5: 370705198907242017 | F5: 19890721 | G5: 男 | H5: 本人 | L5: 计划1 | M5: 20220501零时 | N5: 2类 | O5: 0001002 | P5: 20220413 | Q5: 18553675552 | S5: 是 | V5: 中国
A6: 3 | B6: 增加 | C6: 高峰 | D6: 身份证 | E6: 142332198805280035 | F6: 19890722 | G6: 男 | H6: 本人 | L6: 计划1 | M6: 20220501零时 | N6: 2类 | O6: 0001002 | P6: 20220413 | Q6: 13191076277 | S6: 是 | V6: 中国
A7: 4 | B7: 增加 | C7: 业彬 | D7: 身份证 | E7: 530421199504291517 | F7: 19890723 | G7: 男 | H7: 本人 | L7: 计划1 | M7: 20220501零时 | N7: 2类 | O7: 0001002 | P7: 20220413 | Q7: 18388372863 | S7: 是 | V7: 中国
A8: 5 | B8: 增加 | C8: 姜根林 | D8: 身份证 | E8: 370612199011076530 | F8: 19890724 | G8: 男 | H8: 本人 | L8: 计划1 | M8: 20220501零时 | N8: 2类 | O8: 0001002 | P8: 20220413 | Q8: 15335357172 | S8: 是 | V8: 中国
A9: 6 | B9: 增加 | C9: 张海荣 | D9: 身份证 | E9: 420624199402175827 | F9: 19890725 | G9: 女 | H9: 本人 | L9: 计划1 | M9: 20220501零时 | N9: 2类 | O9: 0001002 | P9: 20220413 | Q9: 18627145669 | S9: 是 | V9: 中国
A10: 7 | B10: 增加 | C10: 韩铠泽 | D10: 身份证 | E10: 130323198706143254 | F10: 19890726 | G10: 男 | H10: 本人 | L10: 计划1 | M10: 20220501零时 | N10: 2类 | O10: 0001002 | P10: 20220413 | Q10: 15201618095 | S10: 是 | V10: 中国
A11: 8 | B11: 增加 | C11: 范志光 | D11: 身份证 | E11: 440921198501036810 | F11: 19890727 | G11: 男 | H11: 本人 | L11: 计划1 | M11: 20220501零时 | N11: 2类 | O11: 0001002 | P11: 20220418 | Q11: 18290165993 | S11: 是 | V11: 中国
A12: 9 | B12: 增加 | C12: 肖旭 | D12: 身份证 | E12: 320723198908061676 | F12: 19890728 | G12: 男 | H12: 本人 | L12: 计划1 | M12: 20220501零时 | N12: 2类 | O12: 0001002 | P12: 20220418 | Q12: 13823983351 | S12: 是 | V12: 中国
A13: 10 | B13: 增加 | C13: 苏勤辉 | D13: 身份证 | E13: 331002198510261013 | F13: 19890729 | G13: 男 | H13: 本人 | L13: 计划1 | M13: 20220501零时 | N13: 2类 | O13: 0001002 | P13: 20220420 | Q13: 13750692630 | S13: 是 | V13: 中国
A14: 11 | B14: 增加 | C14: 赵雨荷 | D14: 身份证 | E14: 230103199307251321 | F14: 19890730 | G14: 女 | H14: 本人 | L14: 计划1 | M14: 20220501零时 | N14: 2类 | O14: 0001002 | P14: 20220420 | Q14: 18221835464 | S14: 是 | V14: 中国
A15: 12 | B15: 增加 | C15: 宋丽娟 | D15: 身份证 | E15: 37292219941013476X | F15: 19890731 | G15: 女 | H15: 本人 | L15: 计划1 | M15: 20220501零时 | N15: 2类 | O15: 0001002 | P15: 20220420 | Q15: 15811000192 | S15: 是 | V15: 中国
... A26: 23 | B26: 增加 | C26: 李若绮 | D26: 身份证 | E26: 620422199409243208 | F26: 19890742 | G26: 女 | H26: 本人 | L26: 计划1 | M26: 20220501零时 | N26: 2类 | O26: 0001002 | P26: 20220427 | Q26: 18610928020 | S26: 是 | V26: 中国

Sheet 0422增21减24
A1: 投保单位：杭州诺辉健康科技有限公司 | G1: 保单号：HA1100001510003029
A2: 表格中打*号是必填项
A3: 序号 | B3: 加减保标志* | C3: 姓名* | D3: 证件类型* | E3: 证件号码* | F3: 出生日期* | G3: 性别* | H3: 与主被保人关系 | I3: 主被保人证件姓名 | J3: 主被保人证件类型 | K3: 主被保人证件号码 | L3: 保险计划* | M3: 生效日期* | N3: 职业类别 | O3: 职业(职业代码)* | P3: 入职日期 | Q3: 手机号 | R3: 邮箱 | S3: 是否有医保* | T3: 医保所在地 | U3: 工作所在地 | V3: 国籍 | W3: 分公司 | X3: 部门 | Y3: 职业 | Z3: 月薪 | AA3: 理赔账户银行全称 | AB3: 户名 | AC3: 帐号 | AD3: 员工号 | AE3: 备注
A4: 1 | B4: 增加 | C4: 粟潆 | D4: 身份证 | E4: 510184198910145348 | F4: =--TEXT(MID(E4,7,8),"00000") -> 19891014 | G4: 女 | H4: 本人 | L4: 计划1 | M4: 20220501零时 | N4: 2类 | O4: 0001002 | P4: 20220401 | Q4: 19938262610 | S4: 是 | V4: 中国
A5: 2 | B5: 增加 | C5: 郭欣 | D5: 身份证 | E5: 340621199808254024 | F5: =--TEXT(MID(E5,7,8),"00000") -> 19980825 | G5: 女 | H5: 本人 | L5: 计划1 | M5: 20220501零时 | N5: 2类 | O5: 0001002 | P5: 20220406 | Q5: 19857182942 | S5: 是 | V5: 中国
A6: 3 | B6: 增加 | C6: 张梦鸽 | D6: 身份证 | E6: 330683199504250021 | F6: =--TEXT(MID(E6,7,8),"00000") -> 19950425 | G6: 女 | H6: 本人 | L6: 计划1 | M6: 20220501零时 | N6: 2类 | O6: 0001002 | P6: 20220406 | Q6: 18758567923 | S6: 是 | V6: 中国
A7: 4 | B7: 增加 | C7: 苏颖昕 | D7: 身份证 | E7: 440181199911270922 | F7: =--TEXT(MID(E7,7,8),"00000") -> 19991127 | G7: 女 | H7: 本人 | L7: 计划1 | M7: 20220501零时 | N7: 2类 | O7: 0001002 | P7: 20220406 | Q7: 19898028027 | S7: 是 | V7: 中国
A8: 5 | B8: 增加 | C8: 高楹 | D8: 身份证 | E8: 330602199612252528 | F8: =--TEXT(MID(E8,7,8),"00000") -> 19961225 | G8: 女 | H8: 本人 | L8: 计划1 | M8: 20220501零时 | N8: 2类 | O8: 0001002 | P8: 20220406 | Q8: 13600631669 | S8: 是 | V8: 中国
A9: 6 | B9: 增加 | C9: 李晓琪 | D9: 身份证 | E9: 64222219960126162X | F9: =--TEXT(MID(E9,7,8),"00000") -> 19960126 | G9: 女 | H9: 本人 | L9: 计划1 | M9: 20220501零时 | N9: 2类 | O9: 0001002 | P9: 20220406 | Q9: 18811739308 | S9: 是 | V9: 中国
A10: 7 | B10: 增加 | C10: 龚世灿 | D10: 身份证 | E10: 321281199209188418 | F10: =--TEXT(MID(E10,7,8),"00000") -> 19920918 | G10: 男 | H10: 本人 | L10: 计划1 | M10: 20220501零时 | N10: 2类 | O10: 0001002 | P10: 20220406 | Q10: 13774255727 | S10: 是 | V10: 中国
A11: 8 | B11: 增加 | C11: 熊成状 | D11: 身份证 | E11: 420114199712305113 | F11: =--TEXT(MID(E11,7,8),"00000") -> 19971230 | G11: 男 | H11: 本人 | L11: 计划1 | M11: 20220501零时 | N11: 2类 | O11: 0001002 | P11: 20220406 | Q11: 18071036018 | S11: 是 | V11: 中国
A12: 9 | B12: 增加 | C12: 陈诗曼 | D12: 身份证 | E12: 511303199908115420 | F12: =--TEXT(MID(E12,7,8),"00000") -> 19990811 | G12: 女 | H12: 本人 | L12: 计划1 | M12: 20220501零时 | N12: 2类 | O12: 0001002 | P12: 20220406 | Q12: 19182114146 | S12: 是 | V12: 中国
A13: 10 | B13: 增加 | C13: 陈国栋 | D13: 身份证 | E13: 370702198909204234 | F13: =--TEXT(MID(E13,7,8),"00000") -> 19890920 | G13: 男 | H13: 本人 | L13: 计划1 | M13: 20220501零时 | N13: 2类 | O13: 0001002 | P13: 20220406 | Q13: 15854897766 | S13: 是 | V13: 中国
A14: 11 | B14: 增加 | C14: 姚家俊 | D14: 身份证 | E14: 420625199701190054 | F14: =--TEXT(MID(E14,7,8),"00000") -> 19970119 | G14: 男 | H14: 本人 | L14: 计划1 | M14: 20220501零时 | N14: 2类 | O14: 0001002 | P14: 20220406 | Q14: 18671472520 | S14: 是 | V14: 中国
A15: 12 | B15: 增加 | C15: 陶俊波 | D15: 身份证 | E15: 360121199503243531 | F15: =--TEXT(MID(E15,7,8),"00000") -> 19950324 | G15: 男 | H15: 本人 | L15: 计划1 | M15: 20220501零时 | N15: 2类 | O15: 0001002 | P15: 20220411 | Q15: 13767064094 | S15: 是 | V15: 中国
A16: 13 | B16: 增加 | C16: 李亚旗 | D16: 身份证 | E16: 411481199201010415 | F16: =--TEXT(MID(E16,7,8),"00000") -> 19920101 | G16: 男 | H16: 本人 | L16: 计划1 | M16: 20220501零时 | N16: 2类 | O16: 0001002 | P16: 20220411 | Q16: 18817201674 | S16: 是 | V16: 中国
A17: 14 | B17: 增加 | C17: 王孝富 | D17: 身份证 | E17: 230227198406251118 | F17: =--TEXT(MID(E17,7,8),"00000") -> 19840625 | G17: 男 | H17: 本人 | L17: 计划1 | M17: 20220501零时 | N17: 2类 | O17: 0001002 | P17: 20220411 | Q17: 13644569801 | S17: 是 | V17: 中国
A18: 15 | B18: 增加 | C18: 柳欢 | D18: 身份证 | E18: 421125198902161726 | F18: =--TEXT(MID(E18,7,8),"00000") -> 19890216 | G18: 女 | H18: 本人 | L18: 计划1 | M18: 20220501零时 | N18: 2类 | O18: 0001002 | P18: 20220411 | Q18: 15817466508 | S18: 是 | V18: 中国
A19: 16 | B19: 增加 | C19: 马冰倩 | D19: 身份证 | E19: 330724200101145420 | F19: =--TEXT(MID(E19,7,8),"00000") -> 20010114 | G19: 女 | H19: 本人 | L19: 计划1 | M19: 20220501零时 | N19: 2类 | O19: 0001002 | P19: 20220411 | Q19: 15858968433 | S19: 是 | V19: 中国
A20: 17 | B20: 增加 | C20: 海金宝 | D20: 身份证 | E20: 410928199908104217 | F20: =--TEXT(MID(E20,7,8),"00000") -> 19990810 | G20: 男 | H20: 本人 | L20: 计划1 | M20: 20220501零时 | N20: 2类 | O20: 0001002 | P20: 20220411 | Q20: 18236037060 | S20: 是 | V20: 中国
A21: 18 | B21: 增加 | C21: 张冲 | D21: 身份证 | E21: 411503199005281759 | F21: =--TEXT(MID(E21,7,8),"00000") -> 19900528 | G21: 男 | H21: 本人 | L21: 计划1 | M21: 20220501零时 | N21: 2类 | O21: 0001002 | P21: 20220411 | Q21: 19110444452 | S21: 是 | V21: 中国
A22: 19 | B22: 增加 | C22: 李亚良 | D22: 身份证 | E22: 411327199206290010 | F22: =--TEXT(MID(E22,7,8),"00000") -> 19920629 | G22: 男 | H22: 本人 | L22: 计划1 | M22: 20220501零时 | N22: 2类 | O22: 0001002 | P22: 20220411 | Q22: 13323699263 | S22: 是 | V22: 中国
A23: 20 | B23: 增加 | C23: 肖金强 | D23: 身份证 | E23: 530181198903143939 | F23: =--TEXT(MID(E23,7,8),"00000") -> 19890314 | G23: 男 | H23: 本人 | L23: 计划1 | M23: 20220501零时 | N23: 2类 | O23: 0001002 | P23: 20220411 | Q23: 15808718487 | S23: 是 | V23: 中国
A24: 21 | B24: 增加 | C24: 郝锦涛 | D24: 身份证 | E24: 370284199806110456 | F24: =--TEXT(MID(E24,7,8),"00000") -> 19980611 | G24: 男 | H24: 本人 | L24: 计划1 | M24: 20220501零时 | N24: 2类 | O24: 0001002 | P24: 20220411 | Q24: 13295425675 | S24: 是 | V24: 中国
A26: 1 | B26: 减少 | C26: 陈芷滢 | D26: 身份证 | E26: 420503199912115544 | F26: =--TEXT(MID(E26,7,8),"00000") -> 19991211 | G26: 女 | H26: 本人 | L26: 计划2 | M26: 20220414二十四时 | N26: 2类 | O26: 0001002 | P26: 20220330 | Q26: 18163511885 | S26: 是 | V26: 中国
A27: 2 | B27: 减少 | C27: 耿世哲 | D27: 身份证 | E27: 131128200009196619 | F27: =--TEXT(MID(E27,7,8),"00000") -> 20000919 | G27: 男 | H27: 本人 | L27: 计划2 | M27: 20220414二十四时 | N27: 2类 | O27: 0001002 | P27: 20211220 | Q27: 17039815666 | S27: 是 | V27: 中国
A28: 3 | B28: 减少 | C28: 白旭 | D28: 身份证 | E28: 130481198410080046 | F28: =--TEXT(MID(E28,7,8),"00000") -> 19841008 | G28: 男 | H28: 本人 | L28: 计划2 | M28: 20220414二十四时 | N28: 2类 | O28: 0001002 | P28: 20220307 | Q28: 13616528058 | S28: 是 | V28: 中国
A29: 4 | B29: 减少 | C29: 李栋 | D29: 身份证 | E29: 440883199707103538 | F29: =--TEXT(MID(E29,7,8),"00000") -> 19970710 | G29: 男 | H29: 本人 | L29: 计划2 | M29: 20220414二十四时 | N29: 2类 | O29: 0001002 | P29: 20220105 | Q29: 15692959674 | S29: 是 | V29: 中国
A30: 5 | B30: 减少 | C30: 谭萌 | D30: 身份证 | E30: 500101200111259469 | F30: =--TEXT(MID(E30,7,8),"00000") -> 20011125 | G30: 女 | H30: 本人 | L30: 计划2 | M30: 20220414二十四时 | N30: 2类 | O30: 0001002 | P30: 20211018 | Q30: 15696648517 | S30: 是 | V30: 中国
A31: 6 | B31: 减少 | C31: 吴恒源 | D31: 身份证 | E31: 350502199710262015 | F31: =--TEXT(MID(E31,7,8),"00000") -> 19971026 | G31: 男 | H31: 本人 | L31: 计划2 | M31: 20220414二十四时 | N31: 2类 | O31: 0001002 | P31: 20211101 | Q31: 15258373348 | S31: 是 | V31: 中国
A32: 7 | B32: 减少 | C32: 易太清 | D32: 身份证 | E32: 530625200008252721 | F32: =--TEXT(MID(E32,7,8),"00000") -> 20000825 | G32: 女 | H32: 本人 | L32: 计划2 | M32: 20220414二十四时 | N32: 2类 | O32: 0001002 | P32: 20220216 | Q32: 15080293579 | S32: 是 | V32: 中国
A33: 8 | B33: 减少 | C33: 热合麦·亚力 | D33: 身份证 | E33: 654023199906020885 | F33: =--TEXT(MID(E33,7,8),"00000") -> 19990602 | G33: 女 | H33: 本人 | L33: 计划2 | M33: 20220414二十四时 | N33: 2类 | O33: 0001002 | P33: 20220110 | Q33: 15299153507 | S33: 是 | V33: 中国
A34: 9 | B34: 减少 | C34: 管颜青 | D34: 身份证 | E34: 340104199111033025 | F34: =--TEXT(MID(E34,7,8),"00000") -> 19911103 | G34: 女 | H34: 本人 | L34: 计划2 | M34: 20220414二十四时 | N34: 2类 | O34: 0001002 | P34: 20201026 | Q34: 13366621922 | S34: 是 | V34: 中国
A35: 10 | B35: 减少 | C35: 陈德林 | D35: 身份证 | E35: 362323198812212510 | F35: =--TEXT(MID(E35,7,8),"00000") -> 19881221 | G35: 男 | H35: 本人 | L35: 计划2 | M35: 20220414二十四时 | N35: 2类 | O35: 0001002 | P35: 20180404 | Q35: 18806535970 | S35: 是 | V35: 中国
A36: 11 | B36: 减少 | C36: 兰小飞 | D36: 身份证 | E36: 342427199110165221 | F36: =--TEXT(MID(E36,7,8),"00000") -> 19911016 | G36: 女 | H36: 本人 | L36: 计划2 | M36: 20220414二十四时 | N36: 2类 | O36: 0001002 | P36: 20190902 | Q36: 18058807852 | S36: 是 | V36: 中国
A37: 12 | B37: 减少 | C37: 洪怡 | D37: 身份证 | E37: 341004199605070825 | F37: =--TEXT(MID(E37,7,8),"00000") -> 19960507 | G37: 女 | H37: 本人 | L37: 计划2 | M37: 20220414二十四时 | N37: 2类 | O37: 0001002 | P37: 20191120 | Q37: 17826838854 | S37: 是 | V37: 中国
A38: 13 | B38: 减少 | C38: 蔡祥祥 | D38: 身份证 | E38: 341203199505173717 | F38: =--TEXT(MID(E38,7,8),"00000") -> 19950517 | G38: 男 | H38: 本人 | L38: 计划2 | M38: 20220414二十四时 | N38: 2类 | O38: 0001002 | P38: 20170701 | Q38: 17764541205 | S38: 是 | V38: 中国
A39: 14 | B39: 减少 | C39: 林鹏 | D39: 身份证 | E39: 33010219900820301X | F39: =--TEXT(MID(E39,7,8),"00000") -> 19900820 | G39: 男 | H39: 本人 | L39: 计划2 | M39: 20220414二十四时 | N39: 2类 | O39: 0001002 | P39: 20170315 | Q39: 15158018616 | S39: 是 | V39: 中国
A40: 15 | B40: 减少 | C40: 徐帆 | D40: 身份证 | E40: 420704199108100015 | F40: =--TEXT(MID(E40,7,8),"00000") -> 19910810 | G40: 男 | H40: 本人 | L40: 计划2 | M40: 20220414二十四时 | N40: 2类 | O40: 0001002 | P40: 20220228 | Q40: 13986413911 | S40: 是 | V40: 中国
A41: 16 | B41: 减少 | C41: 张航 | D41: 身份证 | E41: 441426199209283435 | F41: 19920928 | G41: 男 | H41: 本人 | L41: 计划2 | M41: 20220418二十四时 | N41: 2类 | O41: 0001002 | P41: 20200706 | Q41: 13922124146 | S41: 是 | V41: 中国
...

Sheet 0420减2
A1: 投保单位：杭州诺辉健康科技有限公司 | G1: 保单号：HA1100001510003029
A2: 表格中打*号是必填项
A3: 序号 | B3: 加减保标志* | C3: 姓名* | D3: 证件类型* | E3: 证件号码* | F3: 出生日期* | G3: 性别* | H3: 与主被保人关系 | I3: 主被保人证件姓名 | J3: 主被保人证件类型 | K3: 主被保人证件号码 | L3: 保险计划* | M3: 生效日期* | N3: 职业类别 | O3: 职业(职业代码)* | P3: 入职日期 | Q3: 手机号 | R3: 邮箱 | S3: 是否有医保* | T3: 医保所在地 | U3: 工作所在地 | V3: 国籍 | W3: 分公司 | X3: 部门 | Y3: 职业 | Z3: 月薪 | AA3: 理赔账户银行全称 | AB3: 户名 | AC3: 帐号 | AD3: 员工号 | AE3: 备注
A4: 1 | B4: 减少 | C4: 邓政伟 | D4: 身份证 | E4: 500223200009292071 | F4: =--TEXT(MID(E4,7,8),"00000") -> 20000929 | G4: 男 | H4: 本人 | L4: 计划2 | M4: 20220420二十四时 | N4: 2类 | O4: 0001002 | P4: 20211222 | S4: 是 | V4: 中国
A5: 2 | B5: 减少 | C5: 于海洋 | D5: 身份证 | E5: 230231199706120610 | F5: =--TEXT(MID(E5,7,8),"00000") -> 19970612 | G5: 男 | H5: 本人 | L5: 计划2 | M5: 20220420二十四时 | N5: 2类 | O5: 0001002 | P5: 20211124 | S5: 是 | V5: 中国

Sheet 0418减6
A1: 投保单位：杭州诺辉健康科技有限公司 | G1: 保单号：HA1100001510003029
A2: 表格中打*号是必填项
A3: 序号 | B3: 加减保标志* | C3: 姓名* | D3: 证件类型* | E3: 证件号码* | F3: 出生日期* | G3: 性别* | H3: 与主被保人关系 | I3: 主被保人证件姓名 | J3: 主被保人证件类型 | K3: 主被保人证件号码 | L3: 保险计划* | M3: 生效日期* | N3: 职业类别 | O3: 职业(职业代码)* | P3: 入职日期 | Q3: 手机号 | R3: 邮箱 | S3: 是否有医保* | T3: 医保所在地 | U3: 工作所在地 | V3: 国籍 | W3: 分公司 | X3: 部门 | Y3: 职业 | Z3: 月薪 | AA3: 理赔账户银行全称 | AB3: 户名 | AC3: 帐号 | AD3: 员工号 | AE3: 备注
A4: 1 | B4: 减少 | C4: 张航 | D4: 身份证 | E4: 441426199209283435 | F4: =--TEXT(MID(E4,7,8),"00000") -> 19920928 | G4: 男 | H4: 本人 | L4: 计划2 | M4: 20220418二十四时 | N4: 2类 | O4: 0001002 | P4: 20200706 | S4: 是 | V4: 中国
A5: 2 | B5: 减少 | C5: 袁汉祥 | D5: 身份证 | E5: 622626198301242717 | F5: =--TEXT(MID(E5,7,8),"00000") -> 19830124 | G5: 男 | H5: 本人 | L5: 计划2 | M5: 20220418二十四时 | N5: 2类 | O5: 0001002 | P5: 20210602 | S5: 是 | V5: 中国
A6: 3 | B6: 减少 | C6: 李佳 | D6: 身份证 | E6: 330122199612262521 | F6: =--TEXT(MID(E6,7,8),"00000") -> 19961226 | G6: 女 | H6: 本人 | L6: 计划2 | M6: 20220418二十四时 | N6: 2类 | O6: 0001002 | P6: 20190701 | S6: 是 | V6: 中国
A7: 4 | B7: 减少 | C7: 袁杰 | D7: 身份证 | E7: 430602199201118619 | F7: =--TEXT(MID(E7,7,8),"00000") -> 19920111 | G7: 男 | H7: 本人 | L7: 计划2 | M7: 20220418二十四时 | N7: 2类 | O7: 0001002 | P7: 20210602 | S7: 是 | V7: 中国
A8: 5 | B8: 减少 | C8: 韩肖河 | D8: 身份证 | E8: 230227200105212713 | F8: =--TEXT(MID(E8,7,8),"00000") -> 20010521 | G8: 男 | H8: 本人 | L8: 计划2 | M8: 20220418二十四时 | N8: 2类 | O8: 0001002 | P8: 20210607 | S8: 是 | V8: 中国
A9: 6 | B9: 减少 | C9: 陈露 | D9: 身份证 | E9: 321084199903310426 | F9: =--TEXT(MID(E9,7,8),"00000") -> 19990331 | G9: 女 | H9: 本人 | L9: 计划2 | M9: 20220418二十四时 | N9: 2类 | O9: 0001002 | P9: 20220105 | S9: 是 | V9: 中国

Sheet 0411增10减6
A1: 投保单位：杭州诺辉健康科技有限公司 | G1: 保单号：HA1100001510003029
A2: 表格中打*号是必填项
A3: 序号 | B3: 加减保标志* | C3: 姓名* | D3: 证件类型* | E3: 证件号码* | F3: 出生日期* | G3: 性别* | H3: 与主被保人关系 | I3: 主被保人证件姓名 | J3: 主被保人证件类型 | K3: 主被保人证件号码 | L3: 保险计划* | M3: 生效日期* | N3: 职业类别 | O3: 职业(职业代码)* | P3: 入职日期 | Q3: 手机号 | R3: 邮箱 | S3: 是否有医保* | T3: 医保所在地 | U3: 工作所在地 | V3: 国籍 | W3: 分公司 | X3: 部门 | Y3: 职业 | Z3: 月薪 | AA3: 理赔账户银行全称 | AB3: 户名 | AC3: 帐号 | AD3: 员工号 | AE3: 备注
A4: 1 | B4: 增加 | C4: 陶俊波 | D4: 身份证 | E4: 360121199503243531 | F4: =--TEXT(MID(E4,7,8),"00000") -> 19950324 | G4: 男 | H4: 本人 | L4: 计划1 | M4: 20220411零时 | N4: 2类 | O4: 0001002 | P4: 20220411 | Q4: 13767064094 | S4: 是 | V4: 中国
A5: 2 | B5: 增加 | C5: 李亚旗 | D5: 身份证 | E5: 411481199201010415 | F5: =--TEXT(MID(E5,7,8),"00000") -> 19920101 | G5: 男 | H5: 本人 | L5: 计划1 | M5: 20220411零时 | N5: 2类 | O5: 0001002 | P5: 20220411 | Q5: 18817201674 | S5: 是 | V5: 中国
A6: 3 | B6: 增加 | C6: 王孝富 | D6: 身份证 | E6: 230227198406251118 | F6: =--TEXT(MID(E6,7,8),"00000") -> 19840625 | G6: 男 | H6: 本人 | L6: 计划1 | M6: 20220411零时 | N6: 2类 | O6: 0001002 | P6: 20220411 | Q6: 13644569801 | S6: 是 | V6: 中国
A7: 4 | B7: 增加 | C7: 柳欢 | D7: 身份证 | E7: 421125198902161726 | F7: =--TEXT(MID(E7,7,8),"00000") -> 19890216 | G7: 女 | H7: 本人 | L7: 计划1 | M7: 20220411零时 | N7: 2类 | O7: 0001002 | P7: 20220411 | Q7: 15817466508 | S7: 是 | V7: 中国
A8: 5 | B8: 增加 | C8: 马冰倩 | D8: 身份证 | E8: 330724200101145420 | F8: =--TEXT(MID(E8,7,8),"00000") -> 20010114 | G8: 女 | H8: 本人 | L8: 计划1 | M8: 20220411零时 | N8: 2类 | O8: 0001002 | P8: 20220411 | Q8: 15858968433 | S8: 是 | V8: 中国
A9: 6 | B9: 增加 | C9: 海金宝 | D9: 身份证 | E9: 410928199908104217 | F9: =--TEXT(MID(E9,7,8),"00000") -> 19990810 | G9: 男 | H9: 本人 | L9: 计划1 | M9: 20220411零时 | N9: 2类 | O9: 0001002 | P9: 20220411 | Q9: 18236037060 | S9: 是 | V9: 中国
A10: 7 | B10: 增加 | C10: 张冲 | D10: 身份证 | E10: 411503199005281759 | F10: =--TEXT(MID(E10,7,8),"00000") -> 19900528 | G10: 男 | H10: 本人 | L10: 计划1 | M10: 20220411零时 | N10: 2类 | O10: 0001002 | P10: 20220411 | Q10: 19110444452 | S10: 是 | V10: 中国
A11: 8 | B11: 增加 | C11: 李亚良 | D11: 身份证 | E11: 411327199206290010 | F11: =--TEXT(MID(E11,7,8),"00000") -> 19920629 | G11: 男 | H11: 本人 | L11: 计划1 | M11: 20220411零时 | N11: 2类 | O11: 0001002 | P11: 20220411 | Q11: 13323699263 | S11: 是 | V11: 中国
A12: 9 | B12: 增加 | C12: 肖金强 | D12: 身份证 | E12: 530181198903143939 | F12: =--TEXT(MID(E12,7,8),"00000") -> 19890314 | G12: 男 | H12: 本人 | L12: 计划1 | M12: 20220411零时 | N12: 2类 | O12: 0001002 | P12: 20220411 | Q12: 15808718487 | S12: 是 | V12: 中国
A13: 10 | B13: 增加 | C13: 郝锦涛 | D13: 身份证 | E13: 370284199806110456 | F13: =--TEXT(MID(E13,7,8),"00000") -> 19980611 | G13: 男 | H13: 本人 | L13: 计划1 | M13: 20220411零时 | N13: 2类 | O13: 0001002 | P13: 20220411 | Q13: 13295425675 | S13: 是 | V13: 中国
A14: 11 | B14: 减少 | C14: 陈芷滢 | D14: 身份证 | E14: 420503199912115544 | F14: =--TEXT(MID(E14,7,8),"00000") -> 19991211 | G14: 女 | H14: 本人 | L14: 计划2 | M14: 20220411二十四时 | N14: 2类 | O14: 0001002 | P14: 20220330 | Q14: 18163511885 | S14: 是 | V14: 中国
A15: 12 | B15: 减少 | C15: 耿世哲 | D15: 身份证 | E15: 131128200009196619 | F15: =--TEXT(MID(E15,7,8),"00000") -> 20000919 | G15: 男 | H15: 本人 | L15: 计划2 | M15: 20220411二十四时 | N15: 2类 | O15: 0001002 | P15: 20211220 | Q15: 17039815666 | S15: 是 | V15: 中国
A16: 13 | B16: 减少 | C16: 白旭 | D16: 身份证 | E16: 130481198410080046 | F16: =--TEXT(MID(E16,7,8),"00000") -> 19841008 | G16: 男 | H16: 本人 | L16: 计划2 | M16: 20220411二十四时 | N16: 2类 | O16: 0001002 | P16: 20220307 | Q16: 13616528058 | S16: 是 | V16: 中国
A17: 14 | B17: 减少 | C17: 李栋 | D17: 身份证 | E17: 440883199707103538 | F17: =--TEXT(MID(E17,7,8),"00000") -> 19970710 | G17: 男 | H17: 本人 | L17: 计划2 | M17: 20220411二十四时 | N17: 2类 | O17: 0001002 | P17: 20220105 | Q17: 15692959674 | S17: 是 | V17: 中国
A18: 15 | B18: 减少 | C18: 谭萌 | D18: 身份证 | E18: 500101200111259469 | F18: =--TEXT(MID(E18,7,8),"00000") -> 20011125 | G18: 女 | H18: 本人 | L18: 计划2 | M18: 20220411二十四时 | N18: 2类 | O18: 0001002 | P18: 20211018 | Q18: 15696648517 | S18: 是 | V18: 中国
A19: 16 | B19: 减少 | C19: 吴恒源 | D19: 身份证 | E19: 350502199710262015 | F19: =--TEXT(MID(E19,7,8),"00000") -> 19971026 | G19: 男 | H19: 本人 | L19: 计划2 | M19: 20220411二十四时 | N19: 2类 | O19: 0001002 | P19: 20211101 | Q19: 15258373348 | S19: 是 | V19: 中国

Sheet 0406增10
A1: 投保单位：杭州诺辉健康科技有限公司 | G1: 保单号：HA1100001510003029
A2: 表格中打*号是必填项
A3: 序号 | B3: 加减保标志* | C3: 姓名* | D3: 证件类型* | E3: 证件号码* | F3: 出生日期* | G3: 性别* | H3: 与主被保人关系 | I3: 主被保人证件姓名 | J3: 主被保人证件类型 | K3: 主被保人证件号码 | L3: 保险计划* | M3: 生效日期* | N3: 职业类别 | O3: 职业(职业代码)* | P3: 入职日期 | Q3: 手机号 | R3: 邮箱 | S3: 是否有医保* | T3: 医保所在地 | U3: 工作所在地 | V3: 国籍 | W3: 分公司 | X3: 部门 | Y3: 职业 | Z3: 月薪 | AA3: 理赔账户银行全称 | AB3: 户名 | AC3: 帐号 | AD3: 员工号 | AE3: 备注
A4: 1 | B4: 增加 | C4: 郭欣 | D4: 身份证 | E4: 340621199808254024 | F4: =--TEXT(MID(E4,7,8),"00000") -> 19980825 | G4: 女 | H4: 本人 | L4: 计划1 | M4: 20220406零时 | N4: 2类 | O4: 0001002 | P4: 20220406 | Q4: 19857182942 | S4: 是 | V4: 中国
A5: 2 | B5: 增加 | C5: 张梦鸽 | D5: 身份证 | E5: 330683199504250021 | F5: =--TEXT(MID(E5,7,8),"00000") -> 19950425 | G5: 女 | H5: 本人 | L5: 计划1 | M5: 20220406零时 | N5: 2类 | O5: 0001002 | P5: 20220406 | Q5: 18758567923 | S5: 是 | V5: 中国
A6: 3 | B6: 增加 | C6: 苏颖昕 | D6: 身份证 | E6: 440181199911270922 | F6: =--TEXT(MID(E6,7,8),"00000") -> 19991127 | G6: 女 | H6: 本人 | L6: 计划1 | M6: 20220406零时 | N6: 2类 | O6: 0001002 | P6: 20220406 | Q6: 19898028027 | S6: 是 | V6: 中国
A7: 4 | B7: 增加 | C7: 高楹 | D7: 身份证 | E7: 330602199612252528 | F7: =--TEXT(MID(E7,7,8),"00000") -> 19961225 | G7: 女 | H7: 本人 | L7: 计划1 | M7: 20220406零时 | N7: 2类 | O7: 0001002 | P7: 20220406 | Q7: 13600631669 | S7: 是 | V7: 中国
A8: 5 | B8: 增加 | C8: 李晓琪 | D8: 身份证 | E8: 64222219960126162X | F8: =--TEXT(MID(E8,7,8),"00000") -> 19960126 | G8: 女 | H8: 本人 | L8: 计划1 | M8: 20220406零时 | N8: 2类 | O8: 0001002 | P8: 20220406 | Q8: 18811739308 | S8: 是 | V8: 中国
A9: 6 | B9: 增加 | C9: 龚世灿 | D9: 身份证 | E9: 321281199209188418 | F9: =--TEXT(MID(E9,7,8),"00000") -> 19920918 | G9: 男 | H9: 本人 | L9: 计划1 | M9: 20220406零时 | N9: 2类 | O9: 0001002 | P9: 20220406 | Q9: 13774255727 | S9: 是 | V9: 中国
A10: 7 | B10: 增加 | C10: 熊成状 | D10: 身份证 | E10: 420114199712305113 | F10: =--TEXT(MID(E10,7,8),"00000") -> 19971230 | G10: 男 | H10: 本人 | L10: 计划1 | M10: 20220406零时 | N10: 2类 | O10: 0001002 | P10: 20220406 | Q10: 18071036018 | S10: 是 | V10: 中国
A11: 8 | B11: 增加 | C11: 陈诗曼 | D11: 身份证 | E11: 511303199908115420 | F11: =--TEXT(MID(E11,7,8),"00000") -> 19990811 | G11: 女 | H11: 本人 | L11: 计划1 | M11: 20220406零时 | N11: 2类 | O11: 0001002 | P11: 20220406 | Q11: 19182114146 | S11: 是 | V11: 中国
A12: 9 | B12: 增加 | C12: 陈国栋 | D12: 身份证 | E12: 370702198909204234 | F12: =--TEXT(MID(E12,7,8),"00000") -> 19890920 | G12: 男 | H12: 本人 | L12: 计划1 | M12: 20220406零时 | N12: 2类 | O12: 0001002 | P12: 20220406 | Q12: 15854897766 | S12: 是 | V12: 中国
A13: 10 | B13: 增加 | C13: 姚家俊 | D13: 身份证 | E13: 420625199701190054 | F13: =--TEXT(MID(E13,7,8),"00000") -> 19970119 | G13: 男 | H13: 本人 | L13: 计划1 | M13: 20220406零时 | N13: 2类 | O13: 0001002 | P13: 20220406 | Q13: 18671472520 | S13: 是 | V13: 中国

Sheet 0402增12
A1: 投保单位：杭州诺辉健康科技有限公司 | G1: 保单号：HA1100001510003029
A2: 表格中打*号是必填项
A3: 序号 | B3: 加减保标志* | C3: 姓名* | D3: 证件类型* | E3: 证件号码* | F3: 出生日期* | G3: 性别* | H3: 与主被保人关系 | I3: 主被保人证件姓名 | J3: 主被保人证件类型 | K3: 主被保人证件号码 | L3: 保险计划* | M3: 生效日期* | N3: 职业类别 | O3: 职业(职业代码)* | P3: 入职日期 | Q3: 手机号 | R3: 邮箱 | S3: 是否有医保* | T3: 医保所在地 | U3: 工作所在地 | V3: 国籍 | W3: 分公司 | X3: 部门 | Y3: 职业 | Z3: 月薪 | AA3: 理赔账户银行全称 | AB3: 户名 | AC3: 帐号 | AD3: 员工号 | AE3: 备注
A4: 1 | B4: 增加 | C4: 郭欣 | D4: 身份证 | E4: 340621199808254024 | F4: =--TEXT(MID(E4,7,8),"00000") -> 19980825 | G4: 女 | H4: 本人 | L4: 计划1 | M4: 20220402零时 | N4: 2类 | O4: 0001002 | P4: 20220406 | Q4: 19857182942 | S4: 是 | V4: 中国
A5: 4 | B5: 增加 | C5: 张梦鸽 | D5: 身份证 | E5: 330683199504250021 | F5: =--TEXT(MID(E5,7,8),"00000") -> 19950425 | G5: 女 | H5: 本人 | L5: 计划1 | M5: 20220402零时 | N5: 2类 | O5: 0001002 | P5: 20220406 | Q5: 18758567923 | S5: 是 | V5: 中国
A6: 5 | B6: 增加 | C6: 苏颖昕 | D6: 身份证 | E6: 440181199911270922 | F6: =--TEXT(MID(E6,7,8),"00000") -> 19991127 | G6: 女 | H6: 本人 | L6: 计划1 | M6: 20220402零时 | N6: 2类 | O6: 0001002 | P6: 20220406 | Q6: 19898028027 | S6: 是 | V6: 中国
A7: 6 | B7: 增加 | C7: 高楹 | D7: 身份证 | E7: 330602199612252528 | F7: =--TEXT(MID(E7,7,8),"00000") -> 19961225 | G7: 女 | H7: 本人 | L7: 计划1 | M7: 20220402零时 | N7: 2类 | O7: 0001002 | P7: 20220406 | Q7: 13600631669 | S7: 是 | V7: 中国
A8: 7 | B8: 增加 | C8: 李晓琪 | D8: 身份证 | E8: 64222219960126162X | F8: =--TEXT(MID(E8,7,8),"00000") -> 19960126 | G8: 女 | H8: 本人 | L8: 计划1 | M8: 20220402零时 | N8: 2类 | O8: 0001002 | P8: 20220406 | Q8: 18811739308 | S8: 是 | V8: 中国
A9: 8 | B9: 增加 | C9: 龚世灿 | D9: 身份证 | E9: 321281199209188418 | F9: =--TEXT(MID(E9,7,8),"00000") -> 19920918 | G9: 男 | H9: 本人 | L9: 计划1 | M9: 20220402零时 | N9: 2类 | O9: 0001002 | P9: 20220406 | Q9: 13774255727 | S9: 是 | V9: 中国
A10: 9 | B10: 增加 | C10: 熊成状 | D10: 身份证 | E10: 420114199712305113 | F10: =--TEXT(MID(E10,7,8),"00000") -> 19971230 | G10: 男 | H10: 本人 | L10: 计划1 | M10: 20220402零时 | N10: 2类 | O10: 0001002 | P10: 20220406 | Q10: 18071036018 | S10: 是 | V10: 中国
A11: 10 | B11: 增加 | C11: 陈诗曼 | D11: 身份证 | E11: 511303199908115420 | F11: =--TEXT(MID(E11,7,8),"00000") -> 19990811 | G11: 女 | H11: 本人 | L11: 计划1 | M11: 20220402零时 | N11: 2类 | O11: 0001002 | P11: 20220406 | Q11: 19182114146 | S11: 是 | V11: 中国
A12: 11 | B12: 增加 | C12: 陈国栋 | D12: 身份证 | E12: 370702198909204234 | F12: =--TEXT(MID(E12,7,8),"00000") -> 19890920 | G12: 男 | H12: 本人 | L12: 计划1 | M12: 20220402零时 | N12: 2类 | O12: 0001002 | P12: 20220406 | Q12: 15854897766 | S12: 是 | V12: 中国
A13: 12 | B13: 增加 | C13: 姚家俊 | D13: 身份证 | E13: 420625199701190054 | F13: =--TEXT(MID(E13,7,8),"00000") -> 19970119 | G13: 男 | H13: 本人 | L13: 计划1 | M13: 20220402零时 | N13: 2类 | O13: 0001002 | P13: 20220406 | Q13: 18671472520 | S13: 是 | V13: 中国
A14: 13
A15: 14
A16: 15
A17: 16
A18: 17
A19: 18
A20: 19
A21: 20
