Workbook

Sheet 样本采集管理
A1: 序号 | B1: 年 | C1: 月 | D1: 日 | E1: 实验室 流转编码 | F1: 母亲姓名 | G1: 协议编号 | H1: 样本类型 | I1: 是否同存 | J1: 采集地区 | K1: 涡阳县人民医院 | L1: 采集时间 | M1: 缴费方式 | N1: 首期 缴费时间 | O1: 市场专员 | P1: 地区经理 | Q1: 运输方式 | R1: 运费
B2: 2025 | C2: 9 | D2: 7 | E2: B0000001 | F2: 王晴晴 | H2: 围产期造血干细胞 | I2: 否 | J2: 亳州区域 | K2: 涡阳县人民医院 | L2: 2025年9月7日13时45分 | M2: 分期 | N2: 45907.601 | O2: 马丽 | P2: 张颖 | Q2: 快递 | R2: 25
A3: 1 | B3: 2025 | C3: 9 | D3: 7 | E3: B0000002 | F3: 高居巧 | G3: ZKZX34000852 | H3: 围产期造血干细胞 | I3: 否 | J3: 亳州区域 | K3: 涡阳县人民医院 | L3: 2025年9月7日15时37分 | M3: 趸交 | N3: 2025年9月8日18:49:28付5480元， 18:52:25付16400元， 9月7日09:22:15付1000元 | O3: 杨莉莉 | P3: 张颖 | Q3: 快递 | S3: 母血17元
A4: 2 | B4: 2025 | C4: 9 | D4: 8 | E4: B0000003 | F4: 徐嫣然 | G4: ZKZX34000850 | H4: 围产期造血干细胞 | I4: 否 | J4: 亳州区域 | K4: 涡阳县人民医院 | L4: 2025年9月8日15时42分 | M4: 分改趸 | N4: 2025年9月9日19:28:30付2000元， 9月15日18:27:36付4480元； 2025年11月20日10时23分53秒 | O4: 马丽 | P4: 张颖 | Q4: 快递 | R4: 25 | U4: 存续
A5: 3 | B5: 2025 | C5: 9 | D5: 15 | E5: B0000004 | F5: 郭梦朵 | G5: ZKZX34000849 | H5: 围产期造血干细胞 | I5: 否 | J5: 亳州区域 | K5: 涡阳县人民医院 | L5: 2025年9月15日08时51分 | M5: 趸交 | N5: 2025年9月15日11时13分01秒付6480元， 9月17日08时44分57秒付16400元 | O5: 马丽 | P5: 张颖 | Q5: 专线车 | R5: 100
B6: 2025 | C6: 9 | D6: 18 | E6: B0000005 | F6: 魏星月 | G6: ZKZX34000859 | H6: 围产期造血干细胞 | I6: 否 | J6: 亳州区域 | K6: 涡阳县人民医院 | L6: 2025年9月18日16时10分 | M6: 定金 | N6: 2025年9月18日14时55分04秒 | O6: 杨莉莉 | P6: 张颖 | Q6: 快递 | R6: 24
A7: 4 | B7: 2025 | C7: 9 | D7: 21 | E7: B0000006 | F7: 相晓燕 | G7: ZKZX34000858 | H7: 围产期造血干细胞 | I7: 否 | J7: 亳州区域 | K7: 涡阳县人民医院 | L7: 2025年9月21日16时21分 | M7: 趸交 | N7: 2025年9月21日11时50分04秒 | O7: 杨莉莉 | P7: 张颖 | Q7: 快递 | R7: 24 | S7: 母血13元
B8: 2025 | C8: 9 | E8: B0000007 | F8: 邵悦 | G8: ZKZX34000839 | H8: 围产期造血干细胞 | I8: 否 | J8: 亳州区域 | K8: 涡阳县中医院 | L8: 2025年9月27日12时56分 | M8: 分期 | N8: 2025年9月27日 17时01分 2025年9月27日 17时08分 | O8: 张慧茹 | P8: 张颖 | Q8: 专线车 | R8: 100
A9: 1 | B9: 2025 | C9: 10 | D9: 10 | E9: B0000008 | F9: 尹璐 | G9: ZKZX34000854 | H9: 围产期造血干细胞 | I9: 否 | J9: 亳州区域 | K9: 涡阳县人民医院 | L9: 2025年10月10日18时30分 | M9: 趸交 | N9: 2025年10月10日18时07分16分 | O9: 马丽 | P9: 张颖 | Q9: 专线车 | R9: 100
A10: 2 | B10: 2025 | C10: 10 | D10: 12 | E10: B0000009 | F10: 周盼盼 | G10: ZKZX34000830 | H10: 围产期造血干细胞 | I10: 否 | J10: 亳州区域 | K10: 亳州市人民医院 | L10: 2025年10月12日11时13分 | M10: 趸交 | N10: 2025年10月12日10点14分16秒 | O10: 孙恒利 | P10: 张颖 | Q10: 快递 | R10: 月结
A11: 3 | B11: 2025 | C11: 10 | D11: 12 | E11: B0000010 | F11: 董丽娟 | G11: ZKZX34000838 | H11: 围产期造血干细胞 | I11: 否 | J11: 亳州区域 | K11: 利辛县人民医院 | L11: 2025年10月12日18时08分 | M11: 分期 | N11: 2025年10月12日15时30分16秒 | O11: 赵文静 | P11: 张颖 | Q11: 专线车 | R11: 60
A12: 4 | B12: 2025 | C12: 10 | D12: 15 | E12: B0000011 | F12: 郑慧敏 | G12: ZKZX34000840 | H12: 围产期造血干细胞 | I12: 否 | J12: 亳州区域 | K12: 涡阳县中医院 | L12: 2025年10月15日10时09分 | M12: 分期 | N12: 2025年10月12日08时39分 | O12: 张慧茹 | P12: 张颖 | Q12: 专线车 | R12: 100
B13: 2025 | C13: 10 | D13: 16 | E13: B0000012 | F13: 马晓艳 | G13: ZKZX34000848 | H13: 围产期造血干细胞 | I13: 否 | J13: 亳州区域 | K13: 涡阳县人民医院 | L13: 2025年10月16日16时41分 | M13: 定金 | N13: 2025年10月16日16时50分04秒 | O13: 杨莉莉 | P13: 张颖 | Q13: 快递 | R13: 月结
A14: 5 | B14: 2025 | C14: 10 | D14: 20 | E14: B0000013 | F14: 桂仪 | G14: ZKZX34000855 | H14: 围产期造血干细胞 | I14: 否 | J14: 亳州区域 | K14: 涡阳县人民医院 | L14: 2025年10月20日16时06分 | M14: 分改趸 | N14: 2025年10月20日15时02分44秒； 10月24日16:20:46付4860 12月9日16:19:56付16020元 | O14: 杨莉莉 | P14: 张颖 | Q14: 快递 | R14: 月结
A15: 6 | B15: 2025 | C15: 10 | D15: 29 | E15: B0000014 | F15: 马子怡 | G15: ZKZX34000846 | H15: 围产期造血干细胞 | I15: 否 | J15: 亳州区域 | K15: 涡阳县人民医院 | L15: 2025年10月29日10时47分 | M15: 趸交 | N15: 2025年10月29日10时44分25秒 | O15: 马丽 | P15: 张颖 | Q15: 快递 | R15: 月结
A16: 1 | B16: 2025 | C16: 11 | D16: 1 | E16: B0000015 | F16: 李美芳 | G16: ZKZX34000868 | H16: 围产期造血干细胞 | I16: 否 | J16: 亳州区域 | K16: 利辛县人民医院 | L16: 2025年11月1日10时17分 | M16: 分期 | N16: 2025年10月31日16时03分07秒1000， 11月1日11时04分48秒5480 | O16: 赵文静 | P16: 张颖 | Q16: 专线车 | R16: 60
A17: 2 | B17: 2025 | C17: 11 | D17: 1 | E17: B0000016 | F17: 邓诗婷 | G17: ZKZX34000842 | H17: 围产期造血干细胞 | I17: 否 | J17: 亳州区域 | K17: 涡阳县中医院 | L17: 2025年11月1日11时56分 | M17: 趸交 | N17: 2025年11月1日11时29分 | O17: 张慧茹 | P17: 张颖 | Q17: 快递 | R17: 月结
B18: 2025 | C18: 11 | D18: 11 | E18: B0000017 | F18: 杨薇薇 | G18: ZKZX34000841 | H18: 围产期造血干细胞 | I18: 否 | J18: 亳州区域 | K18: 涡阳县中医院 | L18: 2025年11月11日17时50分 | M18: 趸交 | N18: 2025年11月11日18时58分 | O18: 张慧茹 | P18: 张颖 | Q18: 专线车 | R18: 100
A19: 3 | B19: 2025 | C19: 11 | D19: 18 | E19: B0000018 | F19: 时斯宇 | G19: ZKZX34000871 | H19: 围产期造血干细胞 | I19: 否 | J19: 亳州区域 | K19: 涡阳县人民医院 | L19: 2025年11月18日16时10分 | M19: 分期 | N19: 2025年11月18日16时43分03秒 | O19: 杨莉莉 | P19: 张颖 | Q19: 快递 | R19: 月结
A20: 4 | B20: 2025 | C20: 11 | D20: 19 | E20: B0000019 | F20: 席三改 | G20: ZKZX34000856 | H20: 围产期造血干细胞 | I20: 否 | J20: 亳州区域 | K20: 涡阳县人民医院 | L20: 2025年11月19日08时53分 | M20: 分期 | N20: 2025年11月19日10时44分25秒 | O20: 马丽 | P20: 张颖 | Q20: 专线车 | R20: 100
A21: 5 | B21: 2025 | C21: 11 | D21: 25 | E21: BC0000003 | F21: 牛晨晨 | G21: ZKQD34000831 | H21: 脐带间充质干细胞 | I21: 否 | J21: 亳州区域 | K21: 涡阳县中医院 | L21: 2025年11月25日15时49分 | M21: 趸交 | N21: 2025年11月17日 12:05 2025年11月21日18:48 | O21: 张慧茹 | P21: 张颖 | Q21: 快递 | R21: 月结
A22: 1 | B22: 2025 | C22: 12 | D22: 2 | E22: B0000020 | F22: 张连英 | G22: ZKZX34000875 | H22: 围产期造血干细胞 | I22: 否 | J22: 亳州区域 | K22: 涡阳县人民医院 | L22: 2025年12月2日14时03分 | M22: 分期 | N22: 2025年12月2日11时10分26秒 | O22: 杨莉莉 | P22: 张颖 | Q22: 快递 | R22: 月结
A23: 2 | B23: 2025 | C23: 12 | D23: 2 | E23: B0000021 | F23: 左燕丽 | G23: ZKZX34000860 | H23: 围产期造血干细胞 | I23: 否 | J23: 亳州区域 | K23: 涡阳县人民医院 | L23: 2025年12月2日14时30分 | M23: 分期 | N23: 2025年12月2日15时06分33秒 | O23: 马丽 | P23: 张颖
B24: 2025 | C24: 12 | D24: 4 | E24: B0000022 | F24: 毛静静 | G24: ZKZX34000896 | H24: 围产期造血干细胞 | I24: 是 | J24: 合肥区域 | K24: 安徽医科大学第一附属医院高新院区 | L24: 2025年12月4日17时51分 | Q24: 开车
B25: 2025 | C25: 12 | D25: 4 | E25: BC0000004 | F25: 毛静静 | G25: ZKQD34000839 | H25: 脐带间充质干细胞 | I25: 是 | J25: 合肥区域 | K25: 安徽医科大学第一附属医院高新院区 | L25: 2025年12月4日17时52分 | Q25: 开车
A26: 3 | B26: 2025 | C26: 12 | D26: 7 | E26: B0000023 | F26: 龚杰敏 | G26: ZKZX34000874 | H26: 围产期造血干细胞 | I26: 否 | J26: 亳州区域 | K26: 涡阳县人民医院 | L26: 2025年12月7日09时47分 | M26: 分期 | N26: 2025年12月7日10时03分34秒 | O26: 杨莉莉 | P26: 张颖 | Q26: 快递 | R26: 月结
A27: 4 | B27: 2025 | C27: 12 | D27: 7 | E27: B0000024 | F27: 刘亚梅 | G27: ZKZX34000872 | H27: 围产期造血干细胞 | I27: 否 | J27: 亳州区域 | K27: 涡阳县人民医院 | L27: 2025年12月7日11时00分 | M27: 趸交 | N27: 2025年12月7日11时08分57秒 | O27: 马丽 | P27: 张颖
A28: 5 | B28: 2025 | C28: 12 | D28: 8 | E28: B0000025 | F28: 付慧茹 | G28: ZKZX34000851 | H28: 围产期造血干细胞 | I28: 否 | J28: 亳州区域 | K28: 涡阳县人民医院 | L28: 2025年12月8日08时52分 | M28: 趸交 | N28: 2025年12月8日09时58分37秒 | O28: 杨莉莉 | P28: 张颖 | Q28: 滴滴顺风车 | R28: 119
A29: 6 | B29: 2025 | C29: 12 | D29: 11 | E29: B0000026 | F29: 李辰 | G29: ZKZX34000882 | H29: 围产期造血干细胞 | I29: 否 | J29: 亳州区域 | K29: 涡阳县人民医院 | L29: 2025年12月11日09时17分 | M29: 趸交 | N29: 2025年12月11日10时49分52秒 | O29: 马丽 | P29: 张颖 | Q29: 专线车 | R29: 100
A30: 7 | B30: 2025 | C30: 12 | D30: 14 | E30: B0000027 | F30: 尹菱惜 | G30: ZKZX34000843 | H30: 围产期造血干细胞 | I30: 否 | J30: 亳州区域 | K30: 涡阳县中医院 | L30: 2025年12月14日20点38分 | M30: 趸交 | N30: 2025年12月13日18点45分 | O30: 张慧茹 | P30: 张颖 | Q30: 专线车 | R30: 100
A31: 8 | B31: 2025 | C31: 12 | D31: 15 | E31: B0000028 | F31: 邓真 | G31: ZKZX34000853 | H31: 围产期造血干细胞 | I31: 否 | J31: 亳州区域 | K31: 涡阳县人民医院 | L31: 2025年12月15日10时15分 | M31: 趸交 | N31: 2025年12月15日12:15:37付22800元，12:23付80元 | O31: 杨莉莉 | P31: 张颖 | Q31: 专线车 | R31: 100
A32: 9 | B32: 2025 | C32: 12 | D32: 15 | E32: B0000029 | F32: 张肖晴 | G32: ZKZX34000831 | H32: 围产期造血干细胞 | I32: 否 | J32: 亳州区域 | K32: 亳州市中医院 | L32: 2025年12月15日15时24分 | M32: 分期 | N32: 2025年12月13日11:50:59付1000元，12月15日15:51:33付5480元 | O32: 孙恒利 | P32: 张颖 | Q32: 快递 | R32: 21
A33: 10 | B33: 2025 | C33: 12 | D33: 16 | E33: B0000030 | F33: 马庆敏 | G33: ZKZX34000886 | H33: 围产期造血干细胞 | I33: 否 | J33: 亳州区域 | K33: 涡阳县人民医院 | L33: 2025年12月16日09时51分 | M33: 趸交 | N33: 2025年12月16日09时42分49秒 | O33: 马丽 | P33: 张颖 | Q33: 滴滴顺风车 | R33: 119
A34: 11 | B34: 2025 | C34: 12 | D34: 19 | E34: B0000031 | F34: 梁雨晴 | G34: ZKZX34000847 | H34: 围产期造血干细胞 | I34: 否 | J34: 亳州区域 | K34: 涡阳县人民医院 | L34: 2025年12月19日12时20分 | M34: 分期 | N34: 2025年12月19日12时32分15秒 | O34: 杨莉莉 | P34: 张颖 | Q34: 快递 | R34: 月结
B35: 2025 | C35: 12 | D35: 19 | F35: 张璐璐 | G35: ZKZX34000873 | H35: 围产期造血干细胞 | I35: 否 | J35: 亳州区域 | K35: 涡阳县人民医院 | L35: 2025年12月19日14时03分 | M35: 分期 | N35: 2025年12月19日14时19分32秒 | O35: 马丽 | P35: 张颖 | Q35: 快递 | R35: 月结
A36: 12 | B36: 2025 | C36: 12 | D36: 24 | E36: B0000032 | F36: 李文婷 | G36: ZKZX34000837 | H36: 围产期造血干细胞 | I36: 否 | J36: 亳州区域 | K36: 利辛县人民医院 | L36: 2025年12月24日16时42分 | M36: 趸交 | N36: 2025年12月24日08时54分40秒1000，12月24日17时02分21秒21880 | O36: 赵文静 | P36: 张颖 | Q36: 专线车 | R36: 60
A37: 13 | B37: 2025 | C37: 12 | D37: 25 | E37: B0000033 | F37: 姜平 | G37: ZKZX34000845 | H37: 围产期造血干细胞 | I37: 否 | J37: 亳州区域 | K37: 涡阳县人民医院 | L37: 2025年12月25日12时20分 | M37: 趸交 | N37: 2025年12月25日14时52分07秒 | O37: 马丽 | P37: 张颖 | Q37: 快递 | R37: 月结
A38: 1 | B38: 2026 | C38: 1 | D38: 3 | E38: B0000034 | F38: 年梦琪 | G38: ZKZX34000857 | H38: 围产期造血干细胞 | I38: 否 | J38: 亳州区域 | K38: 涡阳县人民医院 | L38: 2026年1月3日19时59分 | M38: 分期 | N38: 2026年1月3日11时51分52秒 | O38: 杨莉莉 | P38: 张颖 | Q38: 专线车 | R38: 100
A39: 2 | B39: 2026 | C39: 1 | D39: 12 | E39: B0000035 | F39: 陆前进之妻 | G39: ZKZX34000835 | H39: 围产期造血干细胞 | I39: 否 | J39: 亳州区域 | K39: 利辛县人民医院 | L39: 2026年1月9日15时02分 | M39: 分期 | N39: 2026年1月9日14时18分51秒2000，1月9日17时26分03秒4480 | O39: 赵文静 | P39: 张颖 | Q39: 快递 | R39: 月结
A40: 3 | B40: 2026 | C40: 1 | D40: 18 | E40: B0000036 | F40: 牛勤 | G40: ZKZX34000844 | H40: 围产期造血干细胞 | I40: 否 | J40: 亳州区域 | K40: 涡阳县人民医院 | L40: 2026年1月18日06时50分 | M40: 分期 | N40: 2026年1月17日20时54分41秒 | O40: 马丽 | P40: 张颖 | Q40: 专线车 | R40: 100
A41: 4 | B41: 2026 | C41: 1 | D41: 18 | E41: B0000037 | F41: 王璐璐 | G41: ZKZX34000885 | H41: 围产期造血干细胞 | I41: 否 | J41: 亳州区域 | K41: 涡阳县人民医院 | L41: 2026年1月18日09时06分 | M41: 分期 | N41: 2026年1月18日09时19分22秒 2026年1月23日08时16分12秒 | O41: 杨莉莉 | P41: 张颖
A42: 5 | B42: 2026 | C42: 1 | D42: 22 | E42: B0000038 | F42: 张红娟 | G42: ZKZX34000888 | H42: 围产期造血干细胞 | I42: 否 | J42: 亳州区域 | K42: 涡阳县人民医院 | L42: 2026年1月22日12时22分 | M42: 分期 | N42: 2026年1月22日11时11分11秒 | O42: 马丽 | P42: 张颖 | Q42: 快递 | R42: 月结
A43: 6 | B43: 2026 | C43: 1 | D43: 22 | E43: B0000039 | F43: 荆盼盼 | G43: ZKZX34000884 | H43: 围产期造血干细胞 | I43: 否 | J43: 亳州区域 | K43: 涡阳县人民医院 | L43: 2026年1月22日13时38分 | M43: 分期 | N43: 2026年1月22日11时45分25秒 | O43: 杨莉莉 | P43: 张颖
B44: 2026 | C44: 1 | D44: 22 | E44: B0000040 | F44: 李欣欣 | G44: ZKZX34000876 | H44: 围产期造血干细胞 | I44: 否 | J44: 亳州区域 | K44: 涡阳县中医院 | L44: 2026年1月22日 11点02分 | M44: 分期 | N44: 2026年1月22日 10点50分 | O44: 张慧茹 | P44: 张颖 | Q44: 快递 | R44: 月结
A45: 7 | B45: 2026 | C45: 1 | D45: 27 | E45: BC0000005 | F45: 郑藤藤 | G45: ZKQD34000838 | H45: 脐带间充质干细胞 | I45: 否 | J45: 亳州区域 | K45: 涡阳县人民医院 | L45: 2026年1月27日12时51分 | M45: 分期 | N45: 2026年1月27日13时21分37秒 | O45: 马丽 | P45: 张颖 | Q45: 快递 | R45: 月结
A46: 8 | B46: 2026 | C46: 1 | D46: 30 | E46: B0000041 | F46: 王莉莉 | G46: ZKZX34000903 | H46: 围产期造血干细胞 | I46: 否 | J46: 亳州区域 | K46: 涡阳县人民医院 | L46: 2026年1月30日09时11分 | M46: 趸交 | N46: 2026年1月30日08时40分59秒 | O46: 杨莉莉 | P46: 张颖 | Q46: 专线车 | R46: 100
B47: 2026 | C47: 1 | D47: 30 | F47: 程红 | H47: 围产期造血干细胞 | I47: 否 | J47: 亳州区域 | K47: 涡阳县人民医院 | L47: 2026年1月30日13时36分 | M47: 分期 | N47: 2026年1月30日13时48分46秒 | O47: 马丽 | P47: 张颖 | Q47: 快递 | R47: 月结
A48: 9 | B48: 2026 | C48: 1 | D48: 31 | E48: B0000042 | F48: 刘彩云 | G48: ZKZX34000833 | H48: 围产期造血干细胞 | I48: 是 | J48: 亳州区域 | K48: 亳州市人民医院 | L48: 2026年1月31日19时33分 | M48: 趸交 | N48: 2026年1月31日19时51分31秒 | O48: 孙恒利 | P48: 张颖 | Q48: 专线车 | R48: 128
A49: 10 | B49: 2026 | C49: 1 | D49: 31 | E49: BC0000006 | F49: 刘彩云 | G49: ZKQD34000829 | H49: 脐带间充质干细胞 | I49: 是 | J49: 亳州区域 | K49: 亳州市人民医院 | L49: 2026年1月31日19时34分 | M49: 趸交 | N49: 2026年1月31日19时51分31秒 | O49: 孙恒利 | P49: 张颖
A50: 1 | B50: 2026 | C50: 2 | D50: 13 | E50: B0000043 | F50: 殷倩 | G50: ZKZX34000889 | H50: 围产期造血干细胞 | I50: 否 | J50: 亳州区域 | K50: 涡阳县人民医院 | L50: 2026年2月13日08时12分 | M50: 趸交 | N50: 2026年2月13日10时17分16秒 | O50: 马丽 | P50: 张颖 | Q50: 专线车 | R50: 100
A51: 2 | B51: 2026 | C51: 2 | D51: 22 | E51: B0000044 | F51: 席娜 | G51: ZKZX34000881 | H51: 围产期造血干细胞 | I51: 否 | J51: 亳州区域 | K51: 涡阳县人民医院 | L51: 2026年2月22日10时13分 | M51: 趸交 | N51: 2026年2月22日10时27分47秒 | O51: 杨莉莉 | P51: 张颖 | Q51: 快递 | R51: 月结
A52: 3 | B52: 2026 | C52: 2 | D52: 27 | E52: B0000045 | F52: 马婷婷 | G52: ZKZX34000899 | H52: 围产期造血干细胞 | I52: 否 | J52: 亳州区域 | K52: 涡阳县人民医院 | L52: 2026年2月27日11时12分 | M52: 分期 | N52: 2026年2月27日12时05分00秒 | O52: 马丽 | P52: 张颖 | Q52: 快递 | R52: 月结
A53: 1 | B53: 2026 | C53: 3 | D53: 3 | E53: B0000046 | F53: 李洪玲 | G53: ZKZX34000901 | H53: 围产期造血干细胞 | I53: 否 | J53: 亳州区域 | K53: 涡阳县人民医院 | L53: 2026年3月3日14时01分 | M53: 分期 | N53: 2026年3月3日10时09分55秒,2000元 2026年3月3日14时17分40秒,4000元 | O53: 杨莉莉 | P53: 张颖 | Q53: 快递 | R53: 月结
A54: 2 | B54: 2026 | C54: 3 | D54: 4 | E54: B0000047 | F54: 孙佳宁 | G54: ZKZX34000898 | H54: 围产期造血干细胞 | I54: 否 | J54: 亳州区域 | K54: 涡阳县人民医院 | L54: 2026年3月4日 8时01分 | M54: 趸交 | O54: 马丽 | P54: 张颖 | Q54: 专线车 | R54: 100
B55: 2026 | C55: 3 | D55: 10 | E55: B0000048 | F55: 徐睿君 | G55: ZKZX34000897 | H55: 围产期造血干细胞 | I55: 否 | J55: 亳州区域 | K55: 涡阳县人民医院 | L55: 2026年3月10日12时01分 | M55: 分期 | N55: 2026年3月10日08时18分35秒 | O55: 杨莉莉 | P55: 张颖 | Q55: 快递 | R55: 月结
A56: 3 | B56: 2026 | C56: 3 | D56: 15 | E56: B0000049 | F56: 丁静娴 | G56: ZKZX34000915 | H56: 围产期造血干细胞 | I56: 否 | J56: 亳州区域 | K56: 亳州市人民医院 | L56: 2026年3月15日05时38分 | M56: 趸交 | N56: 2026年3月15日09点59分36秒 | O56: 孙恒利 | P56: 张颖 | Q56: 快递 | R56: 月结
A57: 4 | B57: 2026 | C57: 3 | D57: 20 | E57: B0000050 | F57: 申梦雨 | G57: ZKZX34000891 | H57: 围产期造血干细胞 | I57: 否 | J57: 亳州区域 | K57: 涡阳县人民医院 | L57: 2026年3月20日13时28分 | M57: 分改趸 | N57: 2026年3月20日08时17分32秒 2026年5月9日11时24分38秒 | O57: 马丽 | P57: 张颖 | Q57: 快递 | R57: 月结
A58: 5 | B58: 2026 | C58: 3 | D58: 20 | E58: B0000051 | F58: 侯巧欢 | G58: ZKZX34000836 | H58: 围产期造血干细胞 | I58: 否 | J58: 亳州区域 | K58: 利辛县人民医院 | L58: 2026年3月20日11时53分 | M58: 趸交 | N58: 2026年3月20日10时17分03秒1000，3月20日13时41分43秒21880 | O58: 赵文静 | P58: 张颖 | Q58: 快递 | R58: 月结
A59: 6 | B59: 2026 | C59: 3 | D59: 29 | E59: B0000052 | F59: 马逸婷 | G59: ZKZX34000867 | H59: 围产期造血干细胞 | I59: 否 | J59: 亳州区域 | K59: 利辛县人民医院 | L59: 2026年3月29日11时41分 | M59: 分改趸 | N59: 2026年3月29日08时52分13秒6480元 2026/6/7 11:31 16400元 | O59: 赵文静 | P59: 张颖 | Q59: 快递 | R59: 月结
A60: 1 | B60: 2026 | C60: 4 | D60: 2 | E60: B0000053 | F60: 祝燕 | G60: ZKZX34000923 | H60: 围产期造血干细胞 | I60: 是 | J60: 合肥区域 | K60: 安徽医科大学第一附属医院高新院区 | L60: 2026年4月2日11时37分 | M60: 趸交 | N60: 46112.662 | O60: 领导推荐 | Q60: 开车
A61: 2 | B61: 2026 | C61: 4 | D61: 2 | E61: BC0000007 | F61: 祝燕 | G61: ZKQD34000850 | H61: 脐带间充质干细胞 | I61: 是 | J61: 合肥区域 | K61: 安徽医科大学第一附属医院高新院区 | L61: 2026年4月2日11时38分 | M61: 趸交 | N61: 46112.662 | O61: 领导推荐 | Q61: 开车
A62: 3 | B62: 2026 | C62: 4 | D62: 3 | E62: B0000054 | F62: 马婷 | G62: ZKZX34000869 | H62: 围产期造血干细胞 | I62: 是 | J62: 亳州区域 | K62: 利辛县人民医院 | L62: 2026年4月3日20:41 | M62: 趸交 | N62: 2026年4月3日22:44 | O62: 陆梅侠 | P62: 张颖 | Q62: 专线车 | R62: 60
A63: 4 | B63: 2026 | C63: 4 | D63: 3 | E63: BC0000008 | F63: 马婷 | G63: ZKQD34000836 | H63: 脐带间充质干细胞 | I63: 是 | J63: 亳州区域 | K63: 利辛县人民医院 | L63: 2026年4月3日20:42 | M63: 趸交 | N63: 2026年4月3日22:44 | O63: 陆梅侠 | P63: 张颖 | Q63: 专线车
A64: 5 | B64: 2026 | C64: 4 | D64: 7 | E64: B0000055 | F64: 郭钱钱 | G64: ZKZX34000880 | H64: 围产期造血干细胞 | I64: 否 | J64: 亳州区域 | K64: 涡阳县中医院 | L64: 2026年4月7日10点45分 | M64: 分期 | N64: 2026年4月7日12点40分 | O64: 张慧茹 | P64: 张颖 | Q64: 快递 | R64: 月结
A65: 6 | B65: 2026 | C65: 4 | D65: 8 | E65: B0000056 | F65: 高曦 | G65: ZKZX34000922 | H65: 围产期造血干细胞 | I65: 是 | J65: 合肥区域 | K65: 安徽医科大学第三附属医院 | L65: 2026年4月8日21:54 | M65: 趸交 | N65: 2026年3月10日11:34:40 | O65: 张颖 | P65: 张颖 | Q65: 开车
A66: 7 | B66: 2026 | C66: 4 | D66: 8 | E66: BC0000009 | F66: 高曦 | G66: ZKQD34000839 | H66: 脐带间充质干细胞 | I66: 是 | J66: 合肥区域 | K66: 安徽医科大学第三附属医院 | L66: 2026年4月8日21:59 | M66: 趸交 | N66: 2026年3月10日11:34:40 | O66: 张颖 | P66: 张颖 | Q66: 开车
A67: 8 | B67: 2026 | C67: 4 | D67: 10 | E67: B0000057 | F67: 刘桂兰 | G67: ZKZX34000879 | H67: 围产期造血干细胞 | I67: 否 | J67: 亳州区域 | K67: 涡阳县中医院 | L67: 2026年4月10日20点46分 | M67: 分期 | N67: 2026年4月10日 21点25分 | O67: 张慧茹 | P67: 张颖 | Q67: 专线车 | R67: 100
A68: 9 | B68: 2026 | C68: 4 | D68: 11 | E68: B0000058 | F68: 丁皖豫 | G68: ZKZX34000894 | H68: 围产期造血干细胞 | I68: 否 | J68: 亳州区域 | K68: 涡阳县人民医院 | L68: 2026年4月11日09时03分 | M68: 分期 | N68: 2026年4月11日09时18分23秒 | O68: 杨莉莉 | P68: 张颖 | Q68: 专线车 | R68: 100
A69: 10 | B69: 2026 | C69: 4 | D69: 12 | E69: B0000059 | F69: 姜小雯 | G69: ZKZX34000893 | H69: 围产期造血干细胞 | I69: 否 | J69: 亳州区域 | K69: 涡阳县人民医院 | L69: 2026年4月12日07时32分 | M69: 分期 | N69: 2026年4月12日09时19分29秒 | O69: 马丽 | P69: 张颖 | Q69: 专线车 | R69: 100
B70: 2026 | C70: 4 | D70: 13 | E70: B0000060 | F70: 李建欣 | G70: ZKZX34000878 | H70: 围产期造血干细胞 | I70: 否 | J70: 亳州区域 | K70: 涡阳县中医院 | L70: 2026年4月13日8点17分 | N70: 2026年4月13日 8点46分 | O70: 张慧茹 | P70: 张颖 | Q70: 专线车 | R70: 100
A71: 11 | B71: 2026 | C71: 4 | D71: 13 | E71: B0000061 | F71: 侯香香 | G71: ZKZX34000917 | H71: 围产期造血干细胞 | I71: 否 | J71: 亳州区域 | K71: 亳州市妇幼保健院 | L71: 2026年4月13日11时32分 | M71: 趸交 | N71: 2026年4月12日11:30:43付880元，4月13日12:07:35付20000元 | O71: 杨莉莉 | P71: 张颖 | Q71: 快递 | R71: 月结
A72: 12 | B72: 2026 | C72: 4 | D72: 15 | E72: BC0000010 | F72: 付春荣 | G72: ZKQD34000837 | H72: 脐带间充质干细胞 | I72: 否 | J72: 亳州区域 | K72: 涡阳县人民医院 | L72: 2026年4月15日18时30分 | M72: 分期 | N72: 2026年4月15日19时22分17秒 | O72: 马丽 | P72: 张颖 | Q72: 专线车 | R72: 100
A73: 13 | B73: 2026 | C73: 4 | D73: 16 | E73: B0000062 | F73: 龚阿丽 | G73: ZKZX34000895 | H73: 围产期造血干细胞 | I73: 否 | J73: 亳州区域 | K73: 涡阳县人民医院 | L73: 2026年4月16日09时55分 | M73: 趸交 | N73: 2026年4月16日09时05分16秒 | O73: 杨莉莉 | P73: 张颖 | Q73: 专线车 | R73: 100
B74: 2026 | C74: 4 | D74: 24 | E74: B0000063 | F74: 王玉玉 | G74: ZKZX34000883 | H74: 围产期造血干细胞 | I74: 是 | J74: 亳州区域 | K74: 涡阳县人民医院 | L74: 2026年4月24日12时27分 | N74: 2026年4月24日13时11分36秒 | O74: 马丽 | P74: 张颖 | Q74: 快递 | R74: 月结
B75: 2026 | C75: 4 | D75: 24 | E75: BC0000011 | F75: 王玉玉 | G75: ZKQD34000861 | H75: 脐带间充质干细胞 | I75: 是 | J75: 亳州区域 | K75: 涡阳县人民医院 | L75: 2026年4月24日12时30分 | N75: 2026年4月24日13时11分36秒 | O75: 马丽 | P75: 张颖 | Q75: 快递 | R75: 月结
B76: 2026 | C76: 5 | E76: BC0000012 | F76: 高海燕
A77: 1 | B77: 2026 | C77: 5 | D77: 18 | E77: B0000064 | F77: 丁子旋 | G77: ZKZX34000928 | H77: 围产期造血干细胞 | I77: 否 | J77: 亳州区域 | K77: 涡阳县人民医院 | L77: 2026年5月18日07时21分 | M77: 分期 | N77: 2026年5月18日10时04分46秒 | O77: 杨莉莉 | P77: 张颖 | Q77: 专线车 | R77: 100
A78: 2 | B78: 2026 | C78: 5 | D78: 25 | E78: BC0000013 | F78: 姜珊 | G78: ZKQD34000862 | H78: 脐带间充质干细胞 | I78: 否 | J78: 亳州区域 | K78: 涡阳县人民医院 | L78: 2026年5月25日16时20分 | M78: 分期 | N78: 2026年5月25日16时40分48秒 | O78: 马丽 | P78: 张颖 | Q78: 专线车 | R78: 100
A79: 3 | B79: 2026 | C79: 5 | D79: 28 | E79: B0000065 | F79: 段娟 | G79: ZKZX34000937 | H79: 围产期造血干细胞 | I79: 否 | J79: 合肥区域 | K79: 安徽省儿童医院 | L79: 2026年5月26日13时15分 | M79: 趸交 | N79: 2026年5月28日 16时10分00秒 | O79: 王婷婷 | P79: 王婷婷 | Q79: 打车 | R79: 42.02
A80: 1 | B80: 2026 | C80: 6 | D80: 4 | E80: B0000066 | F80: 董慧丽 | G80: ZKZX34000924 | H80: 围产期造血干细胞 | I80: 否 | J80: 亳州区域 | K80: 涡阳县中医院 | L80: 2026年6月4日10点36分 | M80: 趸交 | N80: 2026年5月20日 9点13分付2000元 2026年6月3日19点04分付20880元 | O80: 张慧茹 | P80: 张颖 | Q80: 专线车 | R80: 100
A81: 2 | B81: 2026 | C81: 6 | D81: 8 | E81: B0000067 | F81: 朱秀英 | G81: ZKZX34000935 | H81: 围产期造血干细胞 | I81: 否 | J81: 亳州区域 | K81: 亳州市人民医院 | L81: 2026年6月8号23点58分 | M81: 分期 | N81: 2026年6月9号00点40分13秒 | O81: 孙恒利 | P81: 张颖 | Q81: 专线车
A82: 3 | B82: 2026 | C82: 6 | D82: 9 | E82: B0000068 | F82: 胡梦情 | G82: ZKZX34000890 | H82: 围产期造血干细胞 | I82: 否 | J82: 亳州区域 | K82: 涡阳县人民医院 | L82: 2026年6月9日16时01分 | M82: 分期 | N82: 2026年6月9日17时44分53秒 | O82: 杨莉莉 | P82: 张颖 | Q82: 顺风车 | R82: 100
A83: 4 | B83: 2026 | C83: 6 | D83: 10 | E83: B0000069 | F83: 崔静 | G83: ZKZX34000892 | H83: 围产期造血干细胞 | I83: 否 | J83: 亳州区域 | K83: 涡阳县人民医院 | L83: 2026年6月10日12时14分 | M83: 分期 | N83: 2026年6月10日06时26分15秒转账500元 2026年6月10日12时42分38秒转账5980元 | O83: 杨莉莉 | P83: 张颖 | Q83: 快递 | R83: 月结
A84: 5 | B84: 2026 | C84: 6 | D84: 16 | E84: B0000070 | F84: 纪明莉 | G84: ZKZX34000933 | H84: 围产期造血干细胞 | I84: 否 | J84: 亳州区域 | K84: 涡阳县人民医院 | L84: 2026年6月16日12时25分 | M84: 分期 | N84: 2026年6月16日13时24分55秒付4500元，6月22日13:07:45付1980元 | O84: 马丽 | P84: 张颖 | Q84: 快递 | R84: 月结
A85: 6 | B85: 2026 | C85: 6 | D85: 17 | E85: B0000071 | F85: 刘晓艳 | G85: ZKZX34000870 | H85: 围产期造血干细胞 | I85: 否 | J85: 亳州区域 | K85: 利辛县人民医院 | L85: 2026年6月17日09时26分 | M85: 趸交 | N85: 2026年6月17日13时09分05秒转账2000元，6月18日15:50:12付20880元 | O85: 赵文静 | P85: 张颖 | Q85: 快递 | R85: 月结
B86: 2026 | C86: 6 | D86: 18 | F86: 司秀兰 | G86: ZKZX34000909 | H86: 围产期造血干细胞 | I86: 否 | J86: 亳州区域 | K86: 利辛县人民医院 | L86: 2026年6月18日10时28分 | M86: 定金 | N86: 2026年6月18日16时29分27秒1000元 | O86: 赵文静 | P86: 张颖 | Q86: 快递 | R86: 月结
B87: 2026 | C87: 6 | D87: 29 | F87: 邓敏 | G87: ZKZX34000930 | H87: 围产期造血干细胞 | I87: 否 | J87: 亳州区域 | K87: 涡阳县人民医院 | L87: 2026年6月29日08时59分 | N87: 2026年6月29日08时29分15秒 | O87: 杨莉莉 | P87: 张颖 | Q87: 顺风车 | R87: 100
A88: 1 | B88: 2026 | C88: 7 | D88: 2 | F88: 崔兰兰 | G88: ZKZX34000887 | H88: 围产期造血干细胞 | I88: 否 | J88: 亳州区域 | K88: 涡阳县人民医院 | L88: 2026年7月2日12时11分 | M88: 分期 | N88: 2026年7月2日13时24分05秒 | O88: 杨莉莉 | P88: 张颖 | Q88: 快递 | R88: 月结
A89: 2 | B89: 2026 | C89: 7 | D89: 3 | F89: 刘影 | G89: ZKZX34000929 | H89: 围产期造血干细胞 | I89: 否 | J89: 亳州区域 | K89: 涡阳县人民医院 | L89: 2026年7月3日09时06分 | M89: 趸交 | N89: 2026年7月3日08时11分26秒付6480元，7月5日08:57:17付16400 | O89: 马丽 | P89: 张颖 | Q89: 顺风车 | R89: 100
A90: 3 | B90: 2026 | C90: 7 | D90: 3 | F90: 张倩文 | G90: ZKZX34000951 | H90: 围产期造血干细胞 | I90: 是 | J90: 合肥区域 | K90: 安徽医科大学第一附属医院高新院区 | L90: 20206年7月3日20时02分 | M90: 趸交 | N90: 2026年7月16日10时36分33秒 | O90: 领导推荐 | Q90: 开车
A91: 4 | B91: 2026 | C91: 7 | D91: 3 | F91: 张倩文 | G91: ZKQD34000875 | H91: 脐带间充质干细胞 | I91: 是 | J91: 合肥区域 | K91: 安徽医科大学第一附属医院高新院区 | L91: 2026年7月3日20时05分 | M91: 趸交 | N91: 2026年7月16日10时36分33秒 | O91: 领导推荐 | Q91: 开车
B92: 2026 | C92: 7 | D92: 5 | F92: 李影 | G92: ZKZX34000956 | H92: 围产期造血干细胞 | I92: 否 | J92: 亳州区域 | K92: 涡阳县人民医院 | L92: 2026年7月5日13时00分 | M92: 分期 | N92: 2026年7月5日11时19分37秒1000元2026年7月5日13时32分17秒5480元， | O92: 马丽 | P92: 张颖 | Q92: 快递 | R92: 月结
A93: 5 | B93: 2026 | C93: 7 | D93: 6 | F93: 吕田甜 | G93: ZKZX34000911 | H93: 围产期造血干细胞 | I93: 否 | J93: 亳州区域 | K93: 利辛县人民医院 | L93: 2026年7月6日13时59分 | M93: 分期 | N93: 2026年7月6日10时39分53秒1000元，14点31分58秒5480元 | O93: 赵文静 | P93: 张颖 | Q93: 快递 | R93: 月结
A94: 6 | B94: 2026 | C94: 7 | D94: 15 | F94: 陈若惜 | G94: ZKZX34000908 | H94: 围产期造血干细胞 | I94: 否 | J94: 亳州区域 | K94: 利辛县人民医院 | L94: 2026年7月15日10时25分 | M94: 分期 | N94: 2026年7月15日11时18分22秒6480 | O94: 赵文静 | P94: 张颖 | Q94: 快递 | R94: 月结
A95: 7 | B95: 2026 | C95: 7 | D95: 16 | F95: 董佳利 | G95: ZKZX34000954 | H95: 围产期造血干细胞 | I95: 否 | J95: 亳州区域 | K95: 涡阳县人民医院 | L95: 2026年7月16日09时01分 | M95: 分期 | N95: 2026年7月16日10时43分04秒3000元，7月20日08:48:31付3480元 | O95: 马丽 | P95: 张颖 | Q95: 顺风车 | R95: 100
A96: 8 | B96: 2026 | C96: 7 | D96: 18 | F96: 慕芳 | G96: ZKZX34000953 | H96: 围产期造血干细胞 | I96: 否 | J96: 亳州区域 | K96: 涡阳县人民医院 | L96: 2026年7月18日14时17分 | M96: 分期 | N96: 2026年7月18日15时48分27秒 | O96: 杨莉莉 | P96: 张颖 | Q96: 快递 | R96: 月结

Sheet 缴费信息管理
A1: 序号 | B1: 年 | C1: 月 | D1: 日 | E1: 实验室 流转编码 | F1: 储存状态 | G1: 废弃 原因 | H1: 母亲姓名 | I1: 协议编号 | J1: 样本类型 | K1: 是否同存 | L1: 采集地区 | M1: 采集医院 | N1: 缴费方式 | O1: 采集时间 | P1: 合同金额 （元） | Q1: 首期应缴费 金额（元） | R1: 已缴金额 （元） | S1: 悔存/废弃 已缴金额 | T1: 退款金额 | U1: 备注 | V1: 首期 缴费时间 | W1: 首期欠缴 金额（元） | X1: 分期欠缴 金额（元） | Y1: 第二次应缴费 金额（元） | Z1: 第二次应缴费 时间 | AA1: 第二次已 缴金额（元） | AB1: 第二次已 缴费时间 | AC1: 第二次欠缴 金额（元） | AD1: 第三次应缴费 金额（元） | AE1: 第三次应缴费 时间 | AF1: 第三次已 缴金额（元） | AG1: 第三次已 缴费时间 | AH1: 第三次欠缴 金额（元） | AI1: 第四次应缴费 金额（元） | AJ1: 第四次应缴费 时间 | AK1: 第四次已 缴金额（元） | AL1: 第四次已 缴费时间 | AM1: 第四次欠缴 金额（元） | AN1: 第五次应缴费 金额（元） | AO1: 第五次应缴费 时间 | AP1: 第五次已 缴金额（元） | AQ1: 第五次已 缴费时间 | AR1: 第五次欠缴 金额（元） | AS1: 第六次应缴费 金额（元） | AT1: 第六次应缴费 时间 | AU1: 第六次已 缴金额（元） | AV1: 第六次已 缴费时间 | AW1: 第六次欠缴 金额（元） | AX1: 市场专员 | AY1: 地区经理 | AZ1: 运输方式 | BA1: 运费 | BB1: 回单超链接-快捷方式 | BC1: 发票 | BD1: 特殊情况说明
B2: 2025 | C2: 9 | D2: 7 | E2: B0000001 | F2: 退存 | G2: 悔存 | H2: 王晴晴 | J2: 围产期造血干细胞 | K2: 否 | L2: 亳州区域 | M2: 涡阳县人民医院 | N2: 分期 | O2: 2025年9月7日13时45分 | Q2: 5000 | S2: 5000 | T2: -5000 | V2: 45907.601 | AX2: 马丽 | AY2: 张颖 | AZ2: 快递 | BA2: 25
A3: 1 | B3: 2025 | C3: 9 | D3: 7 | E3: B0000002 | F3: 存续 | H3: 高居巧 | I3: ZKZX34000852 | J3: 围产期造血干细胞 | K3: 否 | L3: 亳州区域 | M3: 涡阳县人民医院 | N3: 趸交 | O3: 2025年9月7日15时37分 | P3: 22880 | Q3: 22880 | R3: 22880 | U3: 2025年9月8日18:49:28付5480元，18:52:25付16400元，9月7日09:22:15付1000元 | V3: 2025年9月8日18:49:28付5480元， 18:52:25付16400元， 9月7日09:22:15付1000元 | W3: =Q3-R3 -> 0 | X3: =P3-R3 -> 0 | AX3: 杨莉莉 | AY3: 张颖 | AZ3: 快递 | BE3: 母血17元
A4: 2 | B4: 2025 | C4: 9 | D4: 8 | E4: B0000003 | F4: 存续 | H4: 徐嫣然 | I4: ZKZX34000850 | J4: 围产期造血干细胞 | K4: 否 | L4: 亳州区域 | M4: 涡阳县人民医院 | N4: 分改趸 | O4: 2025年9月8日15时42分 | P4: 22880 | Q4: 22880 | R4: 22880 | S4: 11月份 分改趸 | U4: 2025年9月9日19:28:30付2000元，9月15日18:27:36付4480元；三个月内转趸交 2025年11月20日10时23分53秒 | V4: 2025年9月9日19:28:30付2000元， 9月15日18:27:36付4480元； 2025年11月20日10时23分53秒 | W4: =Q4-R4 -> 0 | X4: =P4-R4 -> 0 | AX4: 马丽 | AY4: 张颖 | AZ4: 快递 | BA4: 25 | BG4: 存续
A5: 3 | B5: 2025 | C5: 9 | D5: 15 | E5: B0000004 | F5: 存续 | H5: 郭梦朵 | I5: ZKZX34000849 | J5: 围产期造血干细胞 | K5: 否 | L5: 亳州区域 | M5: 涡阳县人民医院 | N5: 趸交 | O5: 2025年9月15日08时51分 | P5: 22880 | Q5: 22880 | R5: 22880 | U5: 2025年9月15日11时13分01秒付6480元，9月17日08时44分57秒付16400元 | V5: 2025年9月15日11时13分01秒付6480元， 9月17日08时44分57秒付16400元 | W5: =Q5-R5 -> 0 | X5: =P5-R5 -> 0 | AX5: 马丽 | AY5: 张颖 | AZ5: 专线车 | BA5: 100
B6: 2025 | C6: 9 | D6: 18 | E6: B0000005 | F6: 退存 | G6: 悔存 | H6: 魏星月 | I6: ZKZX34000859 | J6: 围产期造血干细胞 | K6: 否 | L6: 亳州区域 | M6: 涡阳县人民医院 | N6: 定金 | O6: 2025年9月18日16时10分 | Q6: 2000 | S6: 2000 | T6: -1000 | U6: 退款1000元 | V6: 2025年9月18日14时55分04秒 | AX6: 杨莉莉 | AY6: 张颖 | AZ6: 快递 | BA6: 24
A7: 4 | B7: 2025 | C7: 9 | D7: 21 | E7: B0000006 | F7: 存续 | H7: 相晓燕 | I7: ZKZX34000858 | J7: 围产期造血干细胞 | K7: 否 | L7: 亳州区域 | M7: 涡阳县人民医院 | N7: 趸交 | O7: 2025年9月21日16时21分 | P7: 22880 | Q7: 22880 | R7: 22880 | V7: 2025年9月21日11时50分04秒 | W7: =Q7-R7 -> 0 | X7: =P7-R7 -> 0 | AX7: 杨莉莉 | AY7: 张颖 | AZ7: 快递 | BA7: 24 | BE7: 母血13元
B8: 2025 | C8: 9 | E8: B0000007 | F8: 退存 | G8: 悔存 | H8: 邵悦 | I8: ZKZX34000839 | J8: 围产期造血干细胞 | K8: 否 | L8: 亳州区域 | M8: 涡阳县中医院 | N8: 分期 | O8: 2025年9月27日12时56分 | Q8: 6480 | S8: 6480 | U8: 2025年9月27日 17时01分，6000元 2025年9月27日 17时08分，480元 | V8: 2025年9月27日 17时01分 2025年9月27日 17时08分 | W8: =Q8-R8 -> 6480 | X8: =P8-R8 -> 0 | AX8: 张慧茹 | AY8: 张颖 | AZ8: 专线车 | BA8: 100 | BD8: 有事情联系宝爸 宝妈不同意储存
A9: 1 | B9: 2025 | C9: 10 | D9: 10 | E9: B0000008 | F9: 存续 | H9: 尹璐 | I9: ZKZX34000854 | J9: 围产期造血干细胞 | K9: 否 | L9: 亳州区域 | M9: 涡阳县人民医院 | N9: 趸交 | O9: 2025年10月10日18时30分 | P9: 22880 | Q9: 22880 | R9: 22880 | V9: 2025年10月10日18时07分16分 | W9: =Q9-R9 -> 0 | X9: =P9-R9 -> 0 | AX9: 马丽 | AY9: 张颖 | AZ9: 专线车 | BA9: 100
A10: 2 | B10: 2025 | C10: 10 | D10: 12 | E10: B0000009 | F10: 存续 | H10: 周盼盼 | I10: ZKZX34000830 | J10: 围产期造血干细胞 | K10: 否 | L10: 亳州区域 | M10: 亳州市人民医院 | N10: 趸交 | O10: 2025年10月12日11时13分 | P10: 22880 | Q10: 22880 | R10: 22880 | V10: 2025年10月12日10点14分16秒 | W10: =Q10-R10 -> 0 | X10: =P10-R10 -> 0 | AX10: 孙恒利 | AY10: 张颖 | AZ10: 快递 | BA10: 月结
A11: 3 | B11: 2025 | C11: 10 | D11: 12 | E11: B0000010 | F11: 存续 | H11: 董丽娟 | I11: ZKZX34000838 | J11: 围产期造血干细胞 | K11: 否 | L11: 亳州区域 | M11: 利辛县人民医院 | N11: 分期 | O11: 2025年10月12日18时08分 | P11: 25880 | Q11: 6480 | R11: 6480 | V11: 2025年10月12日15时30分16秒 | W11: =Q11-R11 -> 0 | X11: =P11-R11 -> 19400 | Y11: 3880 | AX11: 赵文静 | AY11: 张颖 | AZ11: 专线车 | BA11: 60
A12: 4 | B12: 2025 | C12: 10 | D12: 15 | E12: B0000011 | F12: 存续 | H12: 郑慧敏 | I12: ZKZX34000840 | J12: 围产期造血干细胞 | K12: 否 | L12: 亳州区域 | M12: 涡阳县中医院 | N12: 分期 | O12: 2025年10月15日10时09分 | P12: 25880 | Q12: 6480 | R12: 6480 | V12: 2025年10月12日08时39分 | W12: =Q12-R12 -> 0 | X12: =P12-R12 -> 19400 | AX12: 张慧茹 | AY12: 张颖 | AZ12: 专线车 | BA12: 100
B13: 2025 | C13: 10 | D13: 16 | E13: B0000012 | F13: 退存 | G13: 悔存 | H13: 马晓艳 | I13: ZKZX34000848 | J13: 围产期造血干细胞 | K13: 否 | L13: 亳州区域 | M13: 涡阳县人民医院 | N13: 定金 | O13: 2025年10月16日16时41分 | S13: 2000 | T13: -2000 | V13: 2025年10月16日16时50分04秒 | AX13: 杨莉莉 | AY13: 张颖 | AZ13: 快递 | BA13: 月结
A14: 5 | B14: 2025 | C14: 10 | D14: 20 | E14: B0000013 | F14: 存续 | H14: 桂仪 | I14: ZKZX34000855 | J14: 围产期造血干细胞 | K14: 否 | L14: 亳州区域 | M14: 涡阳县人民医院 | N14: 分改趸 | O14: 2025年10月20日16时06分 | P14: 22880 | Q14: 22880 | R14: 22880 | S14: 12月份 分改趸 | U14: 2025年10月20日15时02分44秒付2000元，10月24日16:20.46付4860元，12月9日16:19:56付16020元 | V14: 2025年10月20日15时02分44秒； 10月24日16:20:46付4860 12月9日16:19:56付16020元 | W14: =Q14-R14 -> 0 | X14: =P14-R14 -> 0 | AX14: 杨莉莉 | AY14: 张颖 | AZ14: 快递 | BA14: 月结
A15: 6 | B15: 2025 | C15: 10 | D15: 29 | E15: B0000014 | F15: 存续 | H15: 马子怡 | I15: ZKZX34000846 | J15: 围产期造血干细胞 | K15: 否 | L15: 亳州区域 | M15: 涡阳县人民医院 | N15: 趸交 | O15: 2025年10月29日10时47分 | P15: 22880 | Q15: 22880 | R15: 22880 | V15: 2025年10月29日10时44分25秒 | W15: =Q15-R15 -> 0 | X15: =P15-R15 -> 0 | AX15: 马丽 | AY15: 张颖 | AZ15: 快递 | BA15: 月结
A16: 1 | B16: 2025 | C16: 11 | D16: 1 | E16: B0000015 | F16: 存续 | H16: 李美芳 | I16: ZKZX34000868 | J16: 围产期造血干细胞 | K16: 否 | L16: 亳州区域 | M16: 利辛县人民医院 | N16: 分期 | O16: 2025年11月1日10时17分 | P16: 25880 | Q16: 6480 | R16: 6480 | V16: 2025年10月31日16时03分07秒1000， 11月1日11时04分48秒5480 | W16: =Q16-R16 -> 0 | X16: =P16-R16 -> 19400 | AX16: 赵文静 | AY16: 张颖 | AZ16: 专线车 | BA16: 60
A17: 2 | B17: 2025 | C17: 11 | D17: 1 | E17: B0000016 | F17: 存续 | H17: 邓诗婷 | I17: ZKZX34000842 | J17: 围产期造血干细胞 | K17: 否 | L17: 亳州区域 | M17: 涡阳县中医院 | N17: 趸交 | O17: 2025年11月1日11时56分 | P17: 22880 | Q17: 22880 | R17: 22880 | V17: 2025年11月1日11时29分 | W17: =Q17-R17 -> 0 | X17: =P17-R17 -> 0 | AX17: 张慧茹 | AY17: 张颖 | AZ17: 快递 | BA17: 月结
B18: 2025 | C18: 11 | D18: 11 | E18: B0000017 | F18: 废弃 | G18: 厌氧菌 | H18: 杨薇薇 | I18: ZKZX34000841 | J18: 围产期造血干细胞 | K18: 否 | L18: 亳州区域 | M18: 涡阳县中医院 | N18: 趸交 | O18: 2025年11月11日17时50分 | T18: -22880 | V18: 2025年11月11日18时58分 | W18: =Q18-R18 -> 0 | X18: =P18-R18 -> 0 | AX18: 张慧茹 | AY18: 张颖 | AZ18: 专线车 | BA18: 100
A19: 3 | B19: 2025 | C19: 11 | D19: 18 | E19: B0000018 | F19: 存续 | H19: 时斯宇 | I19: ZKZX34000871 | J19: 围产期造血干细胞 | K19: 否 | L19: 亳州区域 | M19: 涡阳县人民医院 | N19: 分期 | O19: 2025年11月18日16时10分 | P19: 25880 | Q19: 6480 | R19: 6480 | V19: 2025年11月18日16时43分03秒 | W19: =Q19-R19 -> 0 | X19: =P19-R19 -> 19400 | AX19: 杨莉莉 | AY19: 张颖 | AZ19: 快递 | BA19: 月结
A20: 4 | B20: 2025 | C20: 11 | D20: 19 | E20: B0000019 | F20: 存续 | H20: 席三改 | I20: ZKZX34000856 | J20: 围产期造血干细胞 | K20: 否 | L20: 亳州区域 | M20: 涡阳县人民医院 | N20: 分期 | O20: 2025年11月19日08时53分 | P20: 25880 | Q20: 6480 | R20: 6480 | V20: 2025年11月19日10时44分25秒 | W20: =Q20-R20 -> 0 | X20: =P20-R20 -> 19400 | AX20: 马丽 | AY20: 张颖 | AZ20: 专线车 | BA20: 100
A21: 5 | B21: 2025 | C21: 11 | D21: 25 | E21: BC0000003 | F21: 存续 | H21: 牛晨晨 | I21: ZKQD34000831 | J21: 脐带间充质干细胞 | K21: 否 | L21: 亳州区域 | M21: 涡阳县中医院 | N21: 趸交 | O21: 2025年11月25日15时49分 | P21: 22880 | Q21: 22880 | R21: 22880 | U21: 2000+20880 | V21: 2025年11月17日 12:05 2025年11月21日18:48 | W21: =Q21-R21 -> 0 | X21: =P21-R21 -> 0 | AX21: 张慧茹 | AY21: 张颖 | AZ21: 快递 | BA21: 月结
A22: 1 | B22: 2025 | C22: 12 | D22: 2 | E22: B0000020 | F22: 存续 | H22: 张连英 | I22: ZKZX34000875 | J22: 围产期造血干细胞 | K22: 否 | L22: 亳州区域 | M22: 涡阳县人民医院 | N22: 分期 | O22: 2025年12月2日14时03分 | P22: 25880 | Q22: 6480 | R22: 6480 | V22: 2025年12月2日11时10分26秒 | W22: =Q22-R22 -> 0 | X22: =P22-R22 -> 19400 | AX22: 杨莉莉 | AY22: 张颖 | AZ22: 快递 | BA22: 月结
A23: 2 | B23: 2025 | C23: 12 | D23: 2 | E23: B0000021 | F23: 存续 | H23: 左燕丽 | I23: ZKZX34000860 | J23: 围产期造血干细胞 | K23: 否 | L23: 亳州区域 | M23: 涡阳县人民医院 | N23: 分期 | O23: 2025年12月2日14时30分 | P23: 25880 | Q23: 6480 | R23: 6480 | V23: 2025年12月2日15时06分33秒 | W23: =Q23-R23 -> 0 | X23: =P23-R23 -> 19400 | AX23: 马丽 | AY23: 张颖
B24: 2025 | C24: 12 | D24: 4 | E24: B0000022 | F24: 存续 | H24: 毛静静 | I24: ZKZX34000896 | J24: 围产期造血干细胞 | K24: 是 | L24: 合肥区域 | M24: 安徽医科大学第一附属医院高新院区 | O24: 2025年12月4日17时51分 | W24: =Q24-R24 -> 0 | X24: =P24-R24 -> 0 | AZ24: 开车
B25: 2025 | C25: 12 | D25: 4 | E25: BC0000004 | F25: 存续 | H25: 毛静静 | I25: ZKQD34000839 | J25: 脐带间充质干细胞 | K25: 是 | L25: 合肥区域 | M25: 安徽医科大学第一附属医院高新院区 | O25: 2025年12月4日17时52分 | X25: =P25-R25 -> 0 | AZ25: 开车
A26: 3 | B26: 2025 | C26: 12 | D26: 7 | E26: B0000023 | F26: 存续 | H26: 龚杰敏 | I26: ZKZX34000874 | J26: 围产期造血干细胞 | K26: 否 | L26: 亳州区域 | M26: 涡阳县人民医院 | N26: 分期 | O26: 2025年12月7日09时47分 | P26: 25880 | Q26: 6480 | R26: 6480 | V26: 2025年12月7日10时03分34秒 | X26: =P26-R26 -> 19400 | AX26: 杨莉莉 | AY26: 张颖 | AZ26: 快递 | BA26: 月结
A27: 4 | B27: 2025 | C27: 12 | D27: 7 | E27: B0000024 | F27: 存续 | H27: 刘亚梅 | I27: ZKZX34000872 | J27: 围产期造血干细胞 | K27: 否 | L27: 亳州区域 | M27: 涡阳县人民医院 | N27: 趸交 | O27: 2025年12月7日11时00分 | P27: 22880 | Q27: 22880 | R27: 22880 | V27: 2025年12月7日11时08分57秒 | X27: =P27-R27 -> 0 | AX27: 马丽 | AY27: 张颖
A28: 5 | B28: 2025 | C28: 12 | D28: 8 | E28: B0000025 | F28: 存续 | H28: 付慧茹 | I28: ZKZX34000851 | J28: 围产期造血干细胞 | K28: 否 | L28: 亳州区域 | M28: 涡阳县人民医院 | N28: 趸交 | O28: 2025年12月8日08时52分 | P28: 21880 | Q28: 21880 | R28: 21880 | V28: 2025年12月8日09时58分37秒 | X28: =P28-R28 -> 0 | AX28: 杨莉莉 | AY28: 张颖 | AZ28: 滴滴顺风车 | BA28: 119
A29: 6 | B29: 2025 | C29: 12 | D29: 11 | E29: B0000026 | F29: 存续 | H29: 李辰 | I29: ZKZX34000882 | J29: 围产期造血干细胞 | K29: 否 | L29: 亳州区域 | M29: 涡阳县人民医院 | N29: 趸交 | O29: 2025年12月11日09时17分 | P29: 22880 | Q29: 22880 | R29: 22880 | V29: 2025年12月11日10时49分52秒 | X29: =P29-R29 -> 0 | AX29: 马丽 | AY29: 张颖 | AZ29: 专线车 | BA29: 100
A30: 7 | B30: 2025 | C30: 12 | D30: 14 | E30: B0000027 | F30: 存续 | H30: 尹菱惜 | I30: ZKZX34000843 | J30: 围产期造血干细胞 | K30: 否 | L30: 亳州区域 | M30: 涡阳县中医院 | N30: 趸交 | O30: 2025年12月14日20点38分 | P30: 22880 | Q30: 22880 | R30: 22880 | V30: 2025年12月13日18点45分 | X30: =P30-R30 -> 0 | AX30: 张慧茹 | AY30: 张颖 | AZ30: 专线车 | BA30: 100
A31: 8 | B31: 2025 | C31: 12 | D31: 15 | E31: B0000028 | F31: 存续 | H31: 邓真 | I31: ZKZX34000853 | J31: 围产期造血干细胞 | K31: 否 | L31: 亳州区域 | M31: 涡阳县人民医院 | N31: 趸交 | O31: 2025年12月15日10时15分 | P31: 22880 | Q31: 22880 | R31: 22880 | V31: 2025年12月15日12:15:37付22800元，12:23付80元 | X31: =P31-R31 -> 0 | AX31: 杨莉莉 | AY31: 张颖 | AZ31: 专线车 | BA31: 100
A32: 9 | B32: 2025 | C32: 12 | D32: 15 | E32: B0000029 | F32: 存续 | H32: 张肖晴 | I32: ZKZX34000831 | J32: 围产期造血干细胞 | K32: 否 | L32: 亳州区域 | M32: 亳州市中医院 | N32: 分期 | O32: 2025年12月15日15时24分 | P32: 25880 | Q32: 6480 | R32: 6480 | V32: 2025年12月13日11:50:59付1000元，12月15日15:51:33付5480元 | X32: =P32-R32 -> 19400 | AX32: 孙恒利 | AY32: 张颖 | AZ32: 快递 | BA32: 21
A33: 10 | B33: 2025 | C33: 12 | D33: 16 | E33: B0000030 | F33: 存续 | H33: 马庆敏 | I33: ZKZX34000886 | J33: 围产期造血干细胞 | K33: 否 | L33: 亳州区域 | M33: 涡阳县人民医院 | N33: 趸交 | O33: 2025年12月16日09时51分 | P33: 22880 | Q33: 22880 | R33: 22880 | V33: 2025年12月16日09时42分49秒 | X33: =P33-R33 -> 0 | AX33: 马丽 | AY33: 张颖 | AZ33: 滴滴顺风车 | BA33: 119
A34: 11 | B34: 2025 | C34: 12 | D34: 19 | E34: B0000031 | F34: 存续 | H34: 梁雨晴 | I34: ZKZX34000847 | J34: 围产期造血干细胞 | K34: 否 | L34: 亳州区域 | M34: 涡阳县人民医院 | N34: 分期 | O34: 2025年12月19日12时20分 | P34: 25880 | Q34: 6480 | R34: 6480 | V34: 2025年12月19日12时32分15秒 | X34: =P34-R34 -> 19400 | AX34: 杨莉莉 | AY34: 张颖 | AZ34: 快递 | BA34: 月结
B35: 2025 | C35: 12 | D35: 19 | F35: 退存 | G35: 未制备毁存 | H35: 张璐璐 | I35: ZKZX34000873 | J35: 围产期造血干细胞 | K35: 否 | L35: 亳州区域 | M35: 涡阳县人民医院 | N35: 分期 | O35: 2025年12月19日14时03分 | Q35: 6480 | T35: 6480 | V35: 2025年12月19日14时19分32秒 | AX35: 马丽 | AY35: 张颖 | AZ35: 快递 | BA35: 月结
A36: 12 | B36: 2025 | C36: 12 | D36: 24 | E36: B0000032 | F36: 存续 | H36: 李文婷 | I36: ZKZX34000837 | J36: 围产期造血干细胞 | K36: 否 | L36: 亳州区域 | M36: 利辛县人民医院 | N36: 趸交 | O36: 2025年12月24日16时42分 | P36: 22880 | Q36: 22880 | R36: 22880 | V36: 2025年12月24日08时54分40秒1000，12月24日17时02分21秒21880 | X36: =P36-R36 -> 0 | AX36: 赵文静 | AY36: 张颖 | AZ36: 专线车 | BA36: 60
A37: 13 | B37: 2025 | C37: 12 | D37: 25 | E37: B0000033 | F37: 存续 | H37: 姜平 | I37: ZKZX34000845 | J37: 围产期造血干细胞 | K37: 否 | L37: 亳州区域 | M37: 涡阳县人民医院 | N37: 趸交 | O37: 2025年12月25日12时20分 | P37: 22880 | Q37: 22880 | R37: 22880 | V37: 2025年12月25日14时52分07秒 | X37: =P37-R37 -> 0 | AX37: 马丽 | AY37: 张颖 | AZ37: 快递 | BA37: 月结
A38: 1 | B38: 2026 | C38: 1 | D38: 3 | E38: B0000034 | F38: 存续 | H38: 年梦琪 | I38: ZKZX34000857 | J38: 围产期造血干细胞 | K38: 否 | L38: 亳州区域 | M38: 涡阳县人民医院 | N38: 分期 | O38: 2026年1月3日19时59分 | P38: 25880 | Q38: 6480 | R38: 6480 | V38: 2026年1月3日11时51分52秒 | X38: =P38-R38 -> 19400 | AX38: 杨莉莉 | AY38: 张颖 | AZ38: 专线车 | BA38: 100
A39: 2 | B39: 2026 | C39: 1 | D39: 12 | E39: B0000035 | F39: 存续 | H39: 陆前进之妻 | I39: ZKZX34000835 | J39: 围产期造血干细胞 | K39: 否 | L39: 亳州区域 | M39: 利辛县人民医院 | N39: 分期 | O39: 2026年1月9日15时02分 | P39: 25880 | Q39: 6480 | R39: 6480 | V39: 2026年1月9日14时18分51秒2000，1月9日17时26分03秒4480 | X39: =P39-R39 -> 19400 | AX39: 赵文静 | AY39: 张颖 | AZ39: 快递 | BA39: 月结
A40: 3 | B40: 2026 | C40: 1 | D40: 18 | E40: B0000036 | F40: 存续 | H40: 牛勤 | I40: ZKZX34000844 | J40: 围产期造血干细胞 | K40: 否 | L40: 亳州区域 | M40: 涡阳县人民医院 | N40: 分期 | O40: 2026年1月18日06时50分 | P40: 25880 | Q40: 6480 | R40: 6480 | V40: 2026年1月17日20时54分41秒 | X40: =P40-R40 -> 19400 | AX40: 马丽 | AY40: 张颖 | AZ40: 专线车 | BA40: 100
A41: 4 | B41: 2026 | C41: 1 | D41: 18 | E41: B0000037 | F41: 存续 | H41: 王璐璐 | I41: ZKZX34000885 | J41: 围产期造血干细胞 | K41: 否 | L41: 亳州区域 | M41: 涡阳县人民医院 | N41: 分期 | O41: 2026年1月18日09时06分 | P41: 25880 | Q41: 6480 | R41: 6480 | V41: 2026年1月18日09时19分22秒 2026年1月23日08时16分12秒 | X41: =P41-R41 -> 19400 | AX41: 杨莉莉 | AY41: 张颖
A42: 5 | B42: 2026 | C42: 1 | D42: 22 | E42: B0000038 | F42: 存续 | H42: 张红娟 | I42: ZKZX34000888 | J42: 围产期造血干细胞 | K42: 否 | L42: 亳州区域 | M42: 涡阳县人民医院 | N42: 分期 | O42: 2026年1月22日12时22分 | P42: 25880 | Q42: 6480 | R42: 6480 | V42: 2026年1月22日11时11分11秒 | X42: =P42-R42 -> 19400 | AX42: 马丽 | AY42: 张颖 | AZ42: 快递 | BA42: 月结
A43: 6 | B43: 2026 | C43: 1 | D43: 22 | E43: B0000039 | F43: 存续 | H43: 荆盼盼 | I43: ZKZX34000884 | J43: 围产期造血干细胞 | K43: 否 | L43: 亳州区域 | M43: 涡阳县人民医院 | N43: 分期 | O43: 2026年1月22日13时38分 | P43: 25880 | Q43: 6480 | R43: 6480 | V43: 2026年1月22日11时45分25秒 | X43: =P43-R43 -> 19400 | AX43: 杨莉莉 | AY43: 张颖
B44: 2026 | C44: 1 | D44: 22 | E44: B0000040 | F44: 退存 | G44: 悔存 | H44: 李欣欣 | I44: ZKZX34000876 | J44: 围产期造血干细胞 | K44: 否 | L44: 亳州区域 | M44: 涡阳县中医院 | N44: 分期 | O44: 2026年1月22日 11点02分 | P44: 25880 | Q44: 6480 | T44: 6480 | V44: 2026年1月22日 10点50分 | X44: =P44-R44 -> 25880 | AX44: 张慧茹 | AY44: 张颖 | AZ44: 快递 | BA44: 月结
A45: 7 | B45: 2026 | C45: 1 | D45: 27 | E45: BC0000005 | F45: 存续 | H45: 郑藤藤 | I45: ZKQD34000838 | J45: 脐带间充质干细胞 | K45: 否 | L45: 亳州区域 | M45: 涡阳县人民医院 | N45: 分期 | O45: 2026年1月27日12时51分 | P45: 25880 | Q45: 6480 | R45: 6480 | V45: 2026年1月27日13时21分37秒 | X45: =P45-R45 -> 19400 | AX45: 马丽 | AY45: 张颖 | AZ45: 快递 | BA45: 月结
A46: 8 | B46: 2026 | C46: 1 | D46: 30 | E46: B0000041 | F46: 存续 | H46: 王莉莉 | I46: ZKZX34000903 | J46: 围产期造血干细胞 | K46: 否 | L46: 亳州区域 | M46: 涡阳县人民医院 | N46: 趸交 | O46: 2026年1月30日09时11分 | P46: 22880 | Q46: 22880 | R46: 22880 | V46: 2026年1月30日08时40分59秒 | X46: =P46-R46 -> 0 | AX46: 杨莉莉 | AY46: 张颖 | AZ46: 专线车 | BA46: 100
B47: 2026 | C47: 1 | D47: 30 | F47: 退存 | G47: 悔存 | H47: 程红 | J47: 围产期造血干细胞 | K47: 否 | L47: 亳州区域 | M47: 涡阳县人民医院 | N47: 分期 | O47: 2026年1月30日13时36分 | Q47: 6480 | T47: 6480 | V47: 2026年1月30日13时48分46秒 | X47: =P47-R47 -> 0 | AX47: 马丽 | AY47: 张颖 | AZ47: 快递 | BA47: 月结
A48: 9 | B48: 2026 | C48: 1 | D48: 31 | E48: B0000042 | F48: 存续 | H48: 刘彩云 | I48: ZKZX34000833 | J48: 围产期造血干细胞 | K48: 是 | L48: 亳州区域 | M48: 亳州市人民医院 | N48: 趸交 | O48: 2026年1月31日19时33分 | P48: 21380 | Q48: 21380 | R48: 21380 | V48: 2026年1月31日19时51分31秒 | X48: =P48-R48 -> 0 | AX48: 孙恒利 | AY48: 张颖 | AZ48: 专线车 | BA48: 128
A49: 10 | B49: 2026 | C49: 1 | D49: 31 | E49: BC0000006 | F49: 存续 | H49: 刘彩云 | I49: ZKQD34000829 | J49: 脐带间充质干细胞 | K49: 是 | L49: 亳州区域 | M49: 亳州市人民医院 | N49: 趸交 | O49: 2026年1月31日19时34分 | P49: 21380 | Q49: 21380 | R49: 21380 | V49: 2026年1月31日19时51分31秒 | X49: =P49-R49 -> 0 | AX49: 孙恒利 | AY49: 张颖
A50: 1 | B50: 2026 | C50: 2 | D50: 13 | E50: B0000043 | F50: 存续 | H50: 殷倩 | I50: ZKZX34000889 | J50: 围产期造血干细胞 | K50: 否 | L50: 亳州区域 | M50: 涡阳县人民医院 | N50: 趸交 | O50: 2026年2月13日08时12分 | P50: 22880 | Q50: 22880 | R50: 22880 | V50: 2026年2月13日10时17分16秒 | X50: =P50-R50 -> 0 | AX50: 马丽 | AY50: 张颖 | AZ50: 专线车 | BA50: 100
A51: 2 | B51: 2026 | C51: 2 | D51: 22 | E51: B0000044 | F51: 存续 | H51: 席娜 | I51: ZKZX34000881 | J51: 围产期造血干细胞 | K51: 否 | L51: 亳州区域 | M51: 涡阳县人民医院 | N51: 趸交 | O51: 2026年2月22日10时13分 | P51: 22880 | Q51: 22880 | R51: 22880 | V51: 2026年2月22日10时27分47秒 | X51: =P51-R51 -> 0 | AX51: 杨莉莉 | AY51: 张颖 | AZ51: 快递 | BA51: 月结
A52: 3 | B52: 2026 | C52: 2 | D52: 27 | E52: B0000045 | F52: 存续 | H52: 马婷婷 | I52: ZKZX34000899 | J52: 围产期造血干细胞 | K52: 否 | L52: 亳州区域 | M52: 涡阳县人民医院 | N52: 分期 | O52: 2026年2月27日11时12分 | P52: 25880 | Q52: 6480 | R52: 6480 | V52: 2026年2月27日12时05分00秒 | X52: =P52-R52 -> 19400 | AX52: 马丽 | AY52: 张颖 | AZ52: 快递 | BA52: 月结
A53: 1 | B53: 2026 | C53: 3 | D53: 3 | E53: B0000046 | F53: 存续 | H53: 李洪玲 | I53: ZKZX34000901 | J53: 围产期造血干细胞 | K53: 否 | L53: 亳州区域 | M53: 涡阳县人民医院 | N53: 分期 | O53: 2026年3月3日14时01分 | P53: 25880 | Q53: 6480 | R53: 6480 | V53: 2026年3月3日10时09分55秒,2000元 2026年3月3日14时17分40秒,4000元 | X53: =P53-R53 -> 19400 | AX53: 杨莉莉 | AY53: 张颖 | AZ53: 快递 | BA53: 月结
A54: 2 | B54: 2026 | C54: 3 | D54: 4 | E54: B0000047 | F54: 存续 | H54: 孙佳宁 | I54: ZKZX34000898 | J54: 围产期造血干细胞 | K54: 否 | L54: 亳州区域 | M54: 涡阳县人民医院 | N54: 趸交 | O54: 2026年3月4日 8时01分 | P54: 21880 | Q54: 21880 | R54: 21880 | X54: =P54-R54 -> 0 | AX54: 马丽 | AY54: 张颖 | AZ54: 专线车 | BA54: 100
B55: 2026 | C55: 3 | D55: 10 | E55: B0000048 | F55: 退存 | H55: 徐睿君 | I55: ZKZX34000897 | J55: 围产期造血干细胞 | K55: 否 | L55: 亳州区域 | M55: 涡阳县人民医院 | N55: 分期 | O55: 2026年3月10日12时01分 | P55: 25880 | Q55: 6480 | T55: 5480 | V55: 2026年3月10日08时18分35秒 | X55: =P55-R55 -> 25880 | AX55: 杨莉莉 | AY55: 张颖 | AZ55: 快递 | BA55: 月结
A56: 3 | B56: 2026 | C56: 3 | D56: 15 | E56: B0000049 | F56: 存续 | H56: 丁静娴 | I56: ZKZX34000915 | J56: 围产期造血干细胞 | K56: 否 | L56: 亳州区域 | M56: 亳州市人民医院 | N56: 趸交 | O56: 2026年3月15日05时38分 | P56: 20880 | Q56: 20880 | R56: 20880 | V56: 2026年3月15日09点59分36秒 | X56: =P56-R56 -> 0 | AX56: 孙恒利 | AY56: 张颖 | AZ56: 快递 | BA56: 月结
A57: 4 | B57: 2026 | C57: 3 | D57: 20 | E57: B0000050 | F57: 存续 | H57: 申梦雨 | I57: ZKZX34000891 | J57: 围产期造血干细胞 | K57: 否 | L57: 亳州区域 | M57: 涡阳县人民医院 | N57: 分改趸 | O57: 2026年3月20日13时28分 | P57: 22880 | Q57: 22880 | R57: 22880 | S57: 2026年5月分改趸 | V57: 2026年3月20日08时17分32秒 2026年5月9日11时24分38秒 | X57: =P57-R57 -> 0 | AX57: 马丽 | AY57: 张颖 | AZ57: 快递 | BA57: 月结
A58: 5 | B58: 2026 | C58: 3 | D58: 20 | E58: B0000051 | F58: 存续 | H58: 侯巧欢 | I58: ZKZX34000836 | J58: 围产期造血干细胞 | K58: 否 | L58: 亳州区域 | M58: 利辛县人民医院 | N58: 趸交 | O58: 2026年3月20日11时53分 | P58: 22880 | Q58: 22880 | R58: 22880 | V58: 2026年3月20日10时17分03秒1000，3月20日13时41分43秒21880 | X58: =P58-R58 -> 0 | AX58: 赵文静 | AY58: 张颖 | AZ58: 快递 | BA58: 月结
A59: 6 | B59: 2026 | C59: 3 | D59: 29 | E59: B0000052 | F59: 存续 | H59: 马逸婷 | I59: ZKZX34000867 | J59: 围产期造血干细胞 | K59: 否 | L59: 亳州区域 | M59: 利辛县人民医院 | N59: 分改趸 | O59: 2026年3月29日11时41分 | P59: 22880 | Q59: 22880 | R59: 22880 | S59: 2026年6月分改趸 | V59: 2026年3月29日08时52分13秒6480元 2026/6/7 11:31 16400元 | X59: =P59-R59 -> 0 | AX59: 赵文静 | AY59: 张颖 | AZ59: 快递 | BA59: 月结
A60: 1 | B60: 2026 | C60: 4 | D60: 2 | E60: B0000053 | F60: 存续 | H60: 祝燕 | I60: ZKZX34000923 | J60: 围产期造血干细胞 | K60: 是 | L60: 合肥区域 | M60: 安徽医科大学第一附属医院高新院区 | N60: 趸交 | O60: 2026年4月2日11时37分 | P60: 22880 | Q60: 22880 | R60: 22880 | V60: 46112.662 | X60: =P60-R60 -> 0 | AX60: 领导推荐 | AZ60: 开车
A61: 2 | B61: 2026 | C61: 4 | D61: 2 | E61: BC0000007 | F61: 存续 | H61: 祝燕 | I61: ZKQD34000850 | J61: 脐带间充质干细胞 | K61: 是 | L61: 合肥区域 | M61: 安徽医科大学第一附属医院高新院区 | N61: 趸交 | O61: 2026年4月2日11时38分 | P61: 15000 | Q61: 15000 | R61: 15000 | V61: 46112.662 | X61: =P61-R61 -> 0 | AX61: 领导推荐 | AZ61: 开车
A62: 3 | B62: 2026 | C62: 4 | D62: 3 | E62: B0000054 | F62: 存续 | H62: 马婷 | I62: ZKZX34000869 | J62: 围产期造血干细胞 | K62: 是 | L62: 亳州区域 | M62: 利辛县人民医院 | N62: 趸交 | O62: 2026年4月3日20:41 | P62: 22880 | Q62: 22880 | R62: 22880 | V62: 2026年4月3日22:44 | X62: =P62-R62 -> 0 | AX62: 陆梅侠 | AY62: 张颖 | AZ62: 专线车 | BA62: 60
A63: 4 | B63: 2026 | C63: 4 | D63: 3 | E63: BC0000008 | F63: 存续 | H63: 马婷 | I63: ZKQD34000836 | J63: 脐带间充质干细胞 | K63: 是 | L63: 亳州区域 | M63: 利辛县人民医院 | N63: 趸交 | O63: 2026年4月3日20:42 | P63: 15000 | Q63: 15000 | R63: 15000 | V63: 2026年4月3日22:44 | X63: =P63-R63 -> 0 | AX63: 陆梅侠 | AY63: 张颖 | AZ63: 专线车
A64: 5 | B64: 2026 | C64: 4 | D64: 7 | E64: B0000055 | F64: 存续 | H64: 郭钱钱 | I64: ZKZX34000880 | J64: 围产期造血干细胞 | K64: 否 | L64: 亳州区域 | M64: 涡阳县中医院 | N64: 分期 | O64: 2026年4月7日10点45分 | P64: 25880 | Q64: 6480 | R64: 6480 | V64: 2026年4月7日12点40分 | X64: =P64-R64 -> 19400 | AX64: 张慧茹 | AY64: 张颖 | AZ64: 快递 | BA64: 月结
A65: 6 | B65: 2026 | C65: 4 | D65: 8 | E65: B0000056 | F65: 存续 | H65: 高曦 | I65: ZKZX34000922 | J65: 围产期造血干细胞 | K65: 是 | L65: 合肥区域 | M65: 安徽医科大学第三附属医院 | N65: 趸交 | O65: 2026年4月8日21:54 | P65: 22000 | Q65: 22000 | R65: 22000 | V65: 2026年3月10日11:34:40 | X65: =P65-R65 -> 0 | AX65: 张颖 | AY65: 张颖 | AZ65: 开车
A66: 7 | B66: 2026 | C66: 4 | D66: 8 | E66: BC0000009 | F66: 存续 | H66: 高曦 | I66: ZKQD34000839 | J66: 脐带间充质干细胞 | K66: 是 | L66: 合肥区域 | M66: 安徽医科大学第三附属医院 | N66: 趸交 | O66: 2026年4月8日21:59 | P66: 15000 | Q66: 15000 | R66: 15000 | V66: 2026年3月10日11:34:40 | X66: =P66-R66 -> 0 | AX66: 张颖 | AY66: 张颖 | AZ66: 开车
A67: 8 | B67: 2026 | C67: 4 | D67: 10 | E67: B0000057 | F67: 存续 | H67: 刘桂兰 | I67: ZKZX34000879 | J67: 围产期造血干细胞 | K67: 否 | L67: 亳州区域 | M67: 涡阳县中医院 | N67: 分期 | O67: 2026年4月10日20点46分 | P67: 25880 | Q67: 6480 | R67: 6480 | V67: 2026年4月10日 21点25分 | X67: =P67-R67 -> 19400 | AX67: 张慧茹 | AY67: 张颖 | AZ67: 专线车 | BA67: 100
A68: 9 | B68: 2026 | C68: 4 | D68: 11 | E68: B0000058 | F68: 存续 | H68: 丁皖豫 | I68: ZKZX34000894 | J68: 围产期造血干细胞 | K68: 否 | L68: 亳州区域 | M68: 涡阳县人民医院 | N68: 分期 | O68: 2026年4月11日09时03分 | P68: 25880 | Q68: 6480 | R68: 6480 | V68: 2026年4月11日09时18分23秒 | X68: =P68-R68 -> 19400 | AX68: 杨莉莉 | AY68: 张颖 | AZ68: 专线车 | BA68: 100
A69: 10 | B69: 2026 | C69: 4 | D69: 12 | E69: B0000059 | F69: 存续 | H69: 姜小雯 | I69: ZKZX34000893 | J69: 围产期造血干细胞 | K69: 否 | L69: 亳州区域 | M69: 涡阳县人民医院 | N69: 分期 | O69: 2026年4月12日07时32分 | P69: 25880 | Q69: 6480 | R69: 6480 | V69: 2026年4月12日09时19分29秒 | X69: =P69-R69 -> 19400 | AX69: 马丽 | AY69: 张颖 | AZ69: 专线车 | BA69: 100
B70: 2026 | C70: 4 | D70: 13 | E70: B0000060 | F70: 退存 | G70: 毁存 | H70: 李建欣 | I70: ZKZX34000878 | J70: 围产期造血干细胞 | K70: 否 | L70: 亳州区域 | M70: 涡阳县中医院 | O70: 2026年4月13日8点17分 | P70: 25880 | Q70: 6480 | T70: 5480 | V70: 2026年4月13日 8点46分 | AX70: 张慧茹 | AY70: 张颖 | AZ70: 专线车 | BA70: 100
A71: 11 | B71: 2026 | C71: 4 | D71: 13 | E71: B0000061 | F71: 存续 | H71: 侯香香 | I71: ZKZX34000917 | J71: 围产期造血干细胞 | K71: 否 | L71: 亳州区域 | M71: 亳州市妇幼保健院 | N71: 趸交 | O71: 2026年4月13日11时32分 | P71: 20880 | Q71: 20880 | R71: 20880 | V71: 2026年4月12日11:30:43付880元，4月13日12:07:35付20000元 | X71: =P71-R71 -> 0 | AX71: 杨莉莉 | AY71: 张颖 | AZ71: 快递 | BA71: 月结
A72: 12 | B72: 2026 | C72: 4 | D72: 15 | E72: BC0000010 | F72: 存续 | H72: 付春荣 | I72: ZKQD34000837 | J72: 脐带间充质干细胞 | K72: 否 | L72: 亳州区域 | M72: 涡阳县人民医院 | N72: 分期 | O72: 2026年4月15日18时30分 | P72: 25880 | Q72: 6480 | R72: 6480 | V72: 2026年4月15日19时22分17秒 | X72: =P72-R72 -> 19400 | AX72: 马丽 | AY72: 张颖 | AZ72: 专线车 | BA72: 100
A73: 13 | B73: 2026 | C73: 4 | D73: 16 | E73: B0000062 | F73: 存续 | H73: 龚阿丽 | I73: ZKZX34000895 | J73: 围产期造血干细胞 | K73: 否 | L73: 亳州区域 | M73: 涡阳县人民医院 | N73: 趸交 | O73: 2026年4月16日09时55分 | P73: 22880 | Q73: 22880 | R73: 22880 | V73: 2026年4月16日09时05分16秒 | X73: =P73-R73 -> 0 | AX73: 杨莉莉 | AY73: 张颖 | AZ73: 专线车 | BA73: 100
B74: 2026 | C74: 4 | D74: 24 | E74: B0000063 | F74: 退存 | G74: 乙肝阳性 | H74: 王玉玉 | I74: ZKZX34000883 | J74: 围产期造血干细胞 | K74: 是 | L74: 亳州区域 | M74: 涡阳县人民医院 | O74: 2026年4月24日12时27分 | P74: 22880 | Q74: 22880 | T74: 22880 | V74: 2026年4月24日13时11分36秒 | AX74: 马丽 | AY74: 张颖 | AZ74: 快递 | BA74: 月结
B75: 2026 | C75: 4 | D75: 24 | E75: BC0000011 | F75: 退存 | G75: 乙肝阳性 | H75: 王玉玉 | I75: ZKQD34000861 | J75: 脐带间充质干细胞 | K75: 是 | L75: 亳州区域 | M75: 涡阳县人民医院 | O75: 2026年4月24日12时30分 | P75: 20880 | Q75: 20880 | T75: 20880 | U75: 乙肝小三阳 | V75: 2026年4月24日13时11分36秒 | AX75: 马丽 | AY75: 张颖 | AZ75: 快递 | BA75: 月结
B76: 2026 | C76: 5 | E76: BC0000012 | H76: 高海燕
A77: 1 | B77: 2026 | C77: 5 | D77: 18 | E77: B0000064 | F77: 存续 | H77: 丁子旋 | I77: ZKZX34000928 | J77: 围产期造血干细胞 | K77: 否 | L77: 亳州区域 | M77: 涡阳县人民医院 | N77: 分期 | O77: 2026年5月18日07时21分 | P77: 25880 | Q77: 6480 | R77: 6480 | V77: 2026年5月18日10时04分46秒 | X77: =P77-R77 -> 19400 | AX77: 杨莉莉 | AY77: 张颖 | AZ77: 专线车 | BA77: 100
A78: 2 | B78: 2026 | C78: 5 | D78: 25 | E78: BC0000013 | F78: 存续 | H78: 姜珊 | I78: ZKQD34000862 | J78: 脐带间充质干细胞 | K78: 否 | L78: 亳州区域 | M78: 涡阳县人民医院 | N78: 分期 | O78: 2026年5月25日16时20分 | P78: 25880 | Q78: 6480 | R78: 6480 | V78: 2026年5月25日16时40分48秒 | X78: =P78-R78 -> 19400 | AX78: 马丽 | AY78: 张颖 | AZ78: 专线车 | BA78: 100
A79: 3 | B79: 2026 | C79: 5 | D79: 28 | E79: B0000065 | F79: 存续 | H79: 段娟 | I79: ZKZX34000937 | J79: 围产期造血干细胞 | K79: 否 | L79: 合肥区域 | M79: 安徽省儿童医院 | N79: 趸交 | O79: 2026年5月26日13时15分 | P79: 20880 | Q79: 20880 | R79: 20880 | V79: 2026年5月28日 16时10分00秒 | X79: =P79-R79 -> 0 | AX79: 王婷婷 | AY79: 王婷婷 | AZ79: 打车 | BA79: 42.02
A80: 1 | B80: 2026 | C80: 6 | D80: 4 | E80: B0000066 | F80: 存续 | H80: 董慧丽 | I80: ZKZX34000924 | J80: 围产期造血干细胞 | K80: 否 | L80: 亳州区域 | M80: 涡阳县中医院 | N80: 趸交 | O80: 2026年6月4日10点36分 | P80: 22880 | Q80: 22880 | R80: 22880 | V80: 2026年5月20日 9点13分付2000元 2026年6月3日19点04分付20880元 | X80: =P80-R80 -> 0 | AX80: 张慧茹 | AY80: 张颖 | AZ80: 专线车 | BA80: 100
A81: 2 | B81: 2026 | C81: 6 | D81: 8 | E81: B0000067 | F81: 存续 | H81: 朱秀英 | I81: ZKZX34000935 | J81: 围产期造血干细胞 | K81: 否 | L81: 亳州区域 | M81: 亳州市人民医院 | N81: 分期 | O81: 2026年6月8号23点58分 | P81: 25880 | Q81: 6480 | R81: 6480 | V81: 2026年6月9号00点40分13秒 | X81: =P81-R81 -> 19400 | AX81: 孙恒利 | AY81: 张颖 | AZ81: 专线车
A82: 3 | B82: 2026 | C82: 6 | D82: 9 | E82: B0000068 | F82: 存续 | H82: 胡梦情 | I82: ZKZX34000890 | J82: 围产期造血干细胞 | K82: 否 | L82: 亳州区域 | M82: 涡阳县人民医院 | N82: 分期 | O82: 2026年6月9日16时01分 | P82: 25880 | Q82: 6480 | R82: 6480 | V82: 2026年6月9日17时44分53秒 | X82: =P82-R82 -> 19400 | AX82: 杨莉莉 | AY82: 张颖 | AZ82: 顺风车 | BA82: 100
A83: 4 | B83: 2026 | C83: 6 | D83: 10 | E83: B0000069 | F83: 存续 | H83: 崔静 | I83: ZKZX34000892 | J83: 围产期造血干细胞 | K83: 否 | L83: 亳州区域 | M83: 涡阳县人民医院 | N83: 分期 | O83: 2026年6月10日12时14分 | P83: 25880 | Q83: 6480 | R83: 6480 | V83: 2026年6月10日06时26分15秒转账500元 2026年6月10日12时42分38秒转账5980元 | X83: =P83-R83 -> 19400 | AX83: 杨莉莉 | AY83: 张颖 | AZ83: 快递 | BA83: 月结
A84: 5 | B84: 2026 | C84: 6 | D84: 16 | E84: B0000070 | F84: 存续 | H84: 纪明莉 | I84: ZKZX34000933 | J84: 围产期造血干细胞 | K84: 否 | L84: 亳州区域 | M84: 涡阳县人民医院 | N84: 分期 | O84: 2026年6月16日12时25分 | P84: 25880 | Q84: 6480 | R84: 6480 | V84: 2026年6月16日13时24分55秒付4500元，6月22日13:07:45付1980元 | X84: =P84-R84 -> 19400 | AX84: 马丽 | AY84: 张颖 | AZ84: 快递 | BA84: 月结
A85: 6 | B85: 2026 | C85: 6 | D85: 17 | E85: B0000071 | F85: 存续 | H85: 刘晓艳 | I85: ZKZX34000870 | J85: 围产期造血干细胞 | K85: 否 | L85: 亳州区域 | M85: 利辛县人民医院 | N85: 趸交 | O85: 2026年6月17日09时26分 | P85: 22880 | Q85: 22880 | R85: 22880 | V85: 2026年6月17日13时09分05秒转账2000元，6月18日15:50:12付20880元 | X85: =P85-R85 -> 0 | AX85: 赵文静 | AY85: 张颖 | AZ85: 快递 | BA85: 月结
B86: 2026 | C86: 6 | D86: 18 | F86: 废弃 | H86: 司秀兰 | I86: ZKZX34000909 | J86: 围产期造血干细胞 | K86: 否 | L86: 亳州区域 | M86: 利辛县人民医院 | N86: 定金 | O86: 2026年6月18日10时28分 | Q86: 1000 | V86: 2026年6月18日16时29分27秒1000元 | AX86: 赵文静 | AY86: 张颖 | AZ86: 快递 | BA86: 月结
B87: 2026 | C87: 6 | D87: 29 | F87: 退存 | G87: 悔存 | H87: 邓敏 | I87: ZKZX34000930 | J87: 围产期造血干细胞 | K87: 否 | L87: 亳州区域 | M87: 涡阳县人民医院 | O87: 2026年6月29日08时59分 | P87: 25880 | Q87: 6480 | V87: 2026年6月29日08时29分15秒 | AX87: 杨莉莉 | AY87: 张颖 | AZ87: 顺风车 | BA87: 100
A88: 1 | B88: 2026 | C88: 7 | D88: 2 | F88: 存续 | H88: 崔兰兰 | I88: ZKZX34000887 | J88: 围产期造血干细胞 | K88: 否 | L88: 亳州区域 | M88: 涡阳县人民医院 | N88: 分期 | O88: 2026年7月2日12时11分 | P88: 25880 | Q88: 6480 | R88: 6480 | V88: 2026年7月2日13时24分05秒 | AX88: 杨莉莉 | AY88: 张颖 | AZ88: 快递 | BA88: 月结
A89: 2 | B89: 2026 | C89: 7 | D89: 3 | F89: 存续 | H89: 刘影 | I89: ZKZX34000929 | J89: 围产期造血干细胞 | K89: 否 | L89: 亳州区域 | M89: 涡阳县人民医院 | N89: 趸交 | O89: 2026年7月3日09时06分 | P89: 22880 | Q89: 22880 | R89: 22880 | V89: 2026年7月3日08时11分26秒付6480元，7月5日08:57:17付16400 | AX89: 马丽 | AY89: 张颖 | AZ89: 顺风车 | BA89: 100
A90: 3 | B90: 2026 | C90: 7 | D90: 3 | F90: 存续 | H90: 张倩文 | I90: ZKZX34000951 | J90: 围产期造血干细胞 | K90: 是 | L90: 合肥区域 | M90: 安徽医科大学第一附属医院高新院区 | N90: 趸交 | O90: 20206年7月3日20时02分 | P90: 22800 | Q90: 22800 | R90: 22800 | V90: 2026年7月16日10时36分33秒 | AX90: 领导推荐 | AZ90: 开车
A91: 4 | B91: 2026 | C91: 7 | D91: 3 | F91: 存续 | H91: 张倩文 | I91: ZKQD34000875 | J91: 脐带间充质干细胞 | K91: 是 | L91: 合肥区域 | M91: 安徽医科大学第一附属医院高新院区 | N91: 趸交 | O91: 2026年7月3日20时05分 | P91: 15000 | Q91: 15000 | R91: 15000 | V91: 2026年7月16日10时36分33秒 | AX91: 领导推荐 | AZ91: 开车
B92: 2026 | C92: 7 | D92: 5 | F92: 退存 | G92: 乙肝阳性 | H92: 李影 | I92: ZKZX34000956 | J92: 围产期造血干细胞 | K92: 否 | L92: 亳州区域 | M92: 涡阳县人民医院 | N92: 分期 | O92: 2026年7月5日13时00分 | P92: 25880 | Q92: 6480 | R92: 6480 | V92: 2026年7月5日11时19分37秒1000元2026年7月5日13时32分17秒5480元， | AX92: 马丽 | AY92: 张颖 | AZ92: 快递 | BA92: 月结
A93: 5 | B93: 2026 | C93: 7 | D93: 6 | F93: 存续 | H93: 吕田甜 | I93: ZKZX34000911 | J93: 围产期造血干细胞 | K93: 否 | L93: 亳州区域 | M93: 利辛县人民医院 | N93: 分期 | O93: 2026年7月6日13时59分 | P93: 25880 | Q93: 6480 | R93: 6480 | V93: 2026年7月6日10时39分53秒1000元，14点31分58秒5480元 | AX93: 赵文静 | AY93: 张颖 | AZ93: 快递 | BA93: 月结
A94: 6 | B94: 2026 | C94: 7 | D94: 15 | F94: 存续 | H94: 陈若惜 | I94: ZKZX34000908 | J94: 围产期造血干细胞 | K94: 否 | L94: 亳州区域 | M94: 利辛县人民医院 | N94: 分期 | O94: 2026年7月15日10时25分 | P94: 25880 | Q94: 6480 | R94: 6480 | V94: 2026年7月15日11时18分22秒6480 | AX94: 赵文静 | AY94: 张颖 | AZ94: 快递 | BA94: 月结
A95: 7 | B95: 2026 | C95: 7 | D95: 16 | F95: 存续 | H95: 董佳利 | I95: ZKZX34000954 | J95: 围产期造血干细胞 | K95: 否 | L95: 亳州区域 | M95: 涡阳县人民医院 | N95: 分期 | O95: 2026年7月16日09时01分 | P95: 25880 | Q95: 6480 | R95: 3000 | V95: 2026年7月16日10时43分04秒3000元，7月20日08:48:31付3480元 | AX95: 马丽 | AY95: 张颖 | AZ95: 顺风车 | BA95: 100
A96: 8 | B96: 2026 | C96: 7 | D96: 18 | F96: 存续 | H96: 慕芳 | I96: ZKZX34000953 | J96: 围产期造血干细胞 | K96: 否 | L96: 亳州区域 | M96: 涡阳县人民医院 | N96: 分期 | O96: 2026年7月18日14时17分 | P96: 25880 | Q96: 6480 | R96: 6480 | V96: 2026年7月18日15时48分27秒 | AX96: 杨莉莉 | AY96: 张颖 | AZ96: 快递 | BA96: 月结

Sheet 客户服务管理
A1: 实验室流转编码 | B1: 储存状态 | C1: 序号 | D1: 发送日期 | E1: 短信发送 情况 | F1: 协议编号 | G1: 母亲姓名 | H1: 母亲电话 | I1: 母亲身份证号码 | J1: 父亲姓名 | K1: 父亲电话 | L1: 父亲身份证号码 | M1: 回访日期 | N1: 微生物 回访情况 | O1: 满月 回访时间 | P1: 回访情况 | Q1: 是否 上户口 | R1: 宝宝姓名 | S1: 宝宝身份证号码 | T1: 性别 | U1: 分娩时间 | V1: 购买保险时间 | W1: 保单发送时间 | X1: 电子发票 发送时间 | Y1: 邮寄储存证时间 | Z1: 有效地址 | AA1: 市场专员 | AB1: 缴费方式 | AC1: 备注 | AD1: 协议书 | AE1: 保险单 | AF1: 知情同意书 | AG1: 健康调查表
A2: =样本采集管理!E2 -> B0000001 | B2: =样本采集管理!#REF! -> #REF! | D2: / | E2: / | F2: =样本采集管理!G2 -> 0 | G2: =样本采集管理!F2 -> 王晴晴 | T2: 女 | U2: 2025年9月7日13时45分 | AA2: =样本采集管理!O2 -> 马丽 | AB2: =样本采集管理!M2 -> 分期 | AD2: 0 | AE2: 0 | AF2: 1 | AG2: 1
A3: =样本采集管理!E3 -> B0000002 | B3: =样本采集管理!#REF! -> #REF! | C3: 1 | D3: 45908 | E3: / | F3: =样本采集管理!G3 -> ZKZX34000852 | G3: =样本采集管理!F3 -> 高居巧 | H3: 17860507206 | I3: 370911199712254424 | J3: 潘苗苗 | K3: 17860507206 | L3: 341223199906151717 | M3: 45919 | N3: 回访成功 | O3: 45946 | P3: 无人接听 | Q3: 是 | R3: 潘翊可 | S3: 370911202509074422 | T3: 女 | U3: 2025年9月7日15时36分 | V3: 45987 | W3: 46003 | X3: 45957 | Y3: 46007 | Z3: 安徽省涡阳县临涡安置小区5栋102室 | AA3: =样本采集管理!O3 -> 杨莉莉 | AB3: =样本采集管理!M3 -> 趸交 | AD3: 1 | AE3: 0 | AF3: 1 | AG3: 1
A4: =样本采集管理!E4 -> B0000003 | B4: =样本采集管理!#REF! -> #REF! | C4: 2 | D4: 45908 | E4: / | F4: =样本采集管理!G4 -> ZKZX34000850 | G4: =样本采集管理!F4 -> 徐嫣然 | H4: 15256086465 | I4: 341223199602142125 | J4: 刘强强 | L4: 34122319961021191X | M4: 45919 | N4: 无人接听 | O4: 45946 | P4: 回访成功 | Q4: 是 | R4: 刘一鸣 | S4: 341621202509081915 | T4: 男 | U4: 2025年9月8日15时41分 | V4: 45987 | W4: 46003 | X4: 45957 | Y4: 46007 | Z4: 安徽省涡阳县曹市镇徐楼行政村 | AA4: =样本采集管理!O4 -> 马丽 | AB4: =样本采集管理!M4 -> 分改趸 | AD4: 1 | AE4: 0 | AF4: 1 | AG4: 1
A5: =样本采集管理!E5 -> B0000004 | B5: =样本采集管理!#REF! -> #REF! | C5: 3 | D5: 45916 | E5: / | F5: =样本采集管理!G5 -> ZKZX34000849 | G5: =样本采集管理!F5 -> 郭梦朵 | H5: 18768571476 | I5: 34162120031101112X | J5: 马云瑞 | K5: 18756790377 | L5: 341223200112103516 | M5: =D5+8 -> 45924 | N5: 回访成功 | O5: =D5+31 -> 45947 | P5: 回访成功 | Q5: 是 | R5: 马沐恩 | S5: 341621202509153528 | T5: 女 | U5: 2025年9月15日08时50分 | V5: 45987 | W5: 46003 | X5: 45957 | Y5: 46007 | Z5: 安徽省亳州市涡阳县涡南镇 | AA5: =样本采集管理!O5 -> 马丽 | AB5: =样本采集管理!M5 -> 趸交 | AD5: 1 | AE5: 0 | AF5: 1 | AG5: 1
A6: =样本采集管理!E6 -> B0000005 | B6: =样本采集管理!#REF! -> #REF! | D6: 45919 | E6: 已发 | F6: =样本采集管理!G6 -> ZKZX34000859 | G6: =样本采集管理!F6 -> 魏星月 | H6: 19565821258 | M6: =D6+8 -> 45927 | O6: =D6+31 -> 45950 | T6: 男 | U6: 2025年9月18日16时09分 | AA6: =样本采集管理!O6 -> 杨莉莉 | AB6: =样本采集管理!M6 -> 定金 | AD6: 1 | AE6: 0 | AF6: 1 | AG6: 1
A7: =样本采集管理!E7 -> B0000006 | B7: =样本采集管理!#REF! -> #REF! | C7: 4 | D7: 45922 | E7: 已发 | F7: =样本采集管理!G7 -> ZKZX34000858 | G7: =样本采集管理!F7 -> 相晓燕 | H7: 17756838439 | I7: 341621199212164723 | J7: 焦新辰 | L7: 341223199108052730 | M7: =D7+8 -> 45930 | N7: 回访成功 | O7: =D7+31 -> 45953 | P7: 回访成功 | Q7: 是 | R7: 焦景芸 | S7: 341621202509212727 | T7: 女 | U7: 2025年9月21日16时20分 | V7: 45987 | W7: 46003 | X7: 45957 | Y7: 46007 | Z7: 安徽省亳州市涡阳县御花园小区 | AA7: =样本采集管理!O7 -> 杨莉莉 | AB7: =样本采集管理!M7 -> 趸交 | AD7: 1 | AE7: 0 | AF7: 1 | AG7: 1
A8: =样本采集管理!E8 -> B0000007 | B8: =样本采集管理!#REF! -> #REF! | D8: 45927 | E8: 已发 | F8: =样本采集管理!G8 -> ZKZX34000839 | G8: =样本采集管理!F8 -> 邵悦 | J8: 赵威 | K8: 18132899876 | M8: =D8+8 -> 45935 | O8: =D8+31 -> 45958 | T8: 男 | U8: 2025年9月27日12时55分 | AA8: =样本采集管理!O8 -> 张慧茹 | AB8: =样本采集管理!M8 -> 分期 | AC8: 有事情联系宝爸 宝妈不同意储存 | AD8: 1 | AE8: 0 | AF8: 1 | AG8: 1
A9: =样本采集管理!E9 -> B0000008 | B9: =样本采集管理!#REF! -> #REF! | C9: 1 | D9: 45940 | E9: 已发 | F9: =样本采集管理!G9 -> ZKZX34000854 | G9: =样本采集管理!F9 -> 尹璐 | H9: 13696590159 | I9: 341223199410080265 | J9: 张豪 | K9: 13296619295 | L9: 341223199306164311 | M9: =D9+8 -> 45948 | N9: 回访成功 | O9: =D9+31 -> 45971 | P9: 微信通知 | Q9: 是 | R9: 尹彰熠 | S9: 420102202510104013 | T9: 男 | U9: 2025年10月10日18时30分 | V9: 45987 | W9: 46003 | X9: 45992 | Y9: 46037 | Z9: 安徽省亳州市涡阳县万象城小区 | AA9: =样本采集管理!O9 -> 马丽 | AB9: =样本采集管理!M9 -> 趸交 | AC9: 有事情联系宝爸 宝妈不同意储存 | AD9: 1 | AE9: 0 | AF9: 1 | AG9: 1
A10: =样本采集管理!E10 -> B0000009 | B10: =样本采集管理!#REF! -> #REF! | C10: 2 | D10: 45942 | E10: 已发 | F10: =样本采集管理!G10 -> ZKZX34000830 | G10: =样本采集管理!F10 -> 周盼盼 | H10: 15551537770 | I10: 341281198711251047 | J10: 李海涛 | K10: 18610868888 | L10: 34128119840112689X | M10: =D10+8 -> 45950 | N10: 回访成功 | O10: =D10+31 -> 45973 | P10: 挂机 | Q10: 是 | R10: 李子潼 | S10: 341602202510121022 | T10: 女 | U10: 2025年10月12日11时12分 | V10: 45987 | W10: 46003 | X10: 45992 | Y10: 46037 | Z10: 安徽省亳州市碧桂园江山赋26栋2单元1004室 | AA10: =样本采集管理!O10 -> 孙恒利 | AB10: =样本采集管理!M10 -> 趸交 | AC10: 联系宝爸 | AD10: 1 | AE10: 0 | AF10: 1 | AG10: 1
A11: =样本采集管理!E11 -> B0000010 | B11: =样本采集管理!#REF! -> #REF! | C11: 3 | D11: 45942 | E11: 已发 | F11: =样本采集管理!G11 -> ZKZX34000838 | G11: =样本采集管理!F11 -> 董丽娟 | H11: 15255916531 | I11: 341227199309030728 | J11: 王龙 | K11: 15255918818 | L11: 341227199602074834 | M11: =D11+8 -> 45950 | N11: 回访成功 | O11: =D11+31 -> 45973 | P11: 回访成功 | Q11: 是 | R11: 王晓雨 | S11: 341623202510124823 | T11: 女 | U11: 2025年10月12日18时06分 | V11: 45987 | W11: 46003 | X11: 45992 | Y11: 46037 | Z11: 安徽省亳州市利辛县向阳路酒厂家属院 | AA11: =样本采集管理!O11 -> 赵文静 | AB11: =样本采集管理!M11 -> 分期 | AD11: 1 | AE11: 0 | AF11: 1 | AG11: 1
A12: =样本采集管理!E12 -> B0000011 | B12: =样本采集管理!#REF! -> #REF! | C12: 4 | D12: 45945 | E12: 已发 | F12: =样本采集管理!G12 -> ZKZX34000840 | G12: =样本采集管理!F12 -> 郑慧敏 | H12: 13731814428 | I12: 341223199210161765 | J12: 王洺浩 | K12: 18297396326 | L12: 341223198704024934 | M12: =D12+8 -> 45953 | N12: 回访成功 | O12: =D12+31 -> 45976 | P12: 回访成功 | Q12: 是 | R12: 王瑜涵 | S12: 341621202510156822 | T12: 女 | U12: 2025年10月15日10时08分 | V12: 45987 | W12: 46003 | X12: 45992 | Y12: 46037 | Z12: 安徽省亳州市涡阳县石工镇邮电局东20米王侠生活超市 | AA12: =样本采集管理!O12 -> 张慧茹 | AB12: =样本采集管理!M12 -> 分期 | AC12: 联系宝爸 | AD12: 1 | AE12: 0 | AF12: 1 | AG12: 1
A13: =样本采集管理!E13 -> B0000012 | B13: =样本采集管理!#REF! -> #REF! | D13: 45946 | E13: 已发 | F13: =样本采集管理!G13 -> ZKZX34000848 | G13: =样本采集管理!F13 -> 马晓艳 | H13: 15675599996 | M13: =D13+8 -> 45954 | O13: =D13+31 -> 45977 | T13: 女 | U13: 2025年10月16日16时40分 | AA13: =样本采集管理!O13 -> 杨莉莉 | AB13: =样本采集管理!M13 -> 定金 | AD13: 1 | AE13: 0 | AF13: 1 | AG13: 1
A14: =样本采集管理!E14 -> B0000013 | B14: =样本采集管理!#REF! -> #REF! | C14: 5 | D14: 45950 | E14: 已发 | F14: =样本采集管理!G14 -> ZKZX34000855 | G14: =样本采集管理!F14 -> 桂仪 | H14: 18824709831 | I14: 341224199410178226 | J14: 盛哲 | K14: 15256769995 | L14: 341223199403060012 | M14: =D14+8 -> 45958 | N14: 回访成功 | O14: 45982 | P14: 回访成功 | Q14: 是 | R14: 盛鼎 | S14: 341621202510205719 | T14: 男 | U14: 2025年10月20日16时05分 | V14: 45987 | W14: 46003 | X14: 45992 | Y14: 46037 | Z14: 安徽省涡阳县城关街道东环路棉麻公司家属院5栋二单元 | AA14: =样本采集管理!O14 -> 杨莉莉 | AB14: =样本采集管理!M14 -> 分改趸 | AD14: 1 | AE14: 0 | AF14: 1 | AG14: 1
A15: =样本采集管理!E15 -> B0000014 | B15: =样本采集管理!#REF! -> #REF! | C15: 6 | D15: 45959 | E15: 已发 | F15: =样本采集管理!G15 -> ZKZX34000846 | G15: =样本采集管理!F15 -> 马子怡 | H15: 15256744391 | I15: 341621200507231722 | J15: 汤帅 | L15: 341223199706140511 | M15: =D15+8 -> 45967 | N15: 挂机 | O15: =D15+31 -> 45990 | P15: 回访成功 | Q15: 是 | R15: 汤铭泽 | S15: 341621202510291717 | T15: 男 | U15: 2025年10月29日10时47分 | V15: 46017 | W15: 46021 | X15: 45992 | Y15: 46037 | Z15: 安徽省合肥市涡阳县星园街道汤俊宏达加油站 | AA15: =样本采集管理!O15 -> 马丽 | AB15: =样本采集管理!M15 -> 趸交 | AD15: 1 | AE15: 0 | AF15: 0 | AG15: 0
A16: =样本采集管理!E16 -> B0000015 | B16: =样本采集管理!#REF! -> #REF! | C16: 1 | D16: 45962 | E16: 已发 | F16: =样本采集管理!G16 -> ZKZX34000868 | G16: =样本采集管理!F16 -> 李美芳 | H16: 13349179628 | I16: 342130198308024026 | J16: 张海法 | K16: 13399673012 | L16: 341227198203273719 | M16: =D16+8 -> 45970 | N16: 回访成功 | O16: =D16+31 -> 45993 | P16: 回访成功 | Q16: 是 | R16: 张庆泽 | S16: 341623202511013711 | T16: 男 | U16: 2025年11月1日10时16分 | V16: 46017 | W16: 46021 | X16: 46055 | Y16: 46037 | Z16: 安徽省亳州市利辛县孙庙乡群堂村张沟庄20-1号 | AA16: =样本采集管理!O16 -> 赵文静 | AB16: =样本采集管理!M16 -> 分期 | AD16: 1 | AE16: 0 | AF16: 1 | AG16: 1
A17: =样本采集管理!E17 -> B0000016 | B17: =样本采集管理!#REF! -> #REF! | C17: 2 | D17: 45962 | E17: 已发 | F17: =样本采集管理!G17 -> ZKZX34000842 | G17: =样本采集管理!F17 -> 邓诗婷 | H17: 15215678593 | I17: 341621200111220728 | J17: 陆振 | K17: 15209894192 | L17: 341621200102171936 | M17: =D17+8 -> 45970 | N17: 回访成功 | O17: =D17+31 -> 45993 | P17: 回访成功 | Q17: 是 | R17: 陆屿珩 | S17: 341621202511011959 | T17: 男 | U17: 2025年11月1日11时56分 | V17: 46017 | W17: 46021 | X17: 46055 | Y17: 46037 | Z17: 安徽省亳州市涡阳县高炉镇 | AA17: =样本采集管理!O17 -> 张慧茹 | AB17: =样本采集管理!M17 -> 趸交 | AD17: 1 | AE17: 0 | AF17: 1 | AG17: 1
A18: =样本采集管理!E18 -> B0000017 | B18: =样本采集管理!#REF! -> #REF! | D18: 45975 | F18: =样本采集管理!G18 -> ZKZX34000841 | G18: =样本采集管理!F18 -> 杨薇薇 | K18: 18119981994 | M18: =D18+8 -> 45983 | O18: =D18+31 -> 46006 | T18: 男 | U18: 2025年11月1日17时50分 | AA18: =样本采集管理!O18 -> 张慧茹 | AB18: =样本采集管理!M18 -> 趸交 | AD18: 1 | AE18: 0 | AF18: 1 | AG18: 1
A19: =样本采集管理!E19 -> B0000018 | B19: =样本采集管理!#REF! -> #REF! | C19: 3 | D19: 45979 | E19: 已发 | F19: =样本采集管理!G19 -> ZKZX34000871 | G19: =样本采集管理!F19 -> 时斯宇 | H19: 15956799920 | I19: 341223199605100940 | J19: 尹航 | L19: 341621199402280215 | M19: =D19+8 -> 45987 | N19: 回访成功 | O19: =D19+31 -> 46010 | P19: 回访成功 | Q19: 是 | R19: 尹宥安 | S19: 341621202511185713 | T19: 男 | U19: 2025年11月18日16时09分 | V19: 46017 | W19: 46021 | X19: 46055 | Y19: 46037 | Z19: 安徽省涡阳县星园街道左岸小镇D16栋二单元605 | AA19: =样本采集管理!O19 -> 杨莉莉 | AB19: =样本采集管理!M19 -> 分期 | AD19: 1 | AF19: 1 | AG19: 1
A20: =样本采集管理!E20 -> B0000019 | B20: =样本采集管理!#REF! -> #REF! | C20: 4 | D20: 45980 | E20: 已发 | F20: =样本采集管理!G20 -> ZKZX34000856 | G20: =样本采集管理!F20 -> 席三改 | H20: 18795951161 | I20: 341223198701061721 | J20: 杨林林 | L20: 341223198910041997 | M20: =D20+8 -> 45988 | N20: 回访成功 | O20: =D20+31 -> 46011 | P20: 回访成功 | Q20: 是 | R20: 杨沐瑶 | S20: 341621202511191929 | T20: 女 | U20: 2025年11月19日08时53分 | V20: 46017 | W20: 46021 | X20: 46055 | Y20: 46037 | Z20: 安徽省亳州市涡阳县高炉镇杨楼自然村313号 | AA20: =样本采集管理!O20 -> 马丽 | AB20: =样本采集管理!M20 -> 分期 | AC20: 优先联系宝爸 | AD20: 1 | AF20: 1 | AG20: 1
A21: =样本采集管理!E21 -> BC0000003 | B21: =样本采集管理!#REF! -> #REF! | C21: 5 | D21: 45986 | E21: 已发 | F21: =样本采集管理!G21 -> ZKQD34000831 | G21: =样本采集管理!F21 -> 牛晨晨 | H21: 13075010733 | I21: 341621200112301941 | J21: 高乾乾 | L21: 34162120020119173X | M21: =D21+8 -> 45994 | N21: 回访成功 | O21: =D21+34 -> 46020 | P21: 回访成功 | Q21: 是 | R21: 高诗悦 | S21: 341621202511251725 | T21: 女 | U21: 2025年11月25日15时48分 | V21: 46023 | W21: 46023 | X21: 46055 | Y21: 46132 | Z21: 安徽省亳州市涡阳县星园街道星港城兰桂园 | AA21: =样本采集管理!O21 -> 张慧茹 | AB21: =样本采集管理!M21 -> 趸交 | AD21: 1 | AF21: 1 | AG21: 1
A22: =样本采集管理!E22 -> B0000020 | B22: =样本采集管理!#REF! -> #REF! | C22: 1 | D22: 45996 | E22: 已发 | F22: =样本采集管理!G22 -> ZKZX34000875 | G22: =样本采集管理!F22 -> 张连英 | H22: 18355901252 | I22: 341621198608105143 | J22: 马冰冰 | L22: 341223198511145115 | M22: =D22+8 -> 46004 | N22: 回访成功 | O22: =D22+31 -> 46027 | P22: 回访成功 | Q22: 是 | T22: 男 | U22: 2025年12月2日14时02分 | Z22: 安徽省亳州市涡阳县巨人印象小区 | AA22: =样本采集管理!O22 -> 杨莉莉 | AB22: =样本采集管理!M22 -> 分期 | AD22: 1 | AF22: 1 | AG22: 1
A23: =样本采集管理!E23 -> B0000021 | B23: =样本采集管理!#REF! -> #REF! | C23: 2 | D23: 45996 | E23: 已发 | F23: =样本采集管理!G23 -> ZKZX34000860 | G23: =样本采集管理!F23 -> 左燕丽 | I23: 341223198507064929 | J23: 罗亮亮 | K23: 15026666460 | L23: 341223198509294912 | M23: =D23+8 -> 46004 | N23: 回访成功 | O23: =D23+31 -> 46027 | P23: 回访成功 | Q23: 是 | R23: 罗文玥 | S23: 341621202512026829 | T23: 女 | U23: 2025年12月2日14时30分 | V23: 46023 | W23: 46023 | X23: 46055 | Y23: 46091 | Z23: 安徽省亳州市涡阳县状元府小区 | AA23: =样本采集管理!O23 -> 马丽 | AB23: =样本采集管理!M23 -> 分期 | AD23: 1 | AF23: 1 | AG23: 1
A24: =样本采集管理!E24 -> B0000022 | B24: =样本采集管理!#REF! -> #REF! | D24: 45995 | E24: 已发 | F24: =样本采集管理!G24 -> ZKZX34000896 | G24: =样本采集管理!F24 -> 毛静静 | H24: 18005516258 | I24: 341226199005171562 | J24: 孙鹏中 | K24: 18356024613 | L24: 410329198812117119 | M24: =D24+8 -> 46003 | N24: 回访成功 | O24: =D24+31 -> 46026 | T24: 男 | U24: 2025年12月4日17时50分 | AA24: =样本采集管理!O24 -> 0 | AB24: =样本采集管理!M24 -> 0 | AF24: 1 | AG24: 1
A25: =样本采集管理!E25 -> BC0000004 | B25: =样本采集管理!#REF! -> #REF! | D25: 45995 | E25: 已发 | F25: =样本采集管理!G25 -> ZKQD34000839 | G25: =样本采集管理!F25 -> 毛静静 | H25: 18005516258 | I25: 341226199005171562 | J25: 孙鹏中 | K25: 18356024613 | L25: 410329198812117119 | M25: =D25+8 -> 46003 | N25: 回访成功 | O25: =D25+31 -> 46026 | T25: 男 | U25: 2025年12月4日17时50分 | AA25: =样本采集管理!O25 -> 0 | AB25: =样本采集管理!M25 -> 0 | AF25: 1 | AG25: 1
A26: =样本采集管理!E26 -> B0000023 | B26: =样本采集管理!#REF! -> #REF! | C26: 3 | D26: 46000 | E26: 已发 | F26: =样本采集管理!G26 -> ZKZX34000874 | G26: =样本采集管理!F26 -> 龚杰敏 | H26: 17672680191 | I26: 34122319871016356X | J26: 程雷雷 | K26: 18255809917 | L26: 612501199203166319 | M26: =D26+8 -> 46008 | N26: 回访成功 | O26: =D26+31 -> 46031 | P26: 回访成功 | Q26: 是 | R26: 程苡沫 | S26: 611002202512074429 | T26: 女 | U26: 2025年12月7日09时46分 | V26: 46017 | W26: 46021 | X26: 46084 | Y26: 46091 | Z26: 安徽省亳州市涡阳县李马小区 | AA26: =样本采集管理!O26 -> 杨莉莉 | AB26: =样本采集管理!M26 -> 分期 | AD26: 1 | AF26: 1 | AG26: 1
A27: =样本采集管理!E27 -> B0000024 | B27: =样本采集管理!#REF! -> #REF! | C27: 4 | D27: 46000 | E27: 已发 | F27: =样本采集管理!G27 -> ZKZX34000872 | G27: =样本采集管理!F27 -> 刘亚梅 | H27: 18759983538 | I27: 341621199202024321 | J27: 张顺 | L27: 340621199305025633 | M27: =D27+8 -> 46008 | N27: 回访成功 | O27: =D27+31 -> 46031 | P27: 回访成功 | Q27: 是 | R27: 张明琦 | S27: 340621202512070044 | T27: 女 | U27: 2025年12月7日11时00分 | V27: 46050 | W27: 46055 | X27: 46084 | Y27: 46091 | Z27: 安徽省亳州市涡阳县碧桂园小区 | AA27: =样本采集管理!O27 -> 马丽 | AB27: =样本采集管理!M27 -> 趸交 | AD27: 1 | AF27: 1 | AG27: 1
A28: =样本采集管理!E28 -> B0000025 | B28: =样本采集管理!#REF! -> #REF! | C28: 5 | D28: 46000 | E28: 已发 | F28: =样本采集管理!G28 -> ZKZX34000851 | G28: =样本采集管理!F28 -> 付慧茹 | H28: 17681352537 | I28: 341621199903073169 | J28: 侯敬 | K28: 17681359635 | L28: 341621199906105111 | M28: =D28+8 -> 46008 | N28: 回访成功 | O28: =D28+31 -> 46031 | P28: 回访成功 | Q28: 是 | R28: 侯云晧 | S28: 341621202512087234 | T28: 男 | U28: 2025年12月8日08时51分 | V28: 46050 | W28: 46055 | X28: 46084 | Y28: 46091 | Z28: 安徽省亳州市涡阳县侯老营村 | AA28: =样本采集管理!O28 -> 杨莉莉 | AB28: =样本采集管理!M28 -> 趸交 | AD28: 1 | AF28: 1 | AG28: 1
A29: =样本采集管理!E29 -> B0000026 | B29: =样本采集管理!#REF! -> #REF! | C29: 6 | D29: 46002 | E29: 已发 | F29: =样本采集管理!G29 -> ZKZX34000882 | G29: =样本采集管理!F29 -> 李辰 | H29: 13966886556 | I29: 341223198810110027 | J29: 蒋琳珺 | K29: 17756760838 | L29: 341223198610130015 | M29: =D29+8 -> 46010 | N29: 回访成功 | O29: =D29+31 -> 46033 | P29: 回访成功 | Q29: 是 | R29: 李承泽 | S29: 341621202512110115 | T29: 男 | U29: 2025年12月11日09时16分 | V29: 46050 | W29: 46055 | X29: 46084 | Y29: 46091 | Z29: 安徽省亳州市涡阳县东环路盐业家属院 | AA29: =样本采集管理!O29 -> 马丽 | AB29: =样本采集管理!M29 -> 趸交 | AD29: 1 | AF29: 1 | AG29: 1
A30: =样本采集管理!E30 -> B0000027 | B30: =样本采集管理!#REF! -> #REF! | C30: 7 | D30: 46005 | E30: 已发 | F30: =样本采集管理!G30 -> ZKZX34000843 | G30: =样本采集管理!F30 -> 尹菱惜 | H30: 19032856884 | I30: 360427201005202029 | J30: 刘世轩 | K30: 15256768347 | L30: 341621200904174717 | M30: =D30+8 -> 46013 | N30: 回访成功 | O30: =D30+31 -> 46036 | P30: 回访成功 | Q30: 是 | R30: 刘怀谦 | S30: 341621202512140031 | T30: 男 | U30: 2025年12月14日20点37分 | V30: 46050 | W30: 46055 | X30: 46055 | Y30: 46091 | Z30: 安徽省亳州市涡阳县丹城镇刘尤村 | AA30: =样本采集管理!O30 -> 张慧茹 | AB30: =样本采集管理!M30 -> 趸交 | AD30: 1 | AF30: 1 | AG30: 1
A31: =样本采集管理!E31 -> B0000028 | B31: =样本采集管理!#REF! -> #REF! | C31: 8 | D31: 46007 | E31: 已发 | F31: =样本采集管理!G31 -> ZKZX34000853 | G31: =样本采集管理!F31 -> 邓真 | H31: 13856802009 | I31: 341621198704182923 | J31: 单晓泽 | K31: 13856802009 | L31: 341223198507100715 | M31: =D31+8 -> 46015 | N31: 回访成功 | O31: =D31+31 -> 46038 | P31: 回访成功 | Q31: 是 | R31: 单昕然 | S31: 341621202512150168 | T31: 男 | U31: 2025年12月14日20点37分 | V31: 46050 | W31: 46055 | X31: 46127 | Y31: 46091 | Z31: 安徽省亳州市涡阳县碧桂园公园天下9栋903室 | AA31: =样本采集管理!O31 -> 杨莉莉 | AB31: =样本采集管理!M31 -> 趸交 | AD31: 1 | AF31: 1 | AG31: 1
A32: =样本采集管理!E32 -> B0000029 | B32: =样本采集管理!#REF! -> #REF! | C32: 9 | D32: 46007 | E32: 已发 | F32: =样本采集管理!G32 -> ZKZX34000831 | G32: =样本采集管理!F32 -> 张肖晴 | H32: 19965938351 | I32: 34160219970512582X | J32: 石云飞 | K32: 15555291116 | L32: 341600199810025871 | M32: =D32+8 -> 46015 | N32: 回访成功 | O32: =D32+31 -> 46038 | P32: 回访成功 | Q32: 是 | R32: 石玖悦 | S32: 34160220251215002X | T32: 女 | U32: 2025年12月15日15时23分 | V32: 46050 | W32: 46055 | X32: 46127 | Y32: 46082 | Z32: 安徽省亳州市谯城区谯车镇石大营行政村石大营村24号 | AA32: =样本采集管理!O32 -> 孙恒利 | AB32: =样本采集管理!M32 -> 分期 | AD32: 1 | AG32: 1
A33: =样本采集管理!E33 -> B0000030 | B33: =样本采集管理!#REF! -> #REF! | C33: 10 | D33: 46007 | E33: 已发 | F33: =样本采集管理!G33 -> ZKZX34000886 | G33: =样本采集管理!F33 -> 马庆敏 | H33: 18226119601 | I33: 341621199101093520 | J33: 张南南 | K33: 18226119421 | L33: 34122319920406095X | M33: =D33+13 -> 46020 | N33: 回访成功 | O33: =D33+31 -> 46038 | P33: 回访成功 | Q33: 是 | R33: 张语轩 | S33: 341621202512160091 | T33: 男 | U33: 2025年12月16日09时51分 | V33: 46050 | W33: 46055 | X33: 46127 | Y33: 46091 | Z33: 安徽省亳州市涡阳县巨人小区 | AA33: =样本采集管理!O33 -> 马丽 | AB33: =样本采集管理!M33 -> 趸交 | AD33: 1 | AF33: 1 | AG33: 1
A34: =样本采集管理!E34 -> B0000031 | B34: =样本采集管理!#REF! -> #REF! | C34: 11 | D34: 46010 | E34: 已发 | F34: =样本采集管理!G34 -> ZKZX34000847 | G34: =样本采集管理!F34 -> 梁雨晴 | H34: 13156750817 | I34: 341621199102070080 | J34: 马云龙 | K34: 13156750817 | L34: 34122719910511265X | M34: =D34+8 -> 46018 | N34: 回访成功 | O34: =D34+31 -> 46041 | P34: 回访成功 | Q34: 是 | R34: 马知沐 | S34: 341621202512190063 | T34: 女 | U34: 2025年12月19日12时19分 | V34: 46109 | W34: 46127 | X34: 46127 | Y34: 46132 | Z34: 安徽省亳州市涡阳县紫光大道利群雅苑 | AA34: =样本采集管理!O34 -> 杨莉莉 | AB34: =样本采集管理!M34 -> 分期 | AD34: 1 | AF34: 1 | AG34: 1
A35: =样本采集管理!E35 -> 0 | B35: =样本采集管理!#REF! -> #REF! | F35: =样本采集管理!G35 -> ZKZX34000873 | G35: =样本采集管理!F35 -> 张璐璐 | M35: =D35+8 -> 8 | O35: =D35+31 -> 31 | AA35: =样本采集管理!O35 -> 马丽 | AB35: =样本采集管理!M35 -> 分期
A36: =样本采集管理!E36 -> B0000032 | B36: =样本采集管理!#REF! -> #REF! | C36: 12 | D36: 46016 | E36: 已发 | F36: =样本采集管理!G36 -> ZKZX34000837 | G36: =样本采集管理!F36 -> 李文婷 | H36: 18226072322 | I36: 341227198905133745 | J36: 孙鹏举 | K36: 15855889987 | L36: 341227198907110010 | M36: =D36+8 -> 46024 | N36: 回访成功 | O36: =D36+31 -> 46047 | P36: 回访成功 | Q36: 是 | R36: 孙加昕 | S36: 341623202512240262 | T36: 女 | U36: 2025年12月24日16时41分 | V36: 46109 | W36: 45762 | X36: 46055 | Y36: 46132 | Z36: 安徽省利辛县城关镇五一路8号49户 | AA36: =样本采集管理!O36 -> 赵文静 | AB36: =样本采集管理!M36 -> 趸交 | AD36: 1 | AF36: 1 | AG36: 1
A37: =样本采集管理!E37 -> B0000033 | B37: =样本采集管理!#REF! -> #REF! | C37: 13 | D37: 46017 | E37: 已发 | F37: =样本采集管理!G37 -> ZKZX34000845 | G37: =样本采集管理!F37 -> 姜平 | H37: 15385225637 | I37: 341223199810024342 | J37: 董云飞 | K37: 18924565585 | L37: 341621199604210514 | M37: =D37+8 -> 46025 | N37: 回访成功 | O37: =D37+31 -> 46048 | P37: 回访成功 | Q37: 否 | T37: 女 | U37: 2025年12月25日12时20分 | X37: 已开具 | Z37: 安徽省亳州市涡阳县上河郡 | AA37: =样本采集管理!O37 -> 马丽 | AB37: =样本采集管理!M37 -> 趸交 | AD37: 1 | AF37: 1 | AG37: 1
A38: =样本采集管理!E38 -> B0000034 | B38: =样本采集管理!#REF! -> #REF! | C38: 1 | D38: 46027 | E38: 已发 | F38: =样本采集管理!G38 -> ZKZX34000857 | G38: =样本采集管理!F38 -> 年梦琪 | H38: 19909670031 | I38: 341621200509202749 | J38: 郭林林 | K38: 19909670031 | L38: 341621200309302710 | M38: =D38+8 -> 46035 | N38: 回访成功 | O38: =D38+31 -> 46058 | P38: 回访成功 | Q38: 是 | R38: 郭宥浔 | S38: 341621202601030037 | T38: 男 | U38: 2026年1月3日19时58分 | V38: 46050 | W38: 46055 | X38: 46127 | Y38: 46132 | Z38: 安徽省亳州市涡阳县龙山赵庄 | AA38: =样本采集管理!O38 -> 杨莉莉 | AB38: =样本采集管理!M38 -> 分期 | AD38: 1 | AF38: 1 | AG38: 1
A39: =样本采集管理!E39 -> B0000035 | B39: =样本采集管理!#REF! -> #REF! | C39: 2 | D39: 46034 | E39: 已发 | F39: =样本采集管理!G39 -> ZKZX34000835 | G39: =样本采集管理!F39 -> 陆前进之妻 | H39: 15256736892 | I39: / | J39: 陆前进 | K39: 15256736892 | L39: 341623199010193051 | M39: =D39+8 -> 46042 | N39: 回访成功 | O39: =D39+31 -> 46065 | P39: 回访成功 | Q39: 是 | R39: 陆兆语 | S39: 341623202601090235 | T39: 男 | U39: 2026年01月09日15时02分 | V39: 46136 | W39: 46154 | X39: 46127 | Y39: 46163 | Z39: 安徽省亳州市利辛县城北镇陆水营 | AA39: =样本采集管理!O39 -> 赵文静 | AB39: =样本采集管理!M39 -> 分期 | AD39: 1 | AF39: 1 | AG39: 1
A40: =样本采集管理!E40 -> B0000036 | B40: =样本采集管理!#REF! -> #REF! | C40: 3 | D40: 46041 | E40: 已发 | F40: =样本采集管理!G40 -> ZKZX34000844 | G40: =样本采集管理!F40 -> 牛勤 | H40: 18726690130 | I40: 341223198212103329 | J40: 史云峰 | K40: 18256763305 | L40: 341223197111122315 | M40: =D40+8 -> 46049 | N40: 回访成功 | O40: =D40+31 -> 46072 | P40: 回访成功 | Q40: 是 | R40: 史恩泽 | S40: 341621202601180094 | T40: 男 | U40: 2026年1月18日06时50分 | V40: 46081 | W40: 46106 | X40: 46127 | Y40: 46132 | Z40: 安徽省亳州市涡阳县曹市镇 | AA40: =样本采集管理!O40 -> 马丽 | AB40: =样本采集管理!M40 -> 分期 | AD40: 1 | AF40: 1 | AG40: 1
A41: =样本采集管理!E41 -> B0000037 | B41: =样本采集管理!#REF! -> #REF! | C41: 4 | D41: 46041 | E41: 已发 | F41: =样本采集管理!G41 -> ZKZX34000885 | G41: =样本采集管理!F41 -> 王璐璐 | H41: 13856885208 | I41: 341621199804305120 | J41: 杨森 | K41: 13856885208 | L41: 341621199110010133 | M41: =D41+8 -> 46049 | N41: 回访成功 | O41: =D41+31 -> 46072 | P41: 回访成功 | Q41: 是 | R41: 杨恒铭 | S41: 341621202601180190 | T41: 男 | U41: 2026年1月18日09时05分 | V41: 46109 | W41: 45762 | X41: 46127 | Y41: 46132 | Z41: 安徽省亳州市涡阳县名邦小区 | AA41: =样本采集管理!O41 -> 杨莉莉 | AB41: =样本采集管理!M41 -> 分期 | AD41: 1 | AF41: 1 | AG41: 1
A42: =样本采集管理!E42 -> B0000038 | B42: =样本采集管理!#REF! -> #REF! | C42: 5 | D42: 46044 | E42: 已发 | F42: =样本采集管理!G42 -> ZKZX34000888 | G42: =样本采集管理!F42 -> 张红娟 | H42: 15856723783 | I42: 342124198807094726 | J42: 沈兰强 | K42: 17331812709 | L42: 341223198805105215 | M42: =D42+8 -> 46052 | N42: 回访成功 | O42: =D42+31 -> 46075 | P42: 回访成功 | Q42: 是 | R42: 沈欣悦 | S42: 341621202601220228 | T42: 女 | U42: 2026年1月22日 12时22分 | V42: 46081 | W42: 46127 | X42: 46127 | Y42: 46132 | Z42: 安徽省亳州市涡阳县城关孙楼 | AA42: =样本采集管理!O42 -> 马丽 | AB42: =样本采集管理!M42 -> 分期 | AD42: 1 | AF42: 1 | AG42: 1
A43: =样本采集管理!E43 -> B0000039 | B43: =样本采集管理!#REF! -> #REF! | C43: 6 | D43: 46045 | E43: 已发 | F43: =样本采集管理!G43 -> ZKZX34000884 | G43: =样本采集管理!F43 -> 荆盼盼 | H43: 18856731227 | I43: 341621199304044745 | J43: 刘永远 | K43: 17880182946 | L43: 341223199005124711 | M43: =D43+8 -> 46053 | N43: 回访成功 | O43: =D43+31 -> 46076 | P43: 回访成功 | Q43: 是 | R43: 刘宇辰 | S43: 34162120260122005X | T43: 男 | U43: 2026年1月22日13时37分 | V43: 46081 | W43: 46106 | X43: 46127 | Y43: 46132 | Z43: 安徽省亳州市涡阳县丹城镇 | AA43: =样本采集管理!O43 -> 杨莉莉 | AB43: =样本采集管理!M43 -> 分期 | AD43: 1 | AF43: 1 | AG43: 1
A44: =样本采集管理!E44 -> B0000040 | B44: =样本采集管理!#REF! -> #REF! | C44: 7 | D44: 46045 | E44: 已发 | F44: =样本采集管理!G44 -> ZKZX34000876 | G44: =样本采集管理!F44 -> 李欣欣 | H44: 13966527511 | I44: 341223199604010126 | J44: 牛志强 | K44: 15556956898 | L44: 341223199108091713 | M44: =D44+8 -> 46053 | N44: 回访成功 | O44: =D44+31 -> 46076 | P44: 回访成功 | Q44: 是 | R44: 牛文乐 | S44: 341621202601220017 | T44: 男 | U44: 2026年1月22日 11点01分 | Z44: 安徽省亳州市涡阳县星园街道高速时代御府 | AA44: =样本采集管理!O44 -> 张慧茹 | AB44: =样本采集管理!M44 -> 分期 | AD44: 1 | AF44: 1 | AG44: 1
A45: =样本采集管理!E45 -> BC0000005 | B45: =样本采集管理!#REF! -> #REF! | C45: 8 | D45: 46052 | E45: 已发 | F45: =样本采集管理!G45 -> ZKQD34000838 | G45: =样本采集管理!F45 -> 郑藤藤 | H45: 13815264427 | I45: 34162119980614472X | J45: 张辉 | K45: 18556962992 | L45: 341223199009253916 | M45: =D45+8 -> 46060 | N45: 回访成功 | O45: =D45+31 -> 46083 | P45: 回访成功 | Q45: 是 | R45: 张珈柠 | S45: 341621202601270081 | T45: 女 | U45: 2026年1月27日 12时51分 | V45: 46109 | W45: 46127 | X45: 46127 | Y45: 46132 | Z45: 安徽省亳州市涡阳县临湖镇大李村 | AA45: =样本采集管理!O45 -> 马丽 | AB45: =样本采集管理!M45 -> 分期 | AD45: 1 | AF45: 1 | AG45: 1
A46: =样本采集管理!E46 -> B0000041 | B46: =样本采集管理!#REF! -> #REF! | C46: 9 | D46: 46052 | E46: 已发 | F46: =样本采集管理!G46 -> ZKZX34000903 | G46: =样本采集管理!F46 -> 王莉莉 | H46: 18368367936 | I46: 341223198902031967 | J46: 张宏 | K46: 18756763070 | L46: 341223199708012716 | M46: =D46+8 -> 46060 | N46: 回访成功 | O46: =D46+31 -> 46083 | P46: 回访成功 | Q46: 是 | R46: 何宇航 | S46: 34162120260130013X | T46: 男 | U46: 2026年1月30日 09时10分 | V46: 46109 | W46: 46127 | X46: 46127 | Y46: 46132 | Z46: 安徽省亳州市涡阳县高炉镇代集代庄 | AA46: =样本采集管理!O46 -> 杨莉莉 | AB46: =样本采集管理!M46 -> 趸交 | AD46: 1 | AF46: 1 | AG46: 1
A47: =样本采集管理!E47 -> 0 | B47: =样本采集管理!#REF! -> #REF! | C47: 10 | F47: =样本采集管理!G47 -> 0 | G47: =样本采集管理!F47 -> 程红 | AA47: =样本采集管理!O47 -> 马丽 | AB47: =样本采集管理!M47 -> 分期
A48: =样本采集管理!E48 -> B0000042 | B48: =样本采集管理!#REF! -> #REF! | C48: 1 | D48: 46054 | E48: 已发 | F48: =样本采集管理!G48 -> ZKZX34000833 | G48: =样本采集管理!F48 -> 刘彩云 | H48: 13956823755 | I48: 341281198907100021 | J48: 张兴杨 | K48: 18956888803 | L48: 341281198703100054 | M48: =D48+8 -> 46062 | N48: 回访成功 | O48: =D48+31 -> 46085 | P48: 回访成功 | Q48: 是 | R48: 张可欣 | S48: 341602202601310160 | T48: 女 | U48: 2026年1月31日19时33分 | V48: 46109 | W48: 46127 | X48: 46182 | Y48: 46132 | Z48: 安徽省亳州市谯城区汤庄行政村苇张 | AA48: =样本采集管理!O48 -> 孙恒利 | AB48: =样本采集管理!M48 -> 趸交 | AD48: 1 | AF48: 1 | AG48: 1
A49: =样本采集管理!E49 -> BC0000006 | B49: =样本采集管理!#REF! -> #REF! | C49: 2 | D49: 46054 | E49: 已发 | F49: =样本采集管理!G49 -> ZKQD34000829 | G49: =样本采集管理!F49 -> 刘彩云 | H49: 13956823755 | I49: 341281198907100021 | J49: 张兴杨 | K49: 18956888803 | L49: 341281198703100054 | M49: =D49+8 -> 46062 | N49: 回访成功 | O49: =D49+31 -> 46085 | P49: 回访成功 | Q49: 是 | R49: 张可欣 | S49: 341602202601310160 | T49: 女 | U49: 2026年1月31日19时33分 | V49: 46109 | W49: 46127 | X49: 46182 | Y49: 46132 | Z49: 安徽省亳州市谯城区汤庄行政村苇张 | AA49: =样本采集管理!O49 -> 孙恒利 | AB49: =样本采集管理!M49 -> 趸交 | AD49: 1 | AF49: 1 | AG49: 1
A50: =样本采集管理!E50 -> B0000043 | B50: =样本采集管理!#REF! -> #REF! | C50: 3 | D50: 46067 | E50: 合并发 | F50: =样本采集管理!G50 -> ZKZX34000889 | G50: =样本采集管理!F50 -> 殷倩 | H50: 18257200636 | I50: 341223199202162346 | J50: 丁汉文 | K50: 13967298282 | L50: 340323198911067835 | M50: =D50+8 -> 46075 | N50: 回访成功 | O50: =D50+31 -> 46098 | P50: 回访成功 | Q50: 是 | R50: 丁若溪 | S50: 34032320260213006X | T50: 女 | U50: 2026年2月13日08时12分 | V50: 46109 | W50: 45762 | X50: 46127 | Y50: 46163 | Z50: 浙江省湖州市吴兴区爱家华府36栋3801室 | AA50: =样本采集管理!O50 -> 马丽 | AB50: =样本采集管理!M50 -> 趸交 | AD50: 1 | AF50: 1 | AG50: 1
A51: =样本采集管理!E51 -> B0000044 | B51: =样本采集管理!#REF! -> #REF! | C51: 4 | D51: 46075 | E51: 已发 | F51: =样本采集管理!G51 -> ZKZX34000881 | G51: =样本采集管理!F51 -> 席娜 | H51: 18756764935 | I51: 34122319900302176X | J51: 丁东东 | K51: 13956827709 | L51: 341621198802081712 | M51: =D51+8 -> 46083 | N51: 回访成功 | O51: =D51+31 -> 46106 | P51: 回访成功 | Q51: 是 | R51: 丁若淇 | S51: 341621202602220166 | T51: 女 | U51: 2026年2月22日10时12分 | V51: 46109 | W51: 46127 | X51: 46127 | Y51: 46163 | Z51: 安徽省亳州市涡阳县涡北席楼社区马庄自然村003号 | AA51: =样本采集管理!O51 -> 杨莉莉 | AB51: =样本采集管理!M51 -> 趸交 | AD51: 1 | AF51: 1 | AG51: 1
A52: =样本采集管理!E52 -> B0000045 | B52: =样本采集管理!#REF! -> #REF! | C52: 5 | D52: 46081 | E52: 已发 | F52: =样本采集管理!G52 -> ZKZX34000899 | G52: =样本采集管理!F52 -> 马婷婷 | H52: 15256762385 | I52: 370811198806084024 | J52: 韩金龙 | L52: 341223198302010951 | M52: 46093 | N52: 回访成功 | O52: =D52+31 -> 46112 | P52: 回访成功 | Q52: 是 | R52: 韩佑城 | S52: 341621202602270112 | T52: 男 | U52: 2026年2月27日 11时10分 | V52: 46109 | W52: 46127 | X52: 46127 | Y52: 46163 | Z52: 安徽省亳州市涡阳县西阳镇韩庄 | AA52: =样本采集管理!O52 -> 马丽 | AB52: =样本采集管理!M52 -> 分期 | AD52: 1 | AF52: 1 | AG52: 1
A53: =样本采集管理!E53 -> B0000046 | B53: =样本采集管理!#REF! -> #REF! | C53: 1 | D53: 46084 | E53: 已发 | F53: =样本采集管理!G53 -> ZKZX34000901 | G53: =样本采集管理!F53 -> 李洪玲 | H53: 15056899477 | I53: 341223198408063322 | J53: 刘效伟 | K53: 15056754318 | L53: 34122319850407331X | M53: 46094 | N53: 回访成功 | O53: =D53+31 -> 46115 | P53: 回访成功 | Q53: 是 | R53: 刘艺辰 | S53: 341621202603030110 | T53: 男 | U53: 2026年3月3日 14时00分 | V53: 46136 | W53: 46154 | X53: 46223 | Y53: 46163 | Z53: 安徽省亳州市涡阳县单集林场 | AA53: =样本采集管理!O53 -> 杨莉莉 | AB53: =样本采集管理!M53 -> 分期
A54: =样本采集管理!E54 -> B0000047 | B54: =样本采集管理!#REF! -> #REF! | C54: 2 | D54: 46085 | E54: 已发 | F54: =样本采集管理!G54 -> ZKZX34000898 | G54: =样本采集管理!F54 -> 孙佳宁 | H54: 18712221803 | I54: 341621200009070727 | J54: 李宁 | K54: 19965275521 | L54: 341223199905210711 | M54: =D54+8 -> 46093 | N54: 回访成功 | O54: =D54+31 -> 46116 | P54: 回访成功 | Q54: 是 | R54: 李念初 | S54: 341621202603040167 | T54: 女 | U54: 2026年3月4日 8时00分 | V54: 46136 | W54: 46154 | X54: 46155 | Y54: 46163 | Z54: 安徽省亳州市涡阳县名邦小区5栋2单元505室 | AA54: =样本采集管理!O54 -> 马丽 | AB54: =样本采集管理!M54 -> 趸交 | AD54: 1
A55: =样本采集管理!E55 -> B0000048 | B55: =样本采集管理!#REF! -> #REF! | C55: 3 | D55: 46092 | E55: 已发 | F55: =样本采集管理!G55 -> ZKZX34000897 | G55: =样本采集管理!F55 -> 徐睿君 | H55: 13486223869 | I55: 341223199009293328 | J55: 吴昊 | K55: 18222107229 | L55: 341223198908163338 | M55: =D55+8 -> 46100 | N55: 回访成功 | O55: =D55+31 -> 46123 | P55: 回访成功 | Q55: 未回复 | T55: 女 | U55: 2026年3月10日 12时00分 | Z55: 安徽省亳州市涡阳县单集林场 | AA55: =样本采集管理!O55 -> 杨莉莉 | AB55: =样本采集管理!M55 -> 分期 | AD55: 1 | AF55: 1 | AG55: 1
A56: =样本采集管理!E56 -> B0000049 | B56: =样本采集管理!#REF! -> #REF! | C56: 4 | D56: 46097 | E56: 已发 | F56: =样本采集管理!G56 -> ZKZX34000915 | G56: =样本采集管理!F56 -> 丁静娴 | H56: 13355679739 | I56: 440512200809033327 | J56: 周巍俊 | K56: 19056916956 | L56: 34128119981001157X | M56: 46106 | N56: 回访成功 | O56: =D56+31 -> 46128 | P56: 回访成功 | Q56: 是 | R56: 周书瑶 | S56: 341602202603150180 | T56: 女 | U56: 2026年3月15日05点37分 | X56: 46155 | Z56: 安徽省亳州市谯城区十河镇大周行政村大周新村2号 | AA56: =样本采集管理!O56 -> 孙恒利 | AB56: =样本采集管理!M56 -> 趸交
A57: =样本采集管理!E57 -> B0000050 | B57: =样本采集管理!#REF! -> #REF! | C57: 5 | D57: 46104 | E57: 已发 | F57: =样本采集管理!G57 -> ZKZX34000891 | G57: =样本采集管理!F57 -> 申梦雨 | H57: 15605695578 | I57: 341621200012151720 | J57: 董建招 | K57: 15205678981 | L57: 341223200111041317 | M57: =D57+8 -> 46112 | N57: 回访成功 | O57: =D57+31 -> 46135 | P57: 回访成功 | Q57: 是 | R57: 董一诺 | S57: 341621202603200124 | T57: 女 | U57: 2026年3月20日13时27分 | V57: 46136 | W57: 46154 | X57: 46185 | Y57: 46163 | Z57: 安徽省亳州市涡阳县楚店镇李楼行政村十二里董自然村 | AA57: =样本采集管理!O57 -> 马丽 | AB57: =样本采集管理!M57 -> 分改趸 | AD57: 1 | AF57: 1 | AG57: 1
A58: =样本采集管理!E58 -> B0000051 | B58: =样本采集管理!#REF! -> #REF! | C58: 6 | D58: 46104 | E58: 已发 | F58: =样本采集管理!G58 -> ZKZX34000836 | G58: =样本采集管理!F58 -> 侯巧欢 | H58: 19883936337 | I58: 341227199708218023 | J58: 黄启浩 | K58: 19883936337 | L58: 341227199501128098 | M58: =D58+8 -> 46112 | N58: 回访成功 | O58: =D58+31 -> 46135 | P58: 回访成功 | Q58: 是 | R58: 黄一柠 | S58: 341623202603200127 | T58: 女 | U58: 2026年3月20日11时52分 | V58: 46136 | W58: 46154 | X58: 46155 | Y58: 46163 | Z58: 安徽省利辛县望町镇红镇村黄堂村庄13户 | AA58: =样本采集管理!O58 -> 赵文静 | AB58: =样本采集管理!M58 -> 趸交
A59: =样本采集管理!E59 -> B0000052 | B59: =样本采集管理!#REF! -> #REF! | C59: 7 | D59: 46110 | E59: 已发 | F59: =样本采集管理!G59 -> ZKZX34000867 | G59: =样本采集管理!F59 -> 马逸婷 | H59: 18306705960 | I59: 341623199802187020 | J59: 李孟 | K59: 13731803791 | L59: 34162319930103523X | M59: =D59+8 -> 46118 | N59: 回访成功 | O59: =D59+31 -> 46141 | P59: 回访成功 | Q59: 是 | R59: 李乐汐 | S59: 341623202603290062 | T59: 女 | U59: 2026年3月29日11时40分 | V59: 46136 | W59: 46154 | X59: 46185 | Y59: 46163 | Z59: 安徽省利辛县城关镇国宾府御园29栋2单元204室 | AA59: =样本采集管理!O59 -> 赵文静 | AB59: =样本采集管理!M59 -> 分改趸 | AD59: 1 | AF59: 1 | AG59: 1
A60: =样本采集管理!E60 -> B0000053 | B60: =样本采集管理!#REF! -> #REF! | C60: 1 | D60: 46114 | E60: 已发 | F60: =样本采集管理!G60 -> ZKZX34000923 | G60: =样本采集管理!F60 -> 祝燕 | H60: 15155922256 | I60: 340104198611283528 | J60: 徐剑云 | K60: 13339105195 | L60: 34010319861112351X | M60: =D60+8 -> 46122 | N60: 回访成功 | O60: =D60+31 -> 46145 | P60: 回访成功 | Q60: 是 | R60: 徐泠玥 | S60: 340104202604020163 | T60: 女 | U60: 2026年4月2日11时36分 | V60: 46176 | W60: 46181 | X60: 46185 | Y60: 46220 | Z60: 安徽省合肥市蜀山区虹雨花园3#601室 | AA60: =样本采集管理!O60 -> 领导推荐 | AB60: =样本采集管理!M60 -> 趸交 | AD60: 1 | AF60: 1 | AG60: 1
A61: =样本采集管理!E61 -> BC0000007 | B61: =样本采集管理!#REF! -> #REF! | C61: 2 | D61: 46114 | E61: 已发 | F61: =样本采集管理!G61 -> ZKQD34000850 | G61: =样本采集管理!F61 -> 祝燕 | H61: 15155922256 | I61: 340104198611283528 | J61: 徐剑云 | K61: 13339105195 | L61: 34010319861112351X | M61: =D61+8 -> 46122 | N61: 回访成功 | O61: =D61+31 -> 46145 | P61: 回访成功 | Q61: 是 | R61: 徐泠玥 | S61: 340104202604020163 | T61: 女 | U61: 2026年4月2日11时36分 | V61: 46176 | W61: 46181 | X61: 46185 | Y61: 46220 | Z61: 安徽省合肥市蜀山区虹雨花园3#601室 | AA61: =样本采集管理!O61 -> 领导推荐 | AB61: =样本采集管理!M61 -> 趸交 | AD61: 1 | AF61: 1 | AG61: 1
A62: =样本采集管理!E62 -> B0000054 | B62: =样本采集管理!#REF! -> #REF! | C62: 3 | D62: 46116 | E62: 已发 | F62: =样本采集管理!G62 -> ZKZX34000869 | G62: =样本采集管理!F62 -> 马婷 | H62: 18119937610 | I62: 341227199502092023 | J62: 郭阿强 | K62: 18132897610 | L62: 341227198811032636 | M62: =D62+8 -> 46124 | N62: 回访成功 | O62: =D62+31 -> 46147 | P62: 回访成功 | Q62: 是 | R62: 郭芊蕊 | S62: 341623202604030043 | T62: 女 | U62: 2026年4月3日20时40分 | V62: 46176 | W62: 46181 | X62: 46185 | Y62: 46220 | Z62: 安徽省利辛县城关镇万峰荟天允公馆 | AA62: =样本采集管理!O62 -> 陆梅侠 | AB62: =样本采集管理!M62 -> 趸交
A63: =样本采集管理!E63 -> BC0000008 | B63: =样本采集管理!#REF! -> #REF! | C63: 4 | D63: 46116 | E63: 已发 | F63: =样本采集管理!G63 -> ZKQD34000836 | G63: =样本采集管理!F63 -> 马婷 | H63: 18119937610 | I63: 341227199502092023 | J63: 郭阿强 | K63: 18132897610 | L63: 341227198811032636 | M63: =D63+8 -> 46124 | N63: 回访成功 | O63: =D63+31 -> 46147 | P63: 回访成功 | Q63: 是 | R63: 郭芊蕊 | S63: 341623202604030043 | T63: 女 | U63: 2026年4月3日20时40分 | V63: 46176 | W63: 46181 | X63: 46185 | Y63: 46220 | Z63: 安徽省利辛县城关镇万峰荟天允公馆 | AA63: =样本采集管理!O63 -> 陆梅侠 | AB63: =样本采集管理!M63 -> 趸交
A64: =样本采集管理!E64 -> B0000055 | B64: =样本采集管理!#REF! -> #REF! | C64: 5 | D64: 46119 | E64: 已发 | F64: =样本采集管理!G64 -> ZKZX34000880 | G64: =样本采集管理!F64 -> 郭钱钱 | H64: 17730368162 | I64: 341223199809193528 | J64: 程小康 | K64: 17730368163 | L64: 34162120000317391X | M64: 46133 | N64: 回访成功 | O64: =D64+31 -> 46150 | P64: 回访成功 | Q64: 是 | R64: 程怡荞 | S64: 341621202604070085 | T64: 女 | U64: 2026年4月7日10点44分 | V64: 46136 | W64: 46181 | X64: 46185 | Y64: 46220 | Z64: 安徽省涡阳县临湖镇程老家行政村程寨自然村1119号 | AA64: =样本采集管理!O64 -> 张慧茹 | AB64: =样本采集管理!M64 -> 分期
A65: =样本采集管理!E65 -> B0000056 | B65: =样本采集管理!#REF! -> #REF! | C65: 6 | D65: 46121 | E65: 已发 | F65: =样本采集管理!G65 -> ZKZX34000922 | G65: =样本采集管理!F65 -> 高曦 | H65: 13170250120 | I65: 341623199801200027 | J65: 韩贺鸣 | K65: 18625152005 | L65: 341227199412010215 | M65: 46132 | N65: 回访成功 | O65: =D65+31 -> 46152 | P65: 回访成功 | Q65: 是 | R65: 韩桢 | S65: 340104202604080131 | T65: 男 | U65: 2026年4月8日21:53 | V65: 46176 | W65: 46181 | X65: 46185 | Y65: 46220 | Z65: 安徽省合肥市高新区百草街华纺新华城2栋3604室 | AA65: =样本采集管理!O65 -> 张颖 | AB65: =样本采集管理!M65 -> 趸交 | AD65: 1 | AF65: 1 | AG65: 1
A66: =样本采集管理!E66 -> BC0000009 | B66: =样本采集管理!#REF! -> #REF! | C66: 7 | D66: 46121 | E66: 已发 | F66: =样本采集管理!G66 -> ZKQD34000839 | G66: =样本采集管理!F66 -> 高曦 | H66: 13170250120 | I66: 341623199801200027 | J66: 韩贺鸣 | K66: 18625152005 | L66: 341227199412010215 | M66: 46132 | N66: 回访成功 | O66: =D66+31 -> 46152 | P66: 回访成功 | Q66: 是 | R66: 韩桢 | S66: 340104202604080131 | T66: 男 | U66: 2026年4月8日21:53 | V66: 46176 | W66: 46181 | X66: 46185 | Y66: 46220 | Z66: 安徽省合肥市高新区百草街华纺新华城2栋3604室 | AA66: =样本采集管理!O66 -> 张颖 | AB66: =样本采集管理!M66 -> 趸交 | AD66: 1 | AF66: 1 | AG66: 1
A67: =样本采集管理!E67 -> B0000057 | B67: =样本采集管理!#REF! -> #REF! | C67: 8 | D67: 46125 | E67: 已发 | F67: =样本采集管理!G67 -> ZKZX34000879 | G67: =样本采集管理!F67 -> 刘桂兰 | H67: 17551032137 | I67: 341223198807215143 | J67: 朱学家 | K67: 19265580906 | L67: 341223198712135132 | M67: 46132 | N67: 回访成功 | O67: =D67+31 -> 46156 | P67: 回访成功 | Q67: 是 | R67: 朱茗泽 | S67: 341621202604100192 | T67: 男 | U67: 2026年4月10日20点45分 | V67: 46176 | W67: 46181 | X67: 46185 | Y67: 46220 | Z67: 安徽省亳州市涡阳县工农路橡胶厂家属院 | AA67: =样本采集管理!O67 -> 张慧茹 | AB67: =样本采集管理!M67 -> 分期 | AD67: 1 | AF67: 1 | AG67: 1
A68: =样本采集管理!E68 -> B0000058 | B68: =样本采集管理!#REF! -> #REF! | C68: 9 | D68: 46125 | E68: 已发 | F68: =样本采集管理!G68 -> ZKZX34000894 | G68: =样本采集管理!F68 -> 丁皖豫 | H68: 19339041825 | I68: 341621199212174921 | J68: 曹宝元 | K68: 19339041825 | L68: 341223199107153118 | M68: 46132 | N68: 回访成功 | O68: =D68+31 -> 46156 | P68: 回访成功 | Q68: 是 | R68: 曹丁予 | S68: 341621202604110067 | T68: 女 | U68: 2026年4月11日 09时02分 | V68: 46176 | W68: 46181 | X68: 46185 | Y68: 46220 | Z68: 安徽省涡阳县新兴镇付庄行政村曹王自然村64号 | AA68: =样本采集管理!O68 -> 杨莉莉 | AB68: =样本采集管理!M68 -> 分期 | AD68: 1 | AF68: 1 | AG68: 1
A69: =样本采集管理!E69 -> B0000059 | B69: =样本采集管理!#REF! -> #REF! | C69: 10 | D69: 46125 | E69: 已发 | F69: =样本采集管理!G69 -> ZKZX34000893 | G69: =样本采集管理!F69 -> 姜小雯 | H69: 16609313214 | I69: 341223200210173729 | J69: 张文豪 | K69: 15212973482 | L69: 341623200308291055 | M69: =D69+8 -> 46133 | N69: 回访成功 | O69: =D69+31 -> 46156 | P69: 回访成功 | Q69: 是 | R69: 张艺洲 | S69: 341623202604120030 | T69: 男 | U69: 2026年4月12日 07时31分 | V69: 46176 | W69: 46181 | X69: 46185 | Y69: 46220 | Z69: 安徽省亳州市涡阳县公园天下小区 | AA69: =样本采集管理!O69 -> 马丽 | AB69: =样本采集管理!M69 -> 分期 | AD69: 1 | AF69: 1 | AG69: 1
A70: =样本采集管理!E70 -> B0000060 | B70: =样本采集管理!#REF! -> #REF! | D70: 46125 | E70: 已发 | F70: =样本采集管理!G70 -> ZKZX34000878 | G70: =样本采集管理!F70 -> 李建欣 | H70: 15377333304 | I70: 533523200208100022 | J70: 方彬 | K70: 17562601064 | L70: 341223199003161738 | M70: =D70+8 -> 46133 | T70: 男 | U70: 2026年4月13日 8点16分 | X70: 46185 | Z70: 安徽省亳州市涡阳县天静宫街道三桥安置小区B栋2单元402室 | AA70: =样本采集管理!O70 -> 张慧茹 | AB70: =样本采集管理!M70 -> 0 | AD70: 1 | AF70: 1 | AG70: 1
A71: =样本采集管理!E71 -> B0000061 | B71: =样本采集管理!#REF! -> #REF! | C71: 11 | D71: 46126 | E71: 已发 | F71: =样本采集管理!G71 -> ZKZX34000917 | G71: =样本采集管理!F71 -> 侯香香 | H71: 17509675966 | I71: 341621200110064348 | J71: 胡维强 | K71: 17509675966 | L71: 341621200205063532 | M71: =D71+8 -> 46134 | N71: 回访成功 | O71: =D71+31 -> 46157 | P71: 回访成功 | Q71: 是 | R71: 胡博文 | S71: 341621202604130092 | T71: 男 | U71: 2026年4月13日 11时31分 | V71: 46176 | W71: 46181 | X71: 46185 | Y71: 46220 | Z71: 安徽省亳州市涡阳县公吉寺镇胡老家行政村115-1号 | AA71: =样本采集管理!O71 -> 杨莉莉 | AB71: =样本采集管理!M71 -> 趸交 | AD71: 1 | AF71: 1 | AG71: 1
A72: =样本采集管理!E72 -> BC0000010 | B72: =样本采集管理!#REF! -> #REF! | C72: 12 | D72: 46129 | E72: 已发 | F72: =样本采集管理!G72 -> ZKQD34000837 | G72: =样本采集管理!F72 -> 付春荣 | H72: 17754205797 | I72: 341622199311096822 | J72: 刘康 | K72: 18756732512 | L72: 341621199112253112 | M72: 46140 | N72: 回访成功 | O72: =D72+31 -> 46160 | P72: 回访成功 | Q72: 是 | R72: 刘星妍 | S72: 341621202604150181 | T72: 女 | U72: 2026年4月15日 18时10分 | V72: 46176 | W72: 46181 | X72: 46185 | Y72: 46220 | Z72: 安徽省亳州市涡阳县新兴街上 | AA72: =样本采集管理!O72 -> 马丽 | AB72: =样本采集管理!M72 -> 分期 | AD72: 1 | AF72: 1 | AG72: 1
A73: =样本采集管理!E73 -> B0000062 | B73: =样本采集管理!#REF! -> #REF! | C73: 13 | D73: 46130 | E73: 已发 | F73: =样本采集管理!G73 -> ZKZX34000895 | G73: =样本采集管理!F73 -> 龚阿丽 | H73: 18755889260 | I73: 341223199201013568 | J73: 孙帅 | K73: 18458883351 | L73: 341227199006131315 | M73: 46140 | N73: 回访成功 | O73: =D73+31 -> 46161 | P73: 回访成功 | Q73: 是 | R73: 孙允承 | S73: 341621202604160013 | T73: 男 | U73: 2026年4月16日 09时54分 | V73: 46176 | W73: 46181 | X73: 46185 | Y73: 46220 | Z73: 安徽省亳州市涡阳县楚店镇三里行政村 | AA73: =样本采集管理!O73 -> 杨莉莉 | AB73: =样本采集管理!M73 -> 趸交 | AD73: 1 | AF73: 1 | AG73: 1
A74: =样本采集管理!E74 -> B0000063 | B74: =样本采集管理!#REF! -> #REF! | E74: 已发 | F74: =样本采集管理!G74 -> ZKZX34000883 | G74: =样本采集管理!F74 -> 王玉玉 | H74: 13513966031 | AA74: =样本采集管理!O74 -> 马丽 | AB74: =样本采集管理!M74 -> 0
A75: =样本采集管理!E75 -> BC0000011 | B75: =样本采集管理!#REF! -> #REF! | E75: 已发 | F75: =样本采集管理!G75 -> ZKQD34000861 | G75: =样本采集管理!F75 -> 王玉玉 | H75: 13513966031 | AA75: =样本采集管理!O75 -> 马丽 | AB75: =样本采集管理!M75 -> 0
A76: =样本采集管理!E76 -> BC0000012 | B76: =样本采集管理!#REF! -> #REF! | F76: =样本采集管理!G76 -> 0 | G76: =样本采集管理!F76 -> 高海燕 | AA76: =样本采集管理!O76 -> 0 | AB76: =样本采集管理!M76 -> 0
A77: =样本采集管理!E77 -> B0000064 | B77: =样本采集管理!#REF! -> #REF! | C77: 1 | D77: 46162 | E77: 已发 | F77: =样本采集管理!G77 -> ZKZX34000928 | G77: =样本采集管理!F77 -> 丁子旋 | H77: 15255901550 | I77: 341621200901080520 | J77: 韩俊龙 | K77: 15255901550 | L77: 341621200612084998 | M77: =D77+9 -> 46171 | N77: 回访成功 | O77: =D77+31 -> 46193 | P77: 回访成功 | Q77: 是 | R77: 韩亦安 | S77: 341621202605180075 | T77: 男 | U77: 2026年5月18日 07时20分 | AA77: =样本采集管理!O77 -> 杨莉莉 | AB77: =样本采集管理!M77 -> 分期 | AC77: 宝奶，19944675851宝妈年龄小，可以和小孩奶奶联系 | AF77: 1
A78: =样本采集管理!E78 -> BC0000013 | B78: =样本采集管理!#REF! -> #REF! | C78: 2 | D78: 46170 | E78: 已发 | F78: =样本采集管理!G78 -> ZKQD34000862 | G78: =样本采集管理!F78 -> 姜珊 | H78: 15695679932 | I78: 341223199712100524 | J78: 张坤 | K78: 19356754193 | L78: 341621199206180719 | M78: =D78+8 -> 46178 | N78: 回访成功 | O78: =D78+31 -> 46201 | P78: 回访成功 | Q78: 是 | R78: 张紫玉 | S78: 341621202605250045 | T78: 女 | U78: 2026年5月25日16时20分 | AA78: =样本采集管理!O78 -> 马丽 | AB78: =样本采集管理!M78 -> 分期
A79: =样本采集管理!E79 -> B0000065 | B79: =样本采集管理!#REF! -> #REF! | C79: 3 | D79: 46168 | E79: 已发 | F79: =样本采集管理!G79 -> ZKZX34000937 | G79: =样本采集管理!F79 -> 段娟 | H79: 18306726373 | I79: 341223199005142725 | J79: / | K79: / | L79: / | M79: 46181 | N79: 回访成功 | O79: =D79+31 -> 46199 | P79: 回访成功 | Q79: 否 | R79: 段泽钧 | T79: 男 | U79: 2026年5月26日13时14分 | AA79: =样本采集管理!O79 -> 王婷婷 | AB79: =样本采集管理!M79 -> 趸交
A80: =样本采集管理!E80 -> B0000066 | B80: =样本采集管理!#REF! -> #REF! | C80: 1 | D80: 46178 | E80: 已发 | F80: =样本采集管理!G80 -> ZKZX34000924 | G80: =样本采集管理!F80 -> 董慧丽 | H80: 13615650306 | I80: 341223199704055129 | J80: 董磊 | K80: 15655128995 | L80: 341223199703201710 | M80: =D80+11 -> 46189 | N80: 回访成功 | O80: =D80+31 -> 46209 | P80: 回访成功 | Q80: 是 | R80: 董清越 | S80: 341621202606040082 | T80: 女 | U80: 2026年6月4日10点35分 | AA80: =样本采集管理!O80 -> 张慧茹 | AB80: =样本采集管理!M80 -> 趸交
A81: =样本采集管理!E81 -> B0000067 | B81: =样本采集管理!#REF! -> #REF! | C81: 2 | D81: 46182 | E81: 已发 | F81: =样本采集管理!G81 -> ZKZX34000935 | G81: =样本采集管理!F81 -> 朱秀英 | H81: 18756765137 | I81: 341602200006163769 | J81: 关敖祥 | K81: 18756765137 | L81: 34128119981008375X | M81: =D81+11 -> 46193 | N81: 回访成功 | O81: =D81+31 -> 46213 | P81: 回访成功 | T81: 女 | U81: 2026年6月8号23点57分 | AA81: =样本采集管理!O81 -> 孙恒利 | AB81: =样本采集管理!M81 -> 分期
A82: =样本采集管理!E82 -> B0000068 | B82: =样本采集管理!#REF! -> #REF! | C82: 3 | D82: 46183 | E82: 已发 | F82: =样本采集管理!G82 -> ZKZX34000890 | G82: =样本采集管理!F82 -> 胡梦情 | H82: 13156790279 | I82: 341223200212144323 | J82: 狄梦豪 | K82: 13156790279 | L82: 341223200309054316 | M82: =D82+11 -> 46194 | N82: 回访成功 | O82: =D82+31 -> 46214 | P82: 回访成功 | Q82: 是 | R82: 狄语宸 | S82: 34162120260609008X | T82: 女 | U82: 2026年6月9日 16时00分 | AA82: =样本采集管理!O82 -> 杨莉莉 | AB82: =样本采集管理!M82 -> 分期
A83: =样本采集管理!E83 -> B0000069 | B83: =样本采集管理!#REF! -> #REF! | C83: 4 | D83: 46184 | E83: 已发 | F83: =样本采集管理!G83 -> ZKZX34000892 | G83: =样本采集管理!F83 -> 崔静 | H83: 18726694399 | I83: 341621200104050943 | J83: 张贺 | K83: 19856752393 | L83: 341223199903120739 | M83: =D83+11 -> 46195 | N83: 回访成功 | O83: =D83+31 -> 46215 | P83: 回访成功 | Q83: 是 | R83: 张逸仙 | S83: 341621202606100049 | T83: 女 | U83: 2026年6月9日 12时13分 | AA83: =样本采集管理!O83 -> 杨莉莉 | AB83: =样本采集管理!M83 -> 分期
A84: =样本采集管理!E84 -> B0000070 | B84: =样本采集管理!#REF! -> #REF! | C84: 5 | D84: 46191 | E84: 已发 | F84: =样本采集管理!G84 -> ZKZX34000933 | G84: =样本采集管理!F84 -> 纪明莉 | H84: 18256729139 | I84: 341227198903072344 | J84: 王宝宝 | K84: 17856778853 | L84: 341623199502019076 | M84: =D84+11 -> 46202 | N84: 回访成功 | O84: =D84+31 -> 46222 | P84: 回访成功 | T84: 男 | U84: 2026年6月16日 12时25分 | AA84: =样本采集管理!O84 -> 马丽 | AB84: =样本采集管理!M84 -> 分期
A85: =样本采集管理!E85 -> B0000071 | B85: =样本采集管理!#REF! -> #REF! | C85: 6 | D85: 46191 | E85: 已发 | F85: =样本采集管理!G85 -> ZKZX34000870 | G85: =样本采集管理!F85 -> 刘晓艳 | H85: 13966850002 | I85: 34162319910725202X | J85: 周明 | K85: 13805675888 | L85: 341227198808277018 | M85: =D85+11 -> 46202 | N85: 回访成功 | O85: =D85+31 -> 46222 | P85: 回访成功 | Q85: 是 | R85: 周铄 | S85: 341623202606170138 | T85: 男 | U85: 2026年6月17日09时25分 | AA85: =样本采集管理!O85 -> 赵文静 | AB85: =样本采集管理!M85 -> 趸交
A86: =样本采集管理!E86 -> 0 | B86: =样本采集管理!#REF! -> #REF! | D86: 46191 | E86: 已发 | F86: =样本采集管理!G86 -> ZKZX34000909 | G86: =样本采集管理!F86 -> 司秀兰 | AA86: =样本采集管理!O86 -> 赵文静 | AB86: =样本采集管理!M86 -> 定金
A87: =样本采集管理!E87 -> 0 | B87: =样本采集管理!#REF! -> #REF! | D87: 46203 | E87: 已发 | F87: =样本采集管理!G87 -> ZKZX34000930 | G87: =样本采集管理!F87 -> 邓敏 | H87: 13205671872 | AA87: =样本采集管理!O87 -> 杨莉莉 | AB87: =样本采集管理!M87 -> 0
B88: =样本采集管理!#REF! -> #REF! | C88: 1 | D88: 46208 | E88: 已发 | F88: =样本采集管理!G88 -> ZKZX34000887 | G88: =样本采集管理!F88 -> 崔兰兰 | H88: 15767831834 | I88: 341223198606122549 | J88: 郭浩 | K88: 15767831834 | L88: 341223199009262513 | M88: =D88+11 -> 46219 | N88: 回访成功 | O88: =D88+31 -> 46239 | AA88: =样本采集管理!O88 -> 杨莉莉 | AB88: =样本采集管理!M88 -> 分期
B89: =样本采集管理!#REF! -> #REF! | C89: 2 | D89: 46210 | E89: 已发 | F89: =样本采集管理!G89 -> ZKZX34000929 | G89: =样本采集管理!F89 -> 刘影 | H89: 15551580188 | I89: 341621199312062361 | J89: 韩鹏程 | K89: 18714945291 | L89: 341223199101010212 | M89: =D89+11 -> 46221 | N89: 回访成功 | O89: =D89+31 -> 46241 | AA89: =样本采集管理!O89 -> 马丽 | AB89: =样本采集管理!M89 -> 趸交
B90: =样本采集管理!#REF! -> #REF! | C90: 3 | D90: 46210 | E90: 已发 | F90: =样本采集管理!G90 -> ZKZX34000951 | G90: =样本采集管理!F90 -> 张倩文 | H90: 13855120521 | I90: 342201199205210043 | J90: 胡新宇 | K90: 18463101682 | L90: 342222199212310415 | M90: =D90+11 -> 46221 | O90: =D90+31 -> 46241 | AA90: =样本采集管理!O90 -> 领导推荐 | AB90: =样本采集管理!M90 -> 趸交
B91: =样本采集管理!#REF! -> #REF! | C91: 4 | D91: 46210 | E91: 已发 | F91: =样本采集管理!G91 -> ZKQD34000875 | G91: =样本采集管理!F91 -> 张倩文 | H91: 13855120521 | I91: 342201199205210043 | J91: 胡新宇 | K91: 18463101682 | L91: 342222199212310415 | M91: =D91+11 -> 46221 | O91: =D91+31 -> 46241 | AA91: =样本采集管理!O91 -> 领导推荐 | AB91: =样本采集管理!M91 -> 趸交
B92: =样本采集管理!#REF! -> #REF! | D92: 46210 | E92: 已发 | F92: =样本采集管理!G92 -> ZKZX34000956 | G92: =样本采集管理!F92 -> 李影 | H92: 18225675351 | M92: =D92+11 -> 46221 | O92: =D92+31 -> 46241 | AA92: =样本采集管理!O92 -> 马丽 | AB92: =样本采集管理!M92 -> 分期
B93: =样本采集管理!#REF! -> #REF! | C93: 5 | D93: 46210 | E93: 已发 | F93: =样本采集管理!G93 -> ZKZX34000911 | G93: =样本采集管理!F93 -> 吕田甜 | H93: 13641865081 | I93: 341227199004047107 | J93: 郑少会 | K93: 18817302367 | L93: 341227199204087111 | M93: =D93+11 -> 46221 | O93: =D93+31 -> 46241 | AA93: =样本采集管理!O93 -> 赵文静 | AB93: =样本采集管理!M93 -> 分期
B94: =样本采集管理!#REF! -> #REF! | C94: 6 | D94: 46219 | E94: 已发 | F94: =样本采集管理!G94 -> ZKZX34000908 | G94: =样本采集管理!F94 -> 陈若惜 | H94: 17709671451 | I94: 341623200604203427 | J94: 康广富 | K94: 13567765978 | L94: 341623200106060451 | M94: =D94+11 -> 46230 | O94: =D94+31 -> 46250 | AA94: =样本采集管理!O94 -> 赵文静 | AB94: =样本采集管理!M94 -> 分期
B95: =样本采集管理!#REF! -> #REF! | C95: 7 | D95: 46221 | E95: 已发 | F95: =样本采集管理!G95 -> ZKZX34000954 | G95: =样本采集管理!F95 -> 董佳利 | H95: 15555273253 | M95: =D95+11 -> 46232 | O95: =D95+31 -> 46252 | AA95: =样本采集管理!O95 -> 马丽 | AB95: =样本采集管理!M95 -> 分期
B96: =样本采集管理!#REF! -> #REF! | C96: 8 | D96: 46223 | E96: 已发 | F96: =样本采集管理!G96 -> ZKZX34000953 | G96: =样本采集管理!F96 -> 慕芳 | H96: 19965979003 | M96: =D96+11 -> 46234 | O96: =D96+31 -> 46254 | AA96: =样本采集管理!O96 -> 杨莉莉 | AB96: =样本采集管理!M96 -> 分期

Sheet 预签约管理
A1: 序号 | B1: 年 | C1: 月 | D1: 日 | E1: 协议编号 | F1: 母亲姓名 | G1: 样本类型 | H1: 采集地区 | I1: 采集医院 | J1: 缴费方式 | K1: 采集时间 | L1: 合同金额 | M1: 到账金额 | N1: 刷卡时间 | O1: 预产期 | P1: 市场专员 | Q1: 地区经理 | R1: 备注 | S1: 退款金额
A2: 1 | B2: 2025 | C2: 9 | D2: 19 | F2: 陈影 | M2: 1000元 | N2: 2025年9月19日17点26分13秒 | Q2: 张颖 | R2: 悔存-申请退定金 | S2: 1000元
A3: 2 | B3: 2026 | C3: 4 | D3: 2 | F3: 杨育蕾 | M3: 1000元（定金） | N3: 2026年4月2日16:49:42 | O3: 46296 | P3: 张慧茹 | Q3: 张颖
A4: 3 | B4: 2026 | C4: 5 | D4: 20 | F4: 董慧丽 | M4: 2000 | N4: 2026年5月20日09:13:34 | O4: 46191 | P4: 张慧茹 | Q4: 张颖
A5: 4 | B5: 2026 | C5: 12 | F5: 潘庆 | M5: 1000元 | R5: 悔存-申请退定金 | S5: 1000元
A6: 5 | B6: 2026 | C6: 6 | D6: 19 | F6: 王雅茹 | M6: 1000元 | N6: 2026年6月19日16:40:27 | O6: 2026年9月30 | P6: 孙恒利 | Q6: 张颖
A7: 6 | B7: 2026 | C7: 7 | D7: 14 | F7: 彭茹晴 | M7: 500元 | N7: 2026年7月14日10:35:43 | O7: 46244 | P7: 马丽 | Q7: 张颖

Sheet 科研表
A1: 序号 | B1: 年份 | C1: 月 | D1: 日 | E1: 当月核量号 | F1: 实验室编码 | G1: 储存状态 | H1: 废弃原因 | I1: 母亲姓名 | J1: 围产期造血干细胞 | K1: 采集 地区 | L1: 采集医院 | M1: 分娩时间 | N1: 采集时间 | O1: 市场专员@@ | P1: 地区经理 | Q1: 运输方式 | R1: 运费 | S1: 性别 | T1: 新生儿体重 | U1: 分娩方式 | V1: 胎次 | W1: 母血采集时间 | X1: 知情同意书 | Y1: 备注
A2: 1 | B2: 2025年 | C2: 8 | D2: 29 | E2: 202508001 | F2: A0000001 | G2: 实验室废弃 | H2: 母血乙肝阳性 | I2: 曹陆双 | J2: 实验室废弃 | K2: 亳州 | L2: 涡阳县人民医院 | M2: 2025年8月29日12时26分 | N2: 2025年8月29日12时27分 | O2: 杨莉莉 | P2: 张颖 | Q2: 顺丰快递 | R2: 25 | S2: 女 | T2: 3000g | U2: 顺产 | V2: 1 | W2: 2025年8月29日13时30分 | X2: 1
A3: 2 | B3: 2025年 | C3: 8 | D3: 29 | E3: 202508002 | F3: A0000002 | I3: 徐群英 | J3: 围产期造血干细胞 | K3: 亳州 | L3: 涡阳县中医院 | M3: 2025年8月29日20时27分 | N3: 2025年8月29日20时28分 | O3: 张慧茹 | P3: 张颖 | Q3: 专线车 | R3: 100 | S3: 女 | T3: 3420g | U3: 顺产 | V3: 3 | W3: 无母血 | X3: 1
A4: 3 | B4: 2025年 | C4: 8 | D4: 30 | E4: 202508003 | F4: A0000003 | I4: 韩文文 | J4: 围产期造血干细胞 | K4: 亳州 | L4: 涡阳县人民医院 | M4: 2025年8月30日15时20分 | N4: 2025年8月30日15时21分 | O4: 杨莉莉 | P4: 张颖 | Q4: 顺丰快递 | R4: 17 | S4: 男 | T4: 3000g | U4: 剖腹产 | V4: 2 | W4: 无母血 | X4: 1
A5: 4 | B5: 2025年 | C5: 8 | D5: 30 | E5: 202508004 | F5: A0000004 | I5: 王翠 | J5: 围产期造血干细胞 | K5: 亳州 | L5: 涡阳县中医院 | M5: 2025年8月30日19时52分 | N5: 2025年8月30日19时53分 | O5: 张慧茹 | P5: 张颖 | Q5: 专线车 | R5: 100 | S5: 男 | T5: 3800g | U5: 剖腹产 | V5: 3 | W5: 无母血 | X5: 1
B6: 2025年 | C6: 8 | D6: 31 | E6: 202508005 | F6: A0000005 | I6: 李劲泉 | J6: 围产期造血干细胞 | K6: 亳州 | L6: 涡阳县人民医院 | M6: 2025年8月31日09时11分 | N6: 2025年8月31日09时11分0秒 | O6: 马丽 | P6: 张颖 | S6: 女 | T6: 3000g | U6: 剖腹产 | V6: 2 | W6: 2025年8月31日08时00分00秒 | X6: 1
A7: 1 | B7: 2025年 | C7: 9 | D7: 1 | E7: 202509001 | F7: A0000006 | G7: 实验室废弃 | H7: 细胞数不足 | I7: 李欣怡 | J7: 实验室废弃 | K7: 亳州 | L7: 涡阳县人民医院 | M7: 2025年9月1日20时32分 | N7: 2025年9月1日20时33分 | O7: 马丽 | P7: 张颖 | Q7: 专线车 | R7: 100 | S7: 男 | T7: 3100g | U7: 顺产 | V7: 2 | W7: 无母血 | X7: 1
A8: 2 | B8: 2025年 | C8: 9 | D8: 2 | E8: 202509002 | F8: A0000007 | G8: 实验室废弃 | H8: 超时 | I8: 许惠琳 | J8: 实验室废弃 | K8: 亳州 | L8: 涡阳县中医院 | M8: 2025年9月2日9时54分 | N8: 2025年9月2日9时55分 | O8: 张慧茹 | P8: 张颖 | Q8: 顺丰快递 | R8: 22 | S8: 男 | T8: 2580g | U8: 顺产 | V8: 1 | W8: 无母血 | X8: 1
A9: 3 | B9: 2025年 | C9: 9 | D9: 7 | E9: 202509005 | F9: A0000008 | G9: 实验室废弃 | H9: 关卡没卡紧 | I9: 惠敏 | J9: 实验室废弃 | K9: 亳州 | L9: 涡阳县人民医院 | M9: 2025年9月7日11时10分 | N9: 2025年9月7日11时11分 | O9: 马丽 | P9: 张颖 | Q9: 顺丰快递 | R9: / | S9: 男 | T9: 3220g | U9: 剖腹产 | V9: 2 | W9: 无母血 | X9: 1
A10: 4 | B10: 2025年 | C10: 9 | D10: 9 | E10: 202509007 | F10: UBMC2025012 | I10: 夏兆生 | J10: NK | K10: 亳州 | L10: 涡阳县中医院 | M10: 2025年9月9日10时33分 | N10: 2025年9月9日10时34分 | O10: 张慧茹 | P10: 张颖 | Q10: 顺丰快递 | R10: 23 | S10: 女 | T10: 3900g | U10: 剖腹产 | V10: 2 | W10: 2025年9月9日15时30分 | X10: 1
A11: 5 | B11: 2025年 | C11: 9 | D11: 9 | E11: 202509008 | F11: UBMC2025013 | I11: 张梦梦 | J11: NK | K11: 亳州 | L11: 涡阳县中医院 | M11: 2025年9月9日12时00分 | N11: 2025年9月9日12时01分 | O11: 张慧茹 | P11: 张颖 | S11: 女 | T11: 2912g | U11: 剖腹产 | V11: 1 | W11: 无母血 | X11: 1
A12: 6 | B12: 2025年 | C12: 9 | D12: 11 | E12: 202509009 | F12: UBMC2025014 | I12: 王春红 | J12: NK | K12: 亳州 | L12: 涡阳县人民医院 | M12: 2025年9月11日18时13分 | N12: 2025年9月11日18时14分 | O12: 马丽 | P12: 张颖 | Q12: 专线车 | R12: 100 | S12: 男 | T12: 3860g | U12: 顺产 | V12: 1 | W12: 无母血 | X12: 1
A13: 7 | B13: 2025年 | C13: 9 | D13: 12 | E13: 202509010 | F13: UBMC2025015 | I13: 郑远平 | J13: NK | K13: 亳州 | L13: 涡阳县人民医院 | M13: 2025年9月12日10时39分 | N13: 2025年9月12日10时40分 | O13: 马丽 | P13: 张颖 | S13: 女 | T13: 3350g | U13: 顺产 | V13: 2 | W13: 无母血 | X13: 1
A14: 8 | B14: 2025年 | C14: 9 | D14: 13 | E14: 202509011 | F14: UBMC2025016 | I14: 李中华 | J14: NK | K14: 亳州 | L14: 涡阳县人民医院 | M14: 2025年9月13日20时46分 | N14: 2025年9月13日20时47分 | O14: 杨莉莉 | P14: 张颖 | Q14: 专线车 | R14: 100 | S14: 女 | T14: 4000g | U14: 剖腹产 | V14: 3 | W14: 无母血 | X14: 1
A15: 9 | B15: 2025年 | C15: 9 | D15: 16 | E15: 202509013 | F15: UBMC2025017 | I15: 李娜娜 | J15: NK | K15: 亳州 | L15: 涡阳县人民医院 | M15: 2025年9月15日16时52分 | N15: 2025年9月15日16时52分 | O15: 杨莉莉 | P15: 张颖 | Q15: 专线车 | R15: 100 | S15: 男 | T15: 3550 | U15: 顺产 | V15: 1 | W15: 无母血 | X15: 1
A16: 10 | B16: 2025年 | C16: 9 | D16: 26 | E16: 202509016 | F16: UBMC2025018 | I16: 王博倩 | J16: NK | K16: 亳州 | L16: 涡阳县中医院 | M16: 2025年9月26日17时07分 | N16: 2025年9月26日17时08分 | O16: 张慧茹 | P16: 张颖 | Q16: 专线车 | R16: 100 | S16: 女 | T16: 3600g | U16: 剖腹产 | V16: 1 | W16: 无母血 | X16: 1
A17: 11 | B17: 2025年 | C17: 9 | D17: 30 | E17: 202509018 | F17: UBMC2025019 | I17: 侯婷婷 | J17: NK | K17: 亳州 | L17: 涡阳县人民医院 | M17: 2025年9月30日09时13分 | N17: 2025年9月30日09时14分 | O17: 杨莉莉 | P17: 张颖 | Q17: 顺丰快递 | R17: 月结 | S17: 女 | T17: 3300g | U17: 顺产 | V17: 2 | W17: 无母血 | X17: 1
A18: 1 | B18: 2025年 | C18: 10 | D18: 20 | E18: 202510007 | F18: UBMC2025020 | G18: UBMC | I18: 王红 | J18: NK | K18: 亳州 | L18: 涡阳县中医院 | M18: 2025年10月20日14时08分 | N18: 2025年10月20日14时09分 | O18: 张慧茹 | P18: 张颖 | Q18: 顺丰快递 | R18: 月结 | S18: 男 | T18: 4300g | U18: 顺产 | V18: 3 | W18: 无母血 | X18: 1
A19: 2 | B19: 2025年 | C19: 10 | D19: 27 | E19: 202510008 | F19: UBMC2025021 | G19: UBMC | I19: 吕芷情 | J19: NK | K19: 亳州 | L19: 涡阳县中医院 | M19: 2025年10月27日10时30分 | N19: 2025年10月27日10时31分 | O19: 张慧茹 | P19: 张颖 | Q19: 顺丰快递 | R19: 月结 | S19: 男 | T19: 3490g | U19: 顺产 | V19: 1 | W19: 无母血 | X19: 1
B20: 2025年 | C20: 10 | D20: 27 | E20: 202510009 | F20: / | G20: 废弃未制备 | H20: 无知情同意书 | I20: 刘雅雯 | J20: 实验室废弃 | K20: 亳州 | L20: 涡阳县中医院 | M20: 2025年10月27日11时42分 | N20: 2025年10月27日11时43分 | O20: 张慧茹 | P20: 张颖 | Q20: 顺丰快递 | R20: 月结 | S20: 女 | T20: 3060g | U20: 顺产 | V20: 1 | W20: 无母血 | X20: /
A21: 3 | B21: 2025年 | C21: 10 | D21: 31 | E21: 202510011 | F21: UBMC2025022 | G21: UBMC | I21: 何文静 | J21: NK | K21: 亳州 | L21: 涡阳县中医院 | M21: 2025年10月31日17时46分 | N21: 2025年10月31日17时47分 | O21: 张慧茹 | P21: 张颖 | Q21: 专线车 | R21: 100 | S21: 男 | T21: 3400g | U21: 顺产 | V21: 1 | W21: 无母血 | X21: 1
A22: 1 | B22: 2025年 | C22: 11 | D22: 1 | E22: 202511001 | F22: / | G22: 实验室废弃 | H22: 血量少 | I22: 张世华 | J22: 实验室废弃 | K22: 亳州 | L22: 涡阳县中医院 | M22: 2025年11月1日1时52分 | N22: 2025年11月1日1时53分 | O22: 张慧茹 | P22: 张颖 | S22: 女 | T22: 3150g | U22: 顺产 | V22: 1 | W22: 无母血 | X22: 1
A23: 2 | B23: 2025年 | C23: 11 | D23: 4 | E23: 202511004 | F23: UBMC2025023 | I23: 马抬抬 | J23: NK | K23: 亳州 | L23: 涡阳县人民医院 | M23: 2025年11月4日08时40分 | N23: 2025年11月4日08时41分 | O23: 杨莉莉 | P23: 张颖 | Q23: 顺丰快递 | R23: 月结 | S23: 女 | T23: 3350g | U23: 顺产 | V23: 1 | W23: 无母血 | X23: 1
A24: 3 | B24: 2025年 | C24: 11 | D24: 19 | E24: 202511009 | F24: UBMC2025025 | I24: 刘迎迎 | J24: NK | K24: 亳州 | L24: 涡阳县人民医院 | M24: 2025年11月19日21时45分 | N24: 2025年11月19日21时46分 | O24: 杨莉莉 | P24: 张颖 | Q24: 专线车 | R24: 100 | S24: 男 | T24: 3380g | U24: 顺产 | V24: 1 | W24: 无母血 | X24: 1
A25: 4 | B25: 2025年 | C25: 11 | D25: 19 | E25: 202511008 | F25: UBMC2025026 | I25: 王千喜 | J25: NK | K25: 亳州 | L25: 涡阳县人民医院 | M25: 2025年11月19日18时29分 | N25: 2025年11月19日18时30分 | O25: 杨莉莉 | P25: 张颖 | S25: 女 | T25: 2500g | U25: 顺产 | V25: 1 | W25: 无母血 | X25: 1
A26: 5 | B26: 2025年 | C26: 11 | D26: 19 | G26: 属地废弃 | H26: 血量少 | I26: 冯文文 | J26: 属地废弃 | K26: 亳州 | L26: 涡阳县人民医院 | O26: 杨莉莉 | P26: 张颖 | X26: 1 | Y26: 已核销
A27: 6 | B27: 2025年 | C27: 11 | D27: 20 | G27: 属地废弃 | H27: 血量少 | I27: 孙莹莹 | J27: 属地废弃 | K27: 亳州 | L27: 涡阳县人民医院 | O27: 杨莉莉 | P27: 张颖 | X27: 1 | Y27: 已核销
A28: 7 | B28: 2025年 | C28: 11 | D28: 20 | G28: 属地废弃 | H28: 血量少 | I28: 李宏燕 | J28: 属地废弃 | K28: 亳州 | L28: 涡阳县中医院 | O28: 张慧茹 | P28: 张颖 | X28: 1 | Y28: 已核销
A29: 8 | B29: 2025年 | C29: 11 | D29: 21 | E29: 202511010 | F29: UBMC2025027 | I29: 邢会会 | J29: NK | K29: 亳州 | L29: 涡阳县人民医院 | M29: 2025年11月21日08时40分 | N29: 2025年11月21日08时41分 | O29: 马丽 | P29: 张颖 | Q29: 顺丰快递 | R29: 月结 | S29: 女 | T29: 3400g | U29: 剖腹产 | V29: 2 | W29: 无母血 | X29: 1
A30: 9 | B30: 2025年 | C30: 11 | D30: 21 | G30: 属地废弃 | H30: 血量少 | I30: 赵翠 | J30: 属地废弃 | K30: 亳州 | L30: 涡阳县人民医院 | O30: 马丽 | P30: 张颖 | X30: 1 | Y30: 已核销
A31: 10 | B31: 2025年 | C31: 11 | D31: 26 | G31: 属地废弃 | H31: 血量少 | I31: 冯婷婷 | J31: 属地废弃 | K31: 亳州 | L31: 涡阳县中医院 | O31: 张慧茹 | P31: 张颖 | X31: 1 | Y31: 已核销
A32: 11 | B32: 2025年 | C32: 11 | D32: 28 | E32: 202511012 | F32: UBMC2025028 | I32: 郭静云 | J32: NK | K32: 亳州 | L32: 涡阳县中医院 | M32: 2025年11月28日12时02分 | N32: 2025年11月28日12时03分 | O32: 张慧茹 | P32: 张颖 | Q32: 顺丰快递 | R32: 月结 | S32: 女 | T32: 3200g | U32: 剖腹产 | V32: 1 | W32: 无母血 | X32: 1
A33: 12 | B33: 2025年 | C33: 11 | D33: 28 | G33: 属地废弃 | H33: 血量少 | I33: 刘丽娜 | J33: 属地废弃 | K33: 亳州 | L33: 涡阳县人民医院 | O33: 马丽 | P33: 张颖 | X33: 1 | Y33: 已核销
A34: 13 | B34: 2025年 | C34: 11 | D34: 29 | G34: 属地废弃 | H34: 血量少 | I34: 薛玉清 | J34: 属地废弃 | K34: 亳州 | L34: 涡阳县中医院 | O34: 张慧茹 | P34: 张颖 | X34: 1 | Y34: 已核销
A35: 1 | B35: 2025年 | C35: 12 | D35: 3 | E35: 202512003 | F35: UBMC2025029 | I35: 杨晶晶 | J35: NK | K35: 亳州 | L35: 涡阳县中医院 | M35: 2025年12月03日11时30分 | N35: 2025年12月03日11时31分 | O35: 张慧茹 | P35: 张颖 | Q35: 顺丰快递 | R35: 月结 | S35: 男 | T35: 3580g | U35: / | V35: 2 | W35: 无母血 | X35: 1
A36: 2 | B36: 2025年 | C36: 12 | D36: 3 | E36: 202512004 | F36: UBMC2025030 | I36: 沈蕊 | J36: NK | K36: 亳州 | L36: 涡阳县中医院 | M36: 2025年12月03日9时59分 | N36: 2025年12月03日10时00分 | O36: 张慧茹 | P36: 张颖 | S36: 女 | T36: 3040g | U36: 顺产 | V36: 1 | W36: 无母血 | X36: 1
A37: 3 | B37: 2025年 | C37: 12 | D37: 2 | G37: 属地废弃 | I37: 邢金雨 | J37: 属地废弃 | K37: 亳州 | L37: 涡阳县人民医院 | O37: 马丽 | P37: 张颖 | X37: 1 | Y37: 已核销
A38: 4 | B38: 2025年 | C38: 12 | D38: 5 | G38: 属地废弃 | I38: 李艳琼 | J38: 属地废弃 | K38: 亳州 | L38: 涡阳县人民医院 | O38: 杨莉莉 | P38: 张颖 | X38: 1 | Y38: 已核销
A39: 5 | B39: 2025年 | C39: 12 | D39: 5 | E39: 202512007 | F39: UBMC2025032 | I39: 李慧甜 | J39: NK | K39: 亳州 | L39: 涡阳县中医院 | M39: 2025.12.5 15:30 | N39: 2025.12.5 15:31 | O39: 张慧茹 | P39: 张颖 | Q39: 顺丰快递 | R39: 月结 | S39: 男 | T39: 3100g | U39: 剖腹产 | V39: 2 | W39: 无母血 | X39: 1
A40: 6 | B40: 2025年 | C40: 12 | D40: 5 | E40: 202512008 | F40: UBMC2025033 | I40: 李秀丽 | J40: NK | K40: 亳州 | L40: 涡阳县中医院 | M40: 2025.12.5 16:53 | N40: 2025.12.5 16:54 | O40: 张慧茹 | P40: 张颖 | S40: 女 | T40: 2800g | U40: 剖腹产 | V40: 3 | W40: 无母血 | X40: 1
A41: 7 | B41: 2025年 | C41: 12 | D41: 8 | E41: 202512012 | F41: UBMC2025034 | G41: 实验室废弃 | H41: 知情同意书签署放弃 | I41: 锁宁 | J41: 实验室废弃 | K41: 亳州 | L41: 涡阳县人民医院 | M41: 2025年12月8日09时27分 | N41: 2025年12月8日09时28分 | O41: 杨莉莉 | P41: 张颖 | Q41: 顺丰快递 | R41: 月结 | S41: 男 | T41: 2970g | U41: 剖腹产 | V41: 1 | W41: 无母血 | X41: 1
A42: 8 | B42: 2025年 | C42: 12 | D42: 9 | G42: 属地废弃 | I42: 侯妍妍 | J42: 属地废弃 | K42: 亳州 | L42: 涡阳县人民医院 | O42: 马丽 | P42: 张颖 | X42: 1 | Y42: 已核销
A43: 9 | B43: 2025年 | C43: 12 | D43: 10 | E43: 202512013 | F43: UBMC2025035 | I43: 陈倩倩 | J43: NK | K43: 亳州 | L43: 涡阳县人民医院 | M43: 2025年12月10日11时30分 | N43: 2025年12月10日11时31分 | O43: 马丽 | P43: 张颖 | Q43: 顺丰快递 | R43: 月结 | S43: 女 | T43: 4300g | U43: 剖腹产 | V43: 1 | W43: 无母血 | X43: 1
A44: 10 | B44: 2025年 | C44: 12 | D44: 12 | E44: 202512015 | F44: UBMC2025036 | I44: 卜俊楠 | J44: NK | K44: 亳州 | L44: 涡阳县中医院 | M44: 2025年12月12日 16点54分 | N44: 2025年12月12日 16点55分 | O44: 张慧茹 | P44: 张颖 | Q44: 专线车 | R44: 100 | S44: 女 | T44: 3500g | U44: 剖腹产 | V44: 2 | W44: 无母血 | X44: 1
A45: 11 | B45: 2025年 | C45: 12 | D45: 16 | I45: 姚晨 | J45: 属地废弃 | K45: 亳州 | L45: 涡阳县中医院 | O45: 张慧茹 | P45: 张颖 | X45: 1 | Y45: 已核销
A46: 12 | B46: 2025年 | C46: 12 | D46: 23 | E46: 202512022 | F46: UBMC2025037 | G46: 实验室废弃 | H46: 员工转正考核 | I46: 姚影影 | J46: 实验室废弃 | K46: 亳州 | L46: 涡阳县中医院 | M46: 2025年12月23日 16点55分 | N46: 2025年12月23日 16点56分 | O46: 张慧茹 | P46: 张颖 | Q46: 顺丰快递 | R46: 月结 | S46: 男 | T46: 2870g | U46: 剖腹产 | V46: 1 | W46: 无母血 | X46: 1
A47: 13 | B47: 2025年 | C47: 12 | D47: 24 | G47: 属地废弃 | I47: 侯颖 | J47: 属地废弃 | K47: 亳州 | L47: 涡阳县中医院 | O47: 张慧茹 | P47: 张颖 | X47: 1 | Y47: 已核销
A48: 14 | B48: 2025年 | C48: 12 | D48: 24 | G48: 属地废弃 | I48: 刘红敏 | J48: 属地废弃 | K48: 亳州 | L48: 涡阳县人民医院 | O48: 杨莉莉 | P48: 张颖 | X48: 1 | Y48: 已核销
A49: 15 | B49: 2025年 | C49: 12 | D49: 24 | G49: 属地废弃 | I49: 王秀昤 | J49: 属地废弃 | K49: 亳州 | L49: 涡阳县人民医院 | O49: 马丽 | P49: 张颖 | X49: 1 | Y49: 已核销
A50: 16 | B50: 2025年 | C50: 12 | D50: 24 | G50: 属地废弃 | I50: 崔灿 | J50: 属地废弃 | K50: 亳州 | L50: 涡阳县人民医院 | O50: 杨莉莉 | P50: 张颖 | X50: 1 | Y50: 已核销
A51: 17 | B51: 2025年 | C51: 12 | D51: 30 | G51: 属地废弃 | I51: 杨成荣 | J51: 属地废弃 | K51: 亳州 | L51: 涡阳县中医院 | M51: 2025年12月30日15时35分 | N51: 2025年12月30日15时36分 | O51: 张慧茹 | P51: 张颖 | X51: 1 | Y51: 已核销
A52: 18 | B52: 2025年 | C52: 12 | D52: 30 | G52: 属地废弃 | I52: 汤巧玲 | J52: 属地废弃 | K52: 亳州 | L52: 涡阳县中医院 | M52: 2025年12月30日15时01分 | N52: 2025年12月30日15时02分 | O52: 张慧茹 | P52: 张颖 | X52: 1 | Y52: 已核销
A53: 1 | B53: 2026年 | C53: 1 | D53: 19 | E53: 202601005 | I53: 黄景丽 | J53: NK | K53: 亳州 | L53: 涡阳县中医院 | O53: 张慧茹 | P53: 张颖 | Q53: 顺丰快递 | R53: 月结 | S53: 男 | T53: 3500g | U53: 顺产 | V53: 3 | W53: 无母血 | X53: 1
A54: 2 | B54: 2026年 | C54: 1 | D54: 19 | G54: 属地废弃 | I54: 张东妹 | J54: 属地废弃 | K54: 亳州 | L54: 涡阳县中医院 | M54: 2026年1月19日 9点46分 | N54: 2026年1月19日 9点47分 | O54: 张慧茹 | P54: 张颖 | X54: 1 | Y54: 已核销
A55: 3 | B55: 2026年 | C55: 1 | D55: 21 | G55: 属地废弃 | I55: 赵雨晴 | J55: 属地废弃 | K55: 亳州 | L55: 涡阳县人民医院 | O55: 杨莉莉 | P55: 张颖 | X55: 1 | Y55: 已核销
A56: 1 | B56: 2026年 | C56: 1 | D56: 10 | G56: 属地废弃 | I56: 李娜 | J56: 属地废弃 | K56: 亳州 | L56: 利辛县人民医院 | M56: 2026.1.10 06时44分 | O56: 陆梅侠 | P56: 张颖 | X56: 1 | Y56: 已核销
A57: 2 | B57: 2026年 | C57: 2 | D57: 7 | E57: 202602001 | F57: UBMC202602001 | I57: 吴真真 | J57: NK | K57: 亳州 | L57: 涡阳县人民医院 | M57: 2026年2月7日18时32分 | N57: 2026年2月7日18时33分 | O57: 马丽 | P57: 张颖 | Q57: 顺风车 | R57: 100 | S57: 男 | T57: 3200g | U57: 顺产 | V57: 2 | W57: 无母血 | X57: 1
A58: 3 | B58: 2026年 | C58: 2 | D58: 10 | E58: 202602002 | F58: UBMC202602002 | G58: 实验室废弃 | H58: 知情同意书签署放弃 | I58: 孙慧文 | J58: 实验室废弃 | K58: 亳州 | L58: 涡阳县人民医院 | M58: 2026年2月10日9时20分 | N58: 2026年2月10日9时20分 | O58: 马丽 | P58: 张颖 | Q58: 顺风车 | R58: 100 | S58: 男 | T58: 3550g | U58: 顺产 | V58: 4 | W58: 无母血 | X58: 1 | Y58: 已核销
A59: 4 | B59: 2026年 | C59: 2 | D59: 10 | E59: 202602003 | G59: 实验室废弃 | H59: 知情同意书签署放弃 | I59: 赵曼莉 | J59: 实验室废弃 | K59: 亳州 | L59: 涡阳县人民医院 | M59: 2026年2月10日13时05分 | N59: 2026年2月10日13时06分 | O59: 杨莉莉 | P59: 张颖 | Q59: 顺风车 | R59: 100 | S59: 男 | T59: 3500g | U59: 顺产 | V59: 2 | W59: 无母血 | X59: 1 | Y59: 已核销
A60: 5 | B60: 2026年 | C60: 2 | D60: 10 | E60: 202602004 | G60: 实验室废弃 | H60: 知情同意书签署放弃 | I60: 田青青 | J60: 实验室废弃 | K60: 亳州 | L60: 涡阳县人民医院 | M60: 2026年2月10日18时35分 | N60: 2026年2月10日18时36分 | O60: 杨莉莉 | P60: 张颖 | S60: 男 | T60: 3400g | U60: 顺产 | V60: 2 | W60: 无母血 | X60: 1 | Y60: 已核销
A61: 6 | B61: 2026年 | C61: 2 | D61: 10 | E61: 202602005 | G61: 实验室废弃 | H61: 知情同意书签署放弃 | I61: 牛芳 | J61: 实验室废弃 | K61: 亳州 | L61: 涡阳县人民医院 | M61: 2026年2月10日23时05分 | N61: 2026年2月10日23时06分 | O61: 杨莉莉 | P61: 张颖 | S61: 女 | T61: 3500g | U61: 顺产 | V61: 2 | W61: 无母血 | X61: 1 | Y61: 已核销
A62: 7 | B62: 2026年 | C62: 2 | D62: 11 | G62: 属地废弃 | H62: 知情同意书签署放弃 | I62: 蒿梦蝶 | J62: 属地废弃 | K62: 亳州 | L62: 涡阳县中医院 | M62: 2026年2月11日15时55分 | N62: 2026年2月11日15时56分 | O62: 张慧茹 | P62: 张颖 | X62: 1 | Y62: 已核销
A63: 8 | B63: 2026年 | C63: 2 | D63: 12 | E63: 202602007 | F63: UBMC202602003 | I63: 张雨婷 | J63: NK | K63: 亳州 | L63: 涡阳县人民医院 | M63: 2026年2月12日22时28分 | N63: 2026年2月12日22时28分 | O63: 马丽 | P63: 张颖 | Q63: 顺风车 | R63: 0 | S63: 男 | T63: 3200g | U63: 顺产 | V63: 1 | W63: 无母血 | X63: 1 | Y63: 跟殷倩样本一起
A64: 9 | B64: 2026年 | C64: 2 | D64: 13 | E64: 202602008 | F64: UBMC202602004 | I64: 许慧茹 | J64: NK | K64: 亳州 | L64: 利辛县人民医院 | M64: 2026年2月13日22时26分 | N64: 2026年2月13日22时27分 | O64: 赵文静 | P64: 张颖 | Q64: 顺风车 | R64: 60 | S64: 男 | T64: 3300g | U64: 顺产 | V64: 1 | W64: 无母血 | X64: 1
A65: 10 | B65: 2026年 | C65: 2 | D65: 13 | G65: 属地废弃 | H65: 血量少 | I65: 王念晴 | J65: 属地废弃 | K65: 亳州 | L65: 利辛县人民医院 | M65: 2026年2月13日22时56分 | O65: 赵文静 | P65: 张颖 | X65: 1 | Y65: 已核销
A66: 11 | B66: 2026年 | C66: 2 | D66: 14 | G66: 属地废弃 | H66: 血量少 | I66: 周荣 | J66: 属地废弃 | K66: 亳州 | L66: 利辛县人民医院 | M66: 2026年2月14日00:56 | O66: 陆梅侠 | P66: 张颖 | X66: 1
A67: 12 | B67: 2026年 | C67: 2 | D67: 14 | G67: 属地废弃 | H67: 血量少 | I67: 罗树香 | J67: 属地废弃 | K67: 亳州 | L67: 利辛县人民医院 | M67: 2026年2月14日5:33 | O67: 陆梅侠 | P67: 张颖 | X67: 1
A68: 13 | B68: 2026年 | C68: 2 | D68: 14 | E68: 202602009 | F68: UBMC202602005 | G68: 实验室废弃 | I68: 张慧敏 | J68: 实验室废弃 | K68: 亳州 | L68: 涡阳县中医院 | M68: 2026年2月14日 10点35分 | N68: 2026年2月14日 10点36分 | O68: 张慧茹 | P68: 张颖 | Q68: 顺丰快递 | S68: 男 | T68: 5074g | U68: 剖腹产 | V68: 2 | X68: 1
A69: 14 | B69: 2026年 | C69: 2 | D69: 14 | E69: 202602010 | F69: UBMC202602006 | G69: 实验室废弃 | I69: 曹晶晶 | J69: 实验室废弃 | K69: 亳州 | L69: 涡阳县人民医院 | M69: 2026年2月14日11时42分 | N69: 2026年2月14日11时42分 | O69: 马丽 | P69: 张颖 | Q69: 顺丰快递 | S69: 男 | T69: 3650g | U69: 顺产 | V69: 1 | X69: 1
A70: 15 | B70: 2026年 | C70: 2 | D70: 14 | G70: 属地废弃 | H70: 知情同意书签署放弃 | I70: 蒋秀荣 | J70: 属地废弃 | K70: 亳州 | L70: 涡阳县人民医院 | M70: 2026年2月14日08：03分 | O70: 马丽 | P70: 张颖 | X70: 1
A71: 16 | B71: 2026年 | C71: 2 | D71: 14 | G71: 属地废弃 | H71: 知情同意书签署放弃 | I71: 蔡馨恬 | J71: 属地废弃 | K71: 亳州 | L71: 涡阳县人民医院 | M71: 2026年2月14日15时10分 | O71: 杨莉莉 | P71: 张颖 | X71: 1
A72: 17 | B72: 2026年 | C72: 2 | D72: 14 | G72: 属地废弃 | H72: 知情同意书签署放弃 | I72: 王勤勤 | J72: 属地废弃 | K72: 亳州 | L72: 涡阳县人民医院 | M72: 2026年2月14日10时42分 | O72: 马丽 | P72: 张颖 | X72: 1
A73: 18 | B73: 2026年 | C73: 2 | D73: 14 | G73: 属地废弃 | H73: 知情同意书签署放弃 | I73: 张碧玉 | J73: 属地废弃 | K73: 亳州 | L73: 涡阳县人民医院 | M73: 2026年2月14日13时02分 | O73: 杨莉莉 | P73: 张颖 | X73: 1
A74: 19 | B74: 2026年 | C74: 2 | D74: 23 | E74: 202602012 | F74: UBMC202602007 | I74: 程晓培 | J74: NK | K74: 亳州 | L74: 涡阳县人民医院 | M74: 2026年2月23日09时30分 | N74: 2026年2月23日09时31分 | O74: 杨莉莉 | P74: 张颖 | Q74: 顺丰快递 | S74: 男 | T74: 2800g | U74: 顺产 | V74: 2 | W74: 无母血 | X74: 1
A75: 20 | B75: 2026年 | C75: 2 | D75: 25 | E75: 202602013 | I75: 王冬梅 | J75: NK | K75: 亳州 | L75: 涡阳县中医院 | M75: 2026年2月25日 15点16分 | N75: 2026年2月25日 15点17分 | O75: 张慧茹 | P75: 张颖 | S75: 男 | T75: 2924g | U75: 剖腹产 | V75: 2 | W75: 无母血 | X75: 1
A76: 21 | B76: 2026年 | C76: 2 | D76: 25 | I76: 王冬梅 | J76: 脐带间充质干细胞 | K76: 亳州 | L76: 涡阳县中医院 | M76: 2026年2月25日 15点16分 | N76: 2026年2月25日15点22分 | O76: 张慧茹 | P76: 张颖 | S76: 男 | T76: 2924g | U76: 剖腹产 | V76: 2 | W76: 无母血 | X76: 1
A77: 22 | B77: 2026年 | C77: 2 | D77: 25 | H77: 母血乙肝阳性 | I77: 张娜 | J77: 脐带间充质干细胞 | L77: 涡阳县中医院 | O77: 张慧茹 | P77: 张颖 | X77: 1
A78: 23 | B78: 2026年 | C78: 2 | D78: 26 | E78: 202602014 | I78: 汪婷婷 | J78: NK | K78: 亳州 | L78: 涡阳县人民医院 | M78: 2026年2月26日16时15分 | N78: 2026年2月26日18时16分 | O78: 马丽 | P78: 张颖 | Q78: 顺风车 | R78: 100 | S78: 男 | T78: 3650g | U78: 顺产 | V78: 1 | X78: 1
A79: 24 | B79: 2026年 | C79: 2 | D79: 26 | E79: 202602015 | I79: 王莉雯 | J79: NK | K79: 亳州 | L79: 涡阳县人民医院 | M79: 2026年2月26日18时35分 | N79: 2026年2月26日18时36分 | O79: 马丽 | P79: 张颖 | S79: 男 | T79: 3000g | U79: 顺产 | V79: 1 | X79: 1
A80: 25 | B80: 2026年 | C80: 2 | D80: 26 | E80: 202602016 | I80: 王胜芳 | J80: NK | K80: 亳州 | L80: 涡阳县中医院 | M80: 2026年2月26日 18点34分 | N80: 2026年2月26日 18点35分 | O80: 张慧茹 | P80: 张颖 | S80: 男 | T80: 3420g | U80: 顺产 | V80: 2 | X80: 1
A81: 26 | B81: 2026年 | C81: 2 | D81: 26 | E81: 202002017 | I81: 王胜芳 | J81: 脐带间充质干细胞 | K81: 亳州 | L81: 涡阳县中医院 | M81: 2026年2月26日 18点34分 | N81: 2026年2月26日18点40分 | O81: 张慧茹 | P81: 张颖 | S81: 男 | T81: 3420g | U81: 顺产 | V81: 2 | X81: 1
A82: 1 | B82: 2026年 | C82: 3 | D82: 3 | E82: 202003002 | I82: 王余雷 | J82: NK | K82: 亳州 | L82: 涡阳县人民医院 | M82: 2026年3月3日9时43分 | N82: 2026年3月3日9时43分 | O82: 马丽 | P82: 张颖 | Q82: 顺丰快递 | S82: 男 | T82: 3000g | U82: 剖腹产 | V82: 2 | W82: 无母血 | X82: 1
A83: 2 | B83: 2026年 | C83: 3 | D83: 5 | G83: 属地废弃 | I83: 李思扬 | J83: 属地废弃 | K83: 亳州 | L83: 涡阳县中医院 | M83: 2026年3月5日18时18分 | O83: 张慧茹 | P83: 张颖 | X83: 1 | Y83: 已核销
A84: 3 | B84: 2026年 | C84: 3 | D84: 6 | G84: 属地废弃 | I84: 康佳 | J84: 属地废弃 | K84: 亳州 | L84: 利辛县人民医院 | M84: 2026年3月6日4:07 | O84: 陆梅侠 | P84: 张颖 | X84: 1 | Y84: 已核销
A85: 4 | B85: 2026年 | C85: 3 | D85: 8 | G85: 属地废弃 | I85: 耿如雪 | J85: 属地废弃 | K85: 亳州 | L85: 涡阳县中医院 | M85: 2026年3月8日15时57分 | O85: 张慧茹 | P85: 张颖 | X85: 1 | Y85: 已核销
A86: 5 | B86: 2026年 | C86: 3 | D86: 8 | G86: 属地废弃 | I86: 刘春汝 | J86: 属地废弃 | K86: 亳州 | L86: 利辛县人民医院 | M86: 2026.3月8.19:10 | O86: 陆梅侠 | P86: 张颖 | X86: 1 | Y86: 已核销
A87: 6 | B87: 2026年 | C87: 3 | D87: 12 | G87: 属地废弃 | I87: 冯双 | J87: 属地废弃 | K87: 亳州 | L87: 涡阳县中医院 | M87: 2026年3月12日22时26分 | O87: 张慧茹 | P87: 张颖 | X87: 1
A88: 7 | B88: 2026年 | C88: 3 | D88: 12 | E88: 202603005 | F88: UBMC202603002 | I88: 阿曼古丽.艾比布拉 | J88: NK | K88: 亳州 | L88: 涡阳县中医院 | M88: 2026年3月12日 21点25分 | N88: 026年3月12日 21点26分 | O88: 张慧茹 | P88: 张颖 | Q88: 顺丰快递 | S88: 男 | T88: 3980g | U88: 顺产 | V88: 1 | W88: 无母血 | X88: 1
A89: 8 | B89: 2026年 | C89: 3 | D89: 14 | I89: 张敏 | K89: 亳州 | L89: 涡阳县中医院 | M89: 2026年3月14日 17点45分 | N89: 2026年3月14日 17点46分 | O89: 张慧茹 | P89: 张颖 | Q89: 顺风车 | R89: 100 | S89: 男 | T89: 3320g | U89: 顺产 | V89: 2 | W89: 2026年3月14日19点40分 | X89: 1
A90: 9 | B90: 2026年 | C90: 3 | D90: 14 | E90: 202603006 | F90: UC202603002 | I90: 张敏 | J90: 脐带间充质干细胞 | K90: 亳州 | L90: 涡阳县中医院 | M90: 2026年3月14日 17点45分 | N90: 2026年3月14日 17点48分 | O90: 张慧茹 | P90: 张颖 | S90: 男 | T90: 3320g | U90: 顺产 | V90: 2 | W90: 2026年3月14日19点40分 | X90: 1
A91: 10 | B91: 2026年 | C91: 3 | D91: 14 | I91: 陆玲 | K91: 亳州 | L91: 涡阳县中医院 | M91: 2026年3月14日 18点05分 | N91: 2026年3月14日 18点06分 | O91: 张慧茹 | P91: 张颖 | S91: 男 | T91: 3700g | U91: 顺产 | V91: 2 | W91: 2026年3月14日19点40分 | X91: 1
A92: 11 | B92: 2026年 | C92: 3 | D92: 14 | E92: 202603007 | F92: UC202603003 | I92: 陆玲 | J92: 脐带间充质干细胞 | K92: 亳州 | L92: 涡阳县中医院 | M92: 2026年3月14日 18点05分 | N92: 2026年3月14日 18点08分 | O92: 张慧茹 | P92: 张颖 | S92: 男 | T92: 3700g | U92: 顺产 | V92: 2 | W92: 2026年3月14日19点40分 | X92: 1
A93: 12 | B93: 2026年 | C93: 3 | D93: 17 | E93: 202603009 | F93: UBMC202603003 | I93: 纪梦如 | J93: NK | K93: 亳州 | L93: 利辛县人民医院 | M93: 2026年3月17日19时36分 | N93: 2026年3月17日19时37分 | O93: 赵文静 | P93: 张颖 | Q93: 顺风车 | S93: 女 | T93: 2830g | U93: 顺产 | V93: 1 | W93: 无母血 | X93: 1
A94: 13 | B94: 2026年 | C94: 3 | D94: 18 | E94: 202603010 | F94: UBMC202603004 | I94: 张茹 | J94: NK | K94: 亳州 | L94: 利辛县人民医院 | M94: 2026.3.18.1:26分 | N94: 2026.3.18.1:27分 | O94: 陆梅侠 | P94: 张颖 | S94: 男 | T94: 3600g | U94: 顺产 | V94: 2 | W94: 无母血 | X94: 1
A95: 14 | B95: 2026年 | C95: 3 | D95: 18 | G95: 属地废弃 | I95: 王艳丽 | J95: 属地废弃 | K95: 亳州 | L95: 涡阳县人民医院 | M95: 26.年3月18日8点30分 | O95: 马丽 | P95: 张颖 | X95: 1 | Y95: 已核销
A96: 15 | B96: 2026年 | C96: 3 | D96: 19 | G96: 属地废弃 | I96: 韩丽 | J96: 属地废弃 | K96: 亳州 | L96: 涡阳县人民医院 | M96: 26.年3月19日16点50分 | O96: 马丽 | P96: 张颖 | X96: 1 | Y96: 已核销
A97: 16 | B97: 2026年 | C97: 3 | D97: 19 | E97: 202603011 | F97: UBMC202603005 | I97: 潘伟侠 | J97: NK | K97: 亳州 | L97: 涡阳县中医院 | M97: 2026年3月19日15点18分 | N97: 2026年3月19日15点19分 | O97: 张慧茹 | P97: 张颖 | Q97: 顺丰快递 | S97: 男 | T97: 4424g | U97: 顺产 | V97: 3 | W97: 无母血 | X97: 1
A98: 17 | B98: 2026年 | C98: 3 | D98: 20 | E98: 202603014 | F98: UBMC202603006 | I98: 戚荣臻 | J98: NK | K98: 亳州 | L98: 涡阳县中医院 | M98: 2026年3月20日10点35分 | N98: 2026年3月20日10点36分 | O98: 张慧茹 | P98: 张颖 | Q98: 顺丰快递 | S98: 男 | T98: 4300g | U98: 剖腹产 | V98: 1 | W98: 无母血 | X98: 1
A99: 18 | B99: 2026年 | C99: 3 | D99: 27 | G99: 属地废弃 | I99: 陈金金 | J99: 属地废弃 | K99: 亳州 | L99: 利辛县人民医院 | M99: 2026年3月27日 09点24分 | O99: 赵文静 | P99: 张颖 | X99: 1 | Y99: 已核销
A100: 19 | B100: 2026年 | C100: 3 | D100: 28 | E100: 202603015 | I100: 冯青青 | J100: NK | K100: 亳州 | L100: 利辛县人民医院 | M100: 2026年3月28日 18点33分 | N100: 2026年3月28日 18点34分 | O100: 陆梅侠 | P100: 张颖 | Q100: 顺风车 | S100: 男 | T100: 3600g | U100: 顺产 | V100: 2 | W100: 无母血 | X100: 1
...

Sheet 退款表
A1: 日期 | B1: 类型 | C1: 摘要 | D1: 收账金额 | E1: 退款金额 | F1: 银行退款 | G1: 收款人姓名 | H1: 归属人 | I1: 是否制备 | J1: 备注 | K1: 退款日期
A2: 45901 | B2: 悔存 | C2: 王晴晴 | D2: 5000 | E2: 5000 | G2: 杨晨 | H2: 马丽 | I2: 是 | J2: 已退款
A3: 45901 | B3: 悔存 | C3: 魏星月ZKZX34000859 | D3: 2000 | E3: 1000 | F3: 1000 | H3: 杨莉莉 | I3: 是 | J3: 已退款 | K3: 45924
A4: 45901 | B4: 悔存 | C4: 陈影 | D4: 1000 | E4: 1000 | F4: 1000 | I4: 否 | J4: 已退款 | K4: 45924
A5: 45901 | B5: 悔存 | C5: 邵悦ZKZX34000839 | D5: 6480 | E5: 5480 | F5: 5480 | G5: 赵威 | H5: 张慧茹 | I5: 是 | J5: 已退款 | K5: 45954
A6: 45931 | B6: 悔存 | C6: 马晓艳ZKZX34000848 | D6: 2000 | E6: 2000 | F6: 2000 | G6: 臧董标 | H6: 杨莉莉 | I6: 是 | J6: 已退款 | K6: 45954
A7: 45931 | B7: 细菌阳性 | C7: 杨薇薇ZKZX34000841 | D7: 22880 | E7: 22880 | F7: 22880 | G7: 杨秀平 | H7: 张慧茹 | I7: 是 | J7: 已退款 | K7: 45982
A8: 45992 | B8: 悔存 | C8: 张璐璐ZKZX34000873 | D8: 6480 | E8: 6480 | G8: 王辉 | H8: 马丽 | I8: 否 | J8: 已退款
A9: 45992 | B9: 悔存 | C9: 潘庆 | D9: 1000 | E9: 1000 | F9: 1000 | H9: 赵文静 | I9: 否 | J9: 已退款 | K9: 46031
A10: 46054 | B10: 悔存 | C10: 程红ZKZX34000902 | D10: 6480 | E10: 6480 | F10: 6480 | G10: 华浩 | H10: 马丽 | I10: 否 | J10: 已退款 | K10: 46184
A11: 46023 | B11: 悔存 | C11: 李欣欣ZKZX34000876 | D11: 6480 | E11: 6480 | G11: 牛志强 | H11: 张慧茹 | I11: 是 | J11: 已退款
A12: 46082 | B12: 悔存 | C12: 徐睿君ZKZX34000897 | D12: 6480 | E12: 5480 | F12: 5480 | H12: 杨莉莉 | I12: 是 | J12: 已退款 | K12: 46171
A13: 46113 | B13: 悔存 | C13: 李建欣ZKZX34000878 | D13: 6480 | E13: 5480 | G13: 方斌 | H13: 张慧茹 | I13: 是 | J13: 已退款
A14: 46113 | B14: 乙肝阳性 | C14: 王玉玉ZKZX34000883 | D14: 22880 | E14: 21880 | F14: 41760 | H14: 马丽 | I14: 否 | J14: 已退款 | K14: 46191
A15: 46113 | B15: 乙肝阳性 | C15: 王玉玉ZKQD34000861 | D15: 20880 | E15: 19880 | H15: 马丽 | I15: 否 | J15: 已退款 | K15: 46191
A16: 46174 | B16: 悔存 | C16: 邓敏ZKZX34000930 | D16: 6480 | E16: 5480 | H16: 杨莉莉 | I16: 是
A17: 46204 | B17: 乙肝阳性 | C17: 李影ZKZX34000956 | D17: 6480 | E17: 5480
E20: =SUM(E2:E18) -> 121480
