Workbook

Sheet 样本采集管理
A1: 序号 | B1: 年 | C1: 月 | D1: 日 | E1: 实验室 流转编码 | F1: 母亲姓名 | G1: 协议编号 | H1: 样本类型 | I1: 是否同存 | J1: 采集地区 | K1: 涡阳县人民医院 | L1: 采集时间 | M1: 缴费方式 | N1: 首期 缴费时间 | O1: 市场专员 | P1: 地区经理 | Q1: 运输方式 | R1: 运费
B2: 2025 | C2: 9 | D2: 7 | E2: B0000001 | F2: 王晴晴 | H2: 围产期造血干细胞 | I2: 否 | J2: 亳州区域 | K2: 涡阳县人民医院 | L2: 2025年9月7日13时45分 | M2: 分期 | N2: 45907.601 | O2: 马丽 | P2: 张颖 | Q2: 快递 | R2: 25
A3: 1 | B3: 2025 | C3: 9 | D3: 7 | E3: B0000002 | F3: 高居巧 | G3: ZKZX34000852 | H3: 围产期造血干细胞 | I3: 否 | J3: 亳州区域 | K3: 涡阳县人民医院 | L3: 2025年9月7日15时37分 | M3: 趸交 | N3: 2025年9月8日18:49:28付5480元， 18:52:25付16400元， 9月7日09:22:15付1000元 | O3: 杨莉莉 | P3: 张颖 | Q3: 快递 | S3: 母血17元
A4: 2 | B4: 2025 | C4: 9 | D4: 8 | E4: B0000003 | F4: 徐嫣然 | G4: ZKZX34000850 | H4: 围产期造血干细胞 | I4: 否 | J4: 亳州区域 | K4: 涡阳县人民医院 | L4: 2025年9月8日15时42分 | M4: 分改趸 | N4: 2025年9月9日19:28:30付2000元， 9月15日18:27:36付4480元； 2025年11月20日10时23分53秒 | O4: 马丽 | P4: 张颖 | Q4: 快递 | R4: 25 | U4: 存续
A5: 3 | B5: 2025 | C5: 9 | D5: 15 | E5: B0000004 | F5: 郭梦朵 | G5: ZKZX34000849 | H5: 围产期造血干细胞 | I5: 否 | J5: 亳州区域 | K5: 涡阳县人民医院 | L5: 2025年9月15日08时51分 | M5: 趸交 | N5: 2025年9月15日11时13分01秒付6480元， 9月17日08时44分57秒付16400元 | O5: 马丽 | P5: 张颖 | Q5: 专线车 | R5: 100
B6: 2025 | C6: 9 | D6: 18 | E6: B0000005 | F6: 魏星月 | G6: ZKZX34000859 | H6: 围产期造血干细胞 | I6: 否 | J6: 亳州区域 | K6: 涡阳县人民医院 | L6: 2025年9月18日16时10分 | M6: 定金 | N6: 2025年9月18日14时55分04秒 | O6: 杨莉莉 | P6: 张颖 | Q6: 快递 | R6: 24
A7: 4 | B7: 2025 | C7: 9 | D7: 21 | E7: B0000006 | F7: 相晓燕 | G7: ZKZX34000858 | H7: 围产期造血干细胞 | I7: 否 | J7: 亳州区域 | K7: 涡阳县人民医院 | L7: 2025年9月21日16时21分 | M7: 趸交 | N7: 2025年9月21日11时50分04秒 | O7: 杨莉莉 | P7: 张颖 | Q7: 快递 | R7: 24 | S7: 母血13元
B8: 2025 | C8: 9 | E8: B0000007 | F8: 邵悦 | G8: ZKZX34000839 | H8: 围产期造血干细胞 | I8: 否 | J8: 亳州区域 | K8: 涡阳县中医院 | L8: 2025年9月27日12时56分 | M8: 分期 | N8: 2025年9月27日 17时01分 2025年9月27日 17时08分 | O8: 张慧茹 | P8: 张颖 | Q8: 专线车 | R8: 100
A9: 1 | B9: 2025 | C9: 10 | D9: 10 | E9: B0000008 | F9: 尹璐 | G9: ZKZX34000854 | H9: 围产期造血干细胞 | I9: 否 | J9: 亳州区域 | K9: 涡阳县人民医院 | L9: 2025年10月10日18时30分 | M9: 趸交 | N9: 2025年10月10日18时07分16分 | O9: 马丽 | P9: 张颖 | Q9: 专线车 | R9: 100
A10: 2 | B10: 2025 | C10: 10 | D10: 12 | E10: B0000009 | F10: 周盼盼 | G10: ZKZX34000830 | H10: 围产期造血干细胞 | I10: 否 | J10: 亳州区域 | K10: 亳州市人民医院 | L10: 2025年10月12日11时13分 | M10: 趸交 | N10: 2025年10月12日10点14分16秒 | O10: 孙恒利 | P10: 张颖 | Q10: 快递 | R10: 月结
A11: 3 | B11: 2025 | C11: 10 | D11: 12 | E11: B0000010 | F11: 董丽娟 | G11: ZKZX34000838 | H11: 围产期造血干细胞 | I11: 否 | J11: 亳州区域 | K11: 利辛县人民医院 | L11: 2025年10月12日18时08分 | M11: 分期 | N11: 2025年10月12日15时30分16秒 | O11: 赵文静 | P11: 张颖 | Q11: 专线车 | R11: 60
A12: 4 | B12: 2025 | C12: 10 | D12: 15 | E12: B0000011 | F12: 郑慧敏 | G12: ZKZX34000840 | H12: 围产期造血干细胞 | I12: 否 | J12: 亳州区域 | K12: 涡阳县中医院 | L12: 2025年10月15日10时09分 | M12: 分期 | N12: 2025年10月12日08时39分 | O12: 张慧茹 | P12: 张颖 | Q12: 专线车 | R12: 100
B13: 2025 | C13: 10 | D13: 16 | E13: B0000012 | F13: 马晓艳 | G13: ZKZX34000848 | H13: 围产期造血干细胞 | I13: 否 | J13: 亳州区域 | K13: 涡阳县人民医院 | L13: 2025年10月16日16时41分 | M13: 定金 | N13: 2025年10月16日16时50分04秒 | O13: 杨莉莉 | P13: 张颖 | Q13: 快递 | R13: 月结
A14: 5 | B14: 2025 | C14: 10 | D14: 20 | E14: B0000013 | F14: 桂仪 | G14: ZKZX34000855 | H14: 围产期造血干细胞 | I14: 否 | J14: 亳州区域 | K14: 涡阳县人民医院 | L14: 2025年10月20日16时06分 | M14: 分改趸 | N14: 2025年10月20日15时02分44秒； 10月24日16:20:46付4860 12月9日16:19:56付16020元 | O14: 杨莉莉 | P14: 张颖 | Q14: 快递 | R14: 月结
A15: 6 | B15: 2025 | C15: 10 | D15: 29 | E15: B0000014 | F15: 马子怡 | G15: ZKZX34000846 | H15: 围产期造血干细胞 | I15: 否 | J15: 亳州区域 | K15: 涡阳县人民医院 | L15: 2025年10月29日10时47分 | M15: 趸交 | N15: 2025年10月29日10时44分25秒 | O15: 马丽 | P15: 张颖 | Q15: 快递 | R15: 月结
A16: 1 | B16: 2025 | C16: 11 | D16: 1 | E16: B0000015 | F16: 李美芳 | G16: ZKZX34000868 | H16: 围产期造血干细胞 | I16: 否 | J16: 亳州区域 | K16: 利辛县人民医院 | L16: 2025年11月1日10时17分 | M16: 分期 | N16: 2025年10月31日16时03分07秒1000， 11月1日11时04分48秒5480 | O16: 赵文静 | P16: 张颖 | Q16: 专线车 | R16: 60
A17: 2 | B17: 2025 | C17: 11 | D17: 1 | E17: B0000016 | F17: 邓诗婷 | G17: ZKZX34000842 | H17: 围产期造血干细胞 | I17: 否 | J17: 亳州区域 | K17: 涡阳县中医院 | L17: 2025年11月1日11时56分 | M17: 趸交 | N17: 2025年11月1日11时29分 | O17: 张慧茹 | P17: 张颖 | Q17: 快递 | R17: 月结
B18: 2025 | C18: 11 | D18: 11 | E18: B0000017 | F18: 杨薇薇 | G18: ZKZX34000841 | H18: 围产期造血干细胞 | I18: 否 | J18: 亳州区域 | K18: 涡阳县中医院 | L18: 2025年11月11日17时50分 | M18: 趸交 | N18: 2025年11月11日18时58分 | O18: 张慧茹 | P18: 张颖 | Q18: 专线车 | R18: 100
A19: 3 | B19: 2025 | C19: 11 | D19: 18 | E19: B0000018 | F19: 时斯宇 | G19: ZKZX34000871 | H19: 围产期造血干细胞 | I19: 否 | J19: 亳州区域 | K19: 涡阳县人民医院 | L19: 2025年11月18日16时10分 | M19: 分期 | N19: 2025年11月18日16时43分03秒 | O19: 杨莉莉 | P19: 张颖 | Q19: 快递 | R19: 月结
A20: 4 | B20: 2025 | C20: 11 | D20: 19 | E20: B0000019 | F20: 席三改 | G20: ZKZX34000856 | H20: 围产期造血干细胞 | I20: 否 | J20: 亳州区域 | K20: 涡阳县人民医院 | L20: 2025年11月19日08时53分 | M20: 分期 | N20: 2025年11月19日10时44分25秒 | O20: 马丽 | P20: 张颖 | Q20: 专线车 | R20: 100
A21: 5 | B21: 2025 | C21: 11 | D21: 25 | E21: BC0000003 | F21: 牛晨晨 | G21: ZKQD34000831 | H21: 脐带间充质干细胞 | I21: 否 | J21: 亳州区域 | K21: 涡阳县中医院 | L21: 2025年11月25日15时49分 | M21: 趸交 | N21: 2025年11月17日 12:05 2025年11月21日18:48 | O21: 张慧茹 | P21: 张颖 | Q21: 快递 | R21: 月结
A22: 1 | B22: 2025 | C22: 12 | D22: 2 | E22: B0000020 | F22: 张连英 | G22: ZKZX34000875 | H22: 围产期造血干细胞 | I22: 否 | J22: 亳州区域 | K22: 涡阳县人民医院 | L22: 2025年12月2日14时03分 | M22: 分期 | N22: 2025年12月2日11时10分26秒 | O22: 杨莉莉 | P22: 张颖 | Q22: 快递 | R22: 月结
A23: 2 | B23: 2025 | C23: 12 | D23: 2 | E23: B0000021 | F23: 左燕丽 | G23: ZKZX34000860 | H23: 围产期造血干细胞 | I23: 否 | J23: 亳州区域 | K23: 涡阳县人民医院 | L23: 2025年12月2日14时30分 | M23: 分期 | N23: 2025年12月2日15时06分33秒 | O23: 马丽 | P23: 张颖
B24: 2025 | C24: 12 | D24: 4 | E24: B0000022 | F24: 毛静静 | G24: ZKZX34000896 | H24: 围产期造血干细胞 | I24: 是 | J24: 合肥区域 | K24: 安徽医科大学第一附属医院高新院区 | L24: 2025年12月4日17时51分 | Q24: 开车
B25: 2025 | C25: 12 | D25: 4 | E25: BC0000004 | F25: 毛静静 | G25: ZKQD34000839 | H25: 脐带间充质干细胞 | I25: 是 | J25: 合肥区域 | K25: 安徽医科大学第一附属医院高新院区 | L25: 2025年12月4日17时52分 | Q25: 开车
A26: 3 | B26: 2025 | C26: 12 | D26: 7 | E26: B0000023 | F26: 龚杰敏 | G26: ZKZX34000874 | H26: 围产期造血干细胞 | I26: 否 | J26: 亳州区域 | K26: 涡阳县人民医院 | L26: 2025年12月7日09时47分 | M26: 分期 | N26: 2025年12月7日10时03分34秒 | O26: 杨莉莉 | P26: 张颖 | Q26: 快递 | R26: 月结
A27: 4 | B27: 2025 | C27: 12 | D27: 7 | E27: B0000024 | F27: 刘亚梅 | G27: ZKZX34000872 | H27: 围产期造血干细胞 | I27: 否 | J27: 亳州区域 | K27: 涡阳县人民医院 | L27: 2025年12月7日11时00分 | M27: 趸交 | N27: 2025年12月7日11时08分57秒 | O27: 马丽 | P27: 张颖
A28: 5 | B28: 2025 | C28: 12 | D28: 8 | E28: B0000025 | F28: 付慧茹 | G28: ZKZX34000851 | H28: 围产期造血干细胞 | I28: 否 | J28: 亳州区域 | K28: 涡阳县人民医院 | L28: 2025年12月8日08时52分 | M28: 趸交 | N28: 2025年12月8日09时58分37秒 | O28: 杨莉莉 | P28: 张颖 | Q28: 滴滴顺风车 | R28: 119
A29: 6 | B29: 2025 | C29: 12 | D29: 11 | E29: B0000026 | F29: 李辰 | G29: ZKZX34000882 | H29: 围产期造血干细胞 | I29: 否 | J29: 亳州区域 | K29: 涡阳县人民医院 | L29: 2025年12月11日09时17分 | M29: 趸交 | N29: 2025年12月11日10时49分52秒 | O29: 马丽 | P29: 张颖 | Q29: 专线车 | R29: 100
A30: 7 | B30: 2025 | C30: 12 | D30: 14 | E30: B0000027 | F30: 尹菱惜 | G30: ZKZX34000843 | H30: 围产期造血干细胞 | I30: 否 | J30: 亳州区域 | K30: 涡阳县中医院 | L30: 2025年12月14日20点38分 | M30: 趸交 | N30: 2025年12月13日18点45分 | O30: 张慧茹 | P30: 张颖 | Q30: 专线车 | R30: 100
A31: 8 | B31: 2025 | C31: 12 | D31: 15 | E31: B0000028 | F31: 邓真 | G31: ZKZX34000853 | H31: 围产期造血干细胞 | I31: 否 | J31: 亳州区域 | K31: 涡阳县人民医院 | L31: 2025年12月15日10时15分 | M31: 趸交 | N31: 2025年12月15日12:15:37付22800元，12:23付80元 | O31: 杨莉莉 | P31: 张颖 | Q31: 专线车 | R31: 100
A32: 9 | B32: 2025 | C32: 12 | D32: 15 | E32: B0000029 | F32: 张肖晴 | G32: ZKZX34000831 | H32: 围产期造血干细胞 | I32: 否 | J32: 亳州区域 | K32: 亳州市中医院 | L32: 2025年12月15日15时24分 | M32: 分期 | N32: 2025年12月13日11:50:59付1000元，12月15日15:51:33付5480元 | O32: 孙恒利 | P32: 张颖 | Q32: 快递 | R32: 21
A33: 10 | B33: 2025 | C33: 12 | D33: 16 | E33: B0000030 | F33: 马庆敏 | G33: ZKZX34000886 | H33: 围产期造血干细胞 | I33: 否 | J33: 亳州区域 | K33: 涡阳县人民医院 | L33: 2025年12月16日09时51分 | M33: 趸交 | N33: 2025年12月16日09时42分49秒 | O33: 马丽 | P33: 张颖 | Q33: 滴滴顺风车 | R33: 119
A34: 11 | B34: 2025 | C34: 12 | D34: 19 | E34: B0000031 | F34: 梁雨晴 | G34: ZKZX34000847 | H34: 围产期造血干细胞 | I34: 否 | J34: 亳州区域 | K34: 涡阳县人民医院 | L34: 2025年12月19日12时20分 | M34: 分期 | N34: 2025年12月19日12时32分15秒 | O34: 杨莉莉 | P34: 张颖 | Q34: 快递 | R34: 月结
B35: 2025 | C35: 12 | D35: 19 | F35: 张璐璐 | G35: ZKZX34000873 | H35: 围产期造血干细胞 | I35: 否 | J35: 亳州区域 | K35: 涡阳县人民医院 | L35: 2025年12月19日14时03分 | M35: 分期 | N35: 2025年12月19日14时19分32秒 | O35: 马丽 | P35: 张颖 | Q35: 快递 | R35: 月结
A36: 12 | B36: 2025 | C36: 12 | D36: 24 | E36: B0000032 | F36: 李文婷 | G36: ZKZX34000837 | H36: 围产期造血干细胞 | I36: 否 | J36: 亳州区域 | K36: 利辛县人民医院 | L36: 2025年12月24日16时42分 | M36: 趸交 | N36: 2025年12月24日08时54分40秒1000，12月24日17时02分21秒21880 | O36: 赵文静 | P36: 张颖 | Q36: 专线车 | R36: 60
A37: 13 | B37: 2025 | C37: 12 | D37: 25 | E37: B0000033 | F37: 姜平 | G37: ZKZX34000845 | H37: 围产期造血干细胞 | I37: 否 | J37: 亳州区域 | K37: 涡阳县人民医院 | L37: 2025年12月25日12时20分 | M37: 趸交 | N37: 2025年12月25日14时52分07秒 | O37: 马丽 | P37: 张颖 | Q37: 快递 | R37: 月结
A38: 1 | B38: 2026 | C38: 1 | D38: 3 | E38: B0000034 | F38: 年梦琪 | G38: ZKZX34000857 | H38: 围产期造血干细胞 | I38: 否 | J38: 亳州区域 | K38: 涡阳县人民医院 | L38: 2026年1月3日19时59分 | M38: 分期 | N38: 2026年1月3日11时51分52秒 | O38: 杨莉莉 | P38: 张颖 | Q38: 专线车 | R38: 100
A39: 2 | B39: 2026 | C39: 1 | D39: 12 | E39: B0000035 | F39: 陆前进之妻 | G39: ZKZX34000835 | H39: 围产期造血干细胞 | I39: 否 | J39: 亳州区域 | K39: 利辛县人民医院 | L39: 2026年1月9日15时02分 | M39: 分期 | N39: 2026年1月9日14时18分51秒2000，1月9日17时26分03秒4480 | O39: 赵文静 | P39: 张颖 | Q39: 快递 | R39: 月结
A40: 3 | B40: 2026 | C40: 1 | D40: 18 | E40: B0000036 | F40: 牛勤 | G40: ZKZX34000844 | H40: 围产期造血干细胞 | I40: 否 | J40: 亳州区域 | K40: 涡阳县人民医院 | L40: 2026年1月18日06时50分 | M40: 分期 | N40: 2026年1月17日20时54分41秒 | O40: 马丽 | P40: 张颖 | Q40: 专线车 | R40: 100
...

Sheet 缴费信息管理
A1: 序号 | B1: 年 | C1: 月 | D1: 日 | E1: 实验室 流转编码 | F1: 储存状态 | G1: 废弃 原因 | H1: 母亲姓名 | I1: 协议编号 | J1: 样本类型 | K1: 是否同存 | L1: 采集地区 | M1: 采集医院 | N1: 缴费方式 | O1: 采集时间 | P1: 合同金额 （元） | Q1: 首期应缴费 金额（元） | R1: 已缴金额 （元） | S1: 悔存/废弃 已缴金额 | T1: 退款金额 | U1: 备注 | V1: 首期 缴费时间 | W1: 首期欠缴 金额（元） | X1: 分期欠缴 金额（元） | Y1: 第二次应缴费 金额（元） | Z1: 第二次应缴费 时间 | AA1: 第二次已 缴金额（元） | AB1: 第二次已 缴费时间 | AC1: 第二次欠缴 金额（元） | AD1: 第三次应缴费 金额（元） | AE1: 第三次应缴费 时间 | AF1: 第三次已 缴金额（元） | AG1: 第三次已 缴费时间 | AH1: 第三次欠缴 金额（元） | AI1: 第四次应缴费 金额（元） | AJ1: 第四次应缴费 时间 | AK1: 第四次已 缴金额（元） | AL1: 第四次已 缴费时间 | AM1: 第四次欠缴 金额（元） | AN1: 第五次应缴费 金额（元） | AO1: 第五次应缴费 时间 | AP1: 第五次已 缴金额（元） | AQ1: 第五次已 缴费时间 | AR1: 第五次欠缴 金额（元） | AS1: 第六次应缴费 金额（元） | AT1: 第六次应缴费 时间 | AU1: 第六次已 缴金额（元） | AV1: 第六次已 缴费时间 | AW1: 第六次欠缴 金额（元） | AX1: 市场专员 | AY1: 地区经理 | AZ1: 运输方式 | BA1: 运费 | BB1: 回单超链接-快捷方式 | BC1: 发票 | BD1: 特殊情况说明
B2: 2025 | C2: 9 | D2: 7 | E2: B0000001 | F2: 退存 | G2: 悔存 | H2: 王晴晴 | J2: 围产期造血干细胞 | K2: 否 | L2: 亳州区域 | M2: 涡阳县人民医院 | N2: 分期 | O2: 2025年9月7日13时45分 | Q2: 5000 | S2: 5000 | T2: -5000 | V2: 45907.601 | AX2: 马丽 | AY2: 张颖 | AZ2: 快递 | BA2: 25
A3: 1 | B3: 2025 | C3: 9 | D3: 7 | E3: B0000002 | F3: 存续 | H3: 高居巧 | I3: ZKZX34000852 | J3: 围产期造血干细胞 | K3: 否 | L3: 亳州区域 | M3: 涡阳县人民医院 | N3: 趸交 | O3: 2025年9月7日15时37分 | P3: 22880 | Q3: 22880 | R3: 22880 | U3: 2025年9月8日18:49:28付5480元，18:52:25付16400元，9月7日09:22:15付1000元 | V3: 2025年9月8日18:49:28付5480元， 18:52:25付16400元， 9月7日09:22:15付1000元 | W3: =Q3-R3 -> 0 | X3: =P3-R3 -> 0 | AX3: 杨莉莉 | AY3: 张颖 | AZ3: 快递 | BE3: 母血17元
A4: 2 | B4: 2025 | C4: 9 | D4: 8 | E4: B0000003 | F4: 存续 | H4: 徐嫣然 | I4: ZKZX34000850 | J4: 围产期造血干细胞 | K4: 否 | L4: 亳州区域 | M4: 涡阳县人民医院 | N4: 分改趸 | O4: 2025年9月8日15时42分 | P4: 22880 | Q4: 22880 | R4: 22880 | S4: 11月份 分改趸 | U4: 2025年9月9日19:28:30付2000元，9月15日18:27:36付4480元；三个月内转趸交 2025年11月20日10时23分53秒 | V4: 2025年9月9日19:28:30付2000元， 9月15日18:27:36付4480元； 2025年11月20日10时23分53秒 | W4: =Q4-R4 -> 0 | X4: =P4-R4 -> 0 | AX4: 马丽 | AY4: 张颖 | AZ4: 快递 | BA4: 25 | BG4: 存续
A5: 3 | B5: 2025 | C5: 9 | D5: 15 | E5: B0000004 | F5: 存续 | H5: 郭梦朵 | I5: ZKZX34000849 | J5: 围产期造血干细胞 | K5: 否 | L5: 亳州区域 | M5: 涡阳县人民医院 | N5: 趸交 | O5: 2025年9月15日08时51分 | P5: 22880 | Q5: 22880 | R5: 22880 | U5: 2025年9月15日11时13分01秒付6480元，9月17日08时44分57秒付16400元 | V5: 2025年9月15日11时13分01秒付6480元， 9月17日08时44分57秒付16400元 | W5: =Q5-R5 -> 0 | X5: =P5-R5 -> 0 | AX5: 马丽 | AY5: 张颖 | AZ5: 专线车 | BA5: 100
B6: 2025 | C6: 9 | D6: 18 | E6: B0000005 | F6: 退存 | G6: 悔存 | H6: 魏星月 | I6: ZKZX34000859 | J6: 围产期造血干细胞 | K6: 否 | L6: 亳州区域 | M6: 涡阳县人民医院 | N6: 定金 | O6: 2025年9月18日16时10分 | Q6: 2000 | S6: 2000 | T6: -1000 | U6: 退款1000元 | V6: 2025年9月18日14时55分04秒 | AX6: 杨莉莉 | AY6: 张颖 | AZ6: 快递 | BA6: 24
A7: 4 | B7: 2025 | C7: 9 | D7: 21 | E7: B0000006 | F7: 存续 | H7: 相晓燕 | I7: ZKZX34000858 | J7: 围产期造血干细胞 | K7: 否 | L7: 亳州区域 | M7: 涡阳县人民医院 | N7: 趸交 | O7: 2025年9月21日16时21分 | P7: 22880 | Q7: 22880 | R7: 22880 | V7: 2025年9月21日11时50分04秒 | W7: =Q7-R7 -> 0 | X7: =P7-R7 -> 0 | AX7: 杨莉莉 | AY7: 张颖 | AZ7: 快递 | BA7: 24 | BE7: 母血13元
B8: 2025 | C8: 9 | E8: B0000007 | F8: 退存 | G8: 悔存 | H8: 邵悦 | I8: ZKZX34000839 | J8: 围产期造血干细胞 | K8: 否 | L8: 亳州区域 | M8: 涡阳县中医院 | N8: 分期 | O8: 2025年9月27日12时56分 | Q8: 6480 | S8: 6480 | U8: 2025年9月27日 17时01分，6000元 2025年9月27日 17时08分，480元 | V8: 2025年9月27日 17时01分 2025年9月27日 17时08分 | W8: =Q8-R8 -> 6480 | X8: =P8-R8 -> 0 | AX8: 张慧茹 | AY8: 张颖 | AZ8: 专线车 | BA8: 100 | BD8: 有事情联系宝爸 宝妈不同意储存
A9: 1 | B9: 2025 | C9: 10 | D9: 10 | E9: B0000008 | F9: 存续 | H9: 尹璐 | I9: ZKZX34000854 | J9: 围产期造血干细胞 | K9: 否 | L9: 亳州区域 | M9: 涡阳县人民医院 | N9: 趸交 | O9: 2025年10月10日18时30分 | P9: 22880 | Q9: 22880 | R9: 22880 | V9: 2025年10月10日18时07分16分 | W9: =Q9-R9 -> 0 | X9: =P9-R9 -> 0 | AX9: 马丽 | AY9: 张颖 | AZ9: 专线车 | BA9: 100
A10: 2 | B10: 2025 | C10: 10 | D10: 12 | E10: B0000009 | F10: 存续 | H10: 周盼盼 | I10: ZKZX34000830 | J10: 围产期造血干细胞 | K10: 否 | L10: 亳州区域 | M10: 亳州市人民医院 | N10: 趸交 | O10: 2025年10月12日11时13分 | P10: 22880 | Q10: 22880 | R10: 22880 | V10: 2025年10月12日10点14分16秒 | W10: =Q10-R10 -> 0 | X10: =P10-R10 -> 0 | AX10: 孙恒利 | AY10: 张颖 | AZ10: 快递 | BA10: 月结
A11: 3 | B11: 2025 | C11: 10 | D11: 12 | E11: B0000010 | F11: 存续 | H11: 董丽娟 | I11: ZKZX34000838 | J11: 围产期造血干细胞 | K11: 否 | L11: 亳州区域 | M11: 利辛县人民医院 | N11: 分期 | O11: 2025年10月12日18时08分 | P11: 25880 | Q11: 6480 | R11: 6480 | V11: 2025年10月12日15时30分16秒 | W11: =Q11-R11 -> 0 | X11: =P11-R11 -> 19400 | Y11: 3880 | AX11: 赵文静 | AY11: 张颖 | AZ11: 专线车 | BA11: 60
A12: 4 | B12: 2025 | C12: 10 | D12: 15 | E12: B0000011 | F12: 存续 | H12: 郑慧敏 | I12: ZKZX34000840 | J12: 围产期造血干细胞 | K12: 否 | L12: 亳州区域 | M12: 涡阳县中医院 | N12: 分期 | O12: 2025年10月15日10时09分 | P12: 25880 | Q12: 6480 | R12: 6480 | V12: 2025年10月12日08时39分 | W12: =Q12-R12 -> 0 | X12: =P12-R12 -> 19400 | AX12: 张慧茹 | AY12: 张颖 | AZ12: 专线车 | BA12: 100
B13: 2025 | C13: 10 | D13: 16 | E13: B0000012 | F13: 退存 | G13: 悔存 | H13: 马晓艳 | I13: ZKZX34000848 | J13: 围产期造血干细胞 | K13: 否 | L13: 亳州区域 | M13: 涡阳县人民医院 | N13: 定金 | O13: 2025年10月16日16时41分 | S13: 2000 | T13: -2000 | V13: 2025年10月16日16时50分04秒 | AX13: 杨莉莉 | AY13: 张颖 | AZ13: 快递 | BA13: 月结
A14: 5 | B14: 2025 | C14: 10 | D14: 20 | E14: B0000013 | F14: 存续 | H14: 桂仪 | I14: ZKZX34000855 | J14: 围产期造血干细胞 | K14: 否 | L14: 亳州区域 | M14: 涡阳县人民医院 | N14: 分改趸 | O14: 2025年10月20日16时06分 | P14: 22880 | Q14: 22880 | R14: 22880 | S14: 12月份 分改趸 | U14: 2025年10月20日15时02分44秒付2000元，10月24日16:20.46付4860元，12月9日16:19:56付16020元 | V14: 2025年10月20日15时02分44秒； 10月24日16:20:46付4860 12月9日16:19:56付16020元 | W14: =Q14-R14 -> 0 | X14: =P14-R14 -> 0 | AX14: 杨莉莉 | AY14: 张颖 | AZ14: 快递 | BA14: 月结
A15: 6 | B15: 2025 | C15: 10 | D15: 29 | E15: B0000014 | F15: 存续 | H15: 马子怡 | I15: ZKZX34000846 | J15: 围产期造血干细胞 | K15: 否 | L15: 亳州区域 | M15: 涡阳县人民医院 | N15: 趸交 | O15: 2025年10月29日10时47分 | P15: 22880 | Q15: 22880 | R15: 22880 | V15: 2025年10月29日10时44分25秒 | W15: =Q15-R15 -> 0 | X15: =P15-R15 -> 0 | AX15: 马丽 | AY15: 张颖 | AZ15: 快递 | BA15: 月结
A16: 1 | B16: 2025 | C16: 11 | D16: 1 | E16: B0000015 | F16: 存续 | H16: 李美芳 | I16: ZKZX34000868 | J16: 围产期造血干细胞 | K16: 否 | L16: 亳州区域 | M16: 利辛县人民医院 | N16: 分期 | O16: 2025年11月1日10时17分 | P16: 25880 | Q16: 6480 | R16: 6480 | V16: 2025年10月31日16时03分07秒1000， 11月1日11时04分48秒5480 | W16: =Q16-R16 -> 0 | X16: =P16-R16 -> 19400 | AX16: 赵文静 | AY16: 张颖 | AZ16: 专线车 | BA16: 60
A17: 2 | B17: 2025 | C17: 11 | D17: 1 | E17: B0000016 | F17: 存续 | H17: 邓诗婷 | I17: ZKZX34000842 | J17: 围产期造血干细胞 | K17: 否 | L17: 亳州区域 | M17: 涡阳县中医院 | N17: 趸交 | O17: 2025年11月1日11时56分 | P17: 22880 | Q17: 22880 | R17: 22880 | V17: 2025年11月1日11时29分 | W17: =Q17-R17 -> 0 | X17: =P17-R17 -> 0 | AX17: 张慧茹 | AY17: 张颖 | AZ17: 快递 | BA17: 月结
B18: 2025 | C18: 11 | D18: 11 | E18: B0000017 | F18: 废弃 | G18: 厌氧菌 | H18: 杨薇薇 | I18: ZKZX34000841 | J18: 围产期造血干细胞 | K18: 否 | L18: 亳州区域 | M18: 涡阳县中医院 | N18: 趸交 | O18: 2025年11月11日17时50分 | T18: -22880 | V18: 2025年11月11日18时58分 | W18: =Q18-R18 -> 0 | X18: =P18-R18 -> 0 | AX18: 张慧茹 | AY18: 张颖 | AZ18: 专线车 | BA18: 100
A19: 3 | B19: 2025 | C19: 11 | D19: 18 | E19: B0000018 | F19: 存续 | H19: 时斯宇 | I19: ZKZX34000871 | J19: 围产期造血干细胞 | K19: 否 | L19: 亳州区域 | M19: 涡阳县人民医院 | N19: 分期 | O19: 2025年11月18日16时10分 | P19: 25880 | Q19: 6480 | R19: 6480 | V19: 2025年11月18日16时43分03秒 | W19: =Q19-R19 -> 0 | X19: =P19-R19 -> 19400 | AX19: 杨莉莉 | AY19: 张颖 | AZ19: 快递 | BA19: 月结
A20: 4 | B20: 2025 | C20: 11 | D20: 19 | E20: B0000019 | F20: 存续 | H20: 席三改 | I20: ZKZX34000856 | J20: 围产期造血干细胞 | K20: 否 | L20: 亳州区域 | M20: 涡阳县人民医院 | N20: 分期 | O20: 2025年11月19日08时53分 | P20: 25880 | Q20: 6480 | R20: 6480 | V20: 2025年11月19日10时44分25秒 | W20: =Q20-R20 -> 0 | X20: =P20-R20 -> 19400 | AX20: 马丽 | AY20: 张颖 | AZ20: 专线车 | BA20: 100
A21: 5 | B21: 2025 | C21: 11 | D21: 25 | E21: BC0000003 | F21: 存续 | H21: 牛晨晨 | I21: ZKQD34000831 | J21: 脐带间充质干细胞 | K21: 否 | L21: 亳州区域 | M21: 涡阳县中医院 | N21: 趸交 | O21: 2025年11月25日15时49分 | P21: 22880 | Q21: 22880 | R21: 22880 | U21: 2000+20880 | V21: 2025年11月17日 12:05 2025年11月21日18:48 | W21: =Q21-R21 -> 0 | X21: =P21-R21 -> 0 | AX21: 张慧茹 | AY21: 张颖 | AZ21: 快递 | BA21: 月结
A22: 1 | B22: 2025 | C22: 12 | D22: 2 | E22: B0000020 | F22: 存续 | H22: 张连英 | I22: ZKZX34000875 | J22: 围产期造血干细胞 | K22: 否 | L22: 亳州区域 | M22: 涡阳县人民医院 | N22: 分期 | O22: 2025年12月2日14时03分 | P22: 25880 | Q22: 6480 | R22: 6480 | V22: 2025年12月2日11时10分26秒 | W22: =Q22-R22 -> 0 | X22: =P22-R22 -> 19400 | AX22: 杨莉莉 | AY22: 张颖 | AZ22: 快递 | BA22: 月结
A23: 2 | B23: 2025 | C23: 12 | D23: 2 | E23: B0000021 | F23: 存续 | H23: 左燕丽 | I23: ZKZX34000860 | J23: 围产期造血干细胞 | K23: 否 | L23: 亳州区域 | M23: 涡阳县人民医院 | N23: 分期 | O23: 2025年12月2日14时30分 | P23: 25880 | Q23: 6480 | R23: 6480 | V23: 2025年12月2日15时06分33秒 | W23: =Q23-R23 -> 0 | X23: =P23-R23 -> 19400 | AX23: 马丽 | AY23: 张颖
B24: 2025 | C24: 12 | D24: 4 | E24: B0000022 | F24: 存续 | H24: 毛静静 | I24: ZKZX34000896 | J24: 围产期造血干细胞 | K24: 是 | L24: 合肥区域 | M24: 安徽医科大学第一附属医院高新院区 | O24: 2025年12月4日17时51分 | W24: =Q24-R24 -> 0 | X24: =P24-R24 -> 0 | AZ24: 开车
B25: 2025 | C25: 12 | D25: 4 | E25: BC0000004 | F25: 存续 | H25: 毛静静 | I25: ZKQD34000839 | J25: 脐带间充质干细胞 | K25: 是 | L25: 合肥区域 | M25: 安徽医科大学第一附属医院高新院区 | O25: 2025年12月4日17时52分 | X25: =P25-R25 -> 0 | AZ25: 开车
A26: 3 | B26: 2025 | C26: 12 | D26: 7 | E26: B0000023 | F26: 存续 | H26: 龚杰敏 | I26: ZKZX34000874 | J26: 围产期造血干细胞 | K26: 否 | L26: 亳州区域 | M26: 涡阳县人民医院 | N26: 分期 | O26: 2025年12月7日09时47分 | P26: 25880 | Q26: 6480 | R26: 6480 | V26: 2025年12月7日10时03分34秒 | X26: =P26-R26 -> 19400 | AX26: 杨莉莉 | AY26: 张颖 | AZ26: 快递 | BA26: 月结
A27: 4 | B27: 2025 | C27: 12 | D27: 7 | E27: B0000024 | F27: 存续 | H27: 刘亚梅 | I27: ZKZX34000872 | J27: 围产期造血干细胞 | K27: 否 | L27: 亳州区域 | M27: 涡阳县人民医院 | N27: 趸交 | O27: 2025年12月7日11时00分 | P27: 22880 | Q27: 22880 | R27: 22880 | V27: 2025年12月7日11时08分57秒 | X27: =P27-R27 -> 0 | AX27: 马丽 | AY27: 张颖
A28: 5 | B28: 2025 | C28: 12 | D28: 8 | E28: B0000025 | F28: 存续 | H28: 付慧茹 | I28: ZKZX34000851 | J28: 围产期造血干细胞 | K28: 否 | L28: 亳州区域 | M28: 涡阳县人民医院 | N28: 趸交 | O28: 2025年12月8日08时52分 | P28: 21880 | Q28: 21880 | R28: 21880 | V28: 2025年12月8日09时58分37秒 | X28: =P28-R28 -> 0 | AX28: 杨莉莉 | AY28: 张颖 | AZ28: 滴滴顺风车 | BA28: 119
A29: 6 | B29: 2025 | C29: 12 | D29: 11 | E29: B0000026 | F29: 存续 | H29: 李辰 | I29: ZKZX34000882 | J29: 围产期造血干细胞 | K29: 否 | L29: 亳州区域 | M29: 涡阳县人民医院 | N29: 趸交 | O29: 2025年12月11日09时17分 | P29: 22880 | Q29: 22880 | R29: 22880 | V29: 2025年12月11日10时49分52秒 | X29: =P29-R29 -> 0 | AX29: 马丽 | AY29: 张颖 | AZ29: 专线车 | BA29: 100
A30: 7 | B30: 2025 | C30: 12 | D30: 14 | E30: B0000027 | F30: 存续 | H30: 尹菱惜 | I30: ZKZX34000843 | J30: 围产期造血干细胞 | K30: 否 | L30: 亳州区域 | M30: 涡阳县中医院 | N30: 趸交 | O30: 2025年12月14日20点38分 | P30: 22880 | Q30: 22880 | R30: 22880 | V30: 2025年12月13日18点45分 | X30: =P30-R30 -> 0 | AX30: 张慧茹 | AY30: 张颖 | AZ30: 专线车 | BA30: 100
A31: 8 | B31: 2025 | C31: 12 | D31: 15 | E31: B0000028 | F31: 存续 | H31: 邓真 | I31: ZKZX34000853 | J31: 围产期造血干细胞 | K31: 否 | L31: 亳州区域 | M31: 涡阳县人民医院 | N31: 趸交 | O31: 2025年12月15日10时15分 | P31: 22880 | Q31: 22880 | R31: 22880 | V31: 2025年12月15日12:15:37付22800元，12:23付80元 | X31: =P31-R31 -> 0 | AX31: 杨莉莉 | AY31: 张颖 | AZ31: 专线车 | BA31: 100
A32: 9 | B32: 2025 | C32: 12 | D32: 15 | E32: B0000029 | F32: 存续 | H32: 张肖晴 | I32: ZKZX34000831 | J32: 围产期造血干细胞 | K32: 否 | L32: 亳州区域 | M32: 亳州市中医院 | N32: 分期 | O32: 2025年12月15日15时24分 | P32: 25880 | Q32: 6480 | R32: 6480 | V32: 2025年12月13日11:50:59付1000元，12月15日15:51:33付5480元 | X32: =P32-R32 -> 19400 | AX32: 孙恒利 | AY32: 张颖 | AZ32: 快递 | BA32: 21
A33: 10 | B33: 2025 | C33: 12 | D33: 16 | E33: B0000030 | F33: 存续 | H33: 马庆敏 | I33: ZKZX34000886 | J33: 围产期造血干细胞 | K33: 否 | L33: 亳州区域 | M33: 涡阳县人民医院 | N33: 趸交 | O33: 2025年12月16日09时51分 | P33: 22880 | Q33: 22880 | R33: 22880 | V33: 2025年12月16日09时42分49秒 | X33: =P33-R33 -> 0 | AX33: 马丽 | AY33: 张颖 | AZ33: 滴滴顺风车 | BA33: 119
A34: 11 | B34: 2025 | C34: 12 | D34: 19 | E34: B0000031 | F34: 存续 | H34: 梁雨晴 | I34: ZKZX34000847 | J34: 围产期造血干细胞 | K34: 否 | L34: 亳州区域 | M34: 涡阳县人民医院 | N34: 分期 | O34: 2025年12月19日12时20分 | P34: 25880 | Q34: 6480 | R34: 6480 | V34: 2025年12月19日12时32分15秒 | X34: =P34-R34 -> 19400 | AX34: 杨莉莉 | AY34: 张颖 | AZ34: 快递 | BA34: 月结
B35: 2025 | C35: 12 | D35: 19 | F35: 退存 | G35: 未制备毁存 | H35: 张璐璐 | I35: ZKZX34000873 | J35: 围产期造血干细胞 | K35: 否 | L35: 亳州区域 | M35: 涡阳县人民医院 | N35: 分期 | O35: 2025年12月19日14时03分 | Q35: 6480 | T35: 6480 | V35: 2025年12月19日14时19分32秒 | AX35: 马丽 | AY35: 张颖 | AZ35: 快递 | BA35: 月结
A36: 12 | B36: 2025 | C36: 12 | D36: 24 | E36: B0000032 | F36: 存续 | H36: 李文婷 | I36: ZKZX34000837 | J36: 围产期造血干细胞 | K36: 否 | L36: 亳州区域 | M36: 利辛县人民医院 | N36: 趸交 | O36: 2025年12月24日16时42分 | P36: 22880 | Q36: 22880 | R36: 22880 | V36: 2025年12月24日08时54分40秒1000，12月24日17时02分21秒21880 | X36: =P36-R36 -> 0 | AX36: 赵文静 | AY36: 张颖 | AZ36: 专线车 | BA36: 60
A37: 13 | B37: 2025 | C37: 12 | D37: 25 | E37: B0000033 | F37: 存续 | H37: 姜平 | I37: ZKZX34000845 | J37: 围产期造血干细胞 | K37: 否 | L37: 亳州区域 | M37: 涡阳县人民医院 | N37: 趸交 | O37: 2025年12月25日12时20分 | P37: 22880 | Q37: 22880 | R37: 22880 | V37: 2025年12月25日14时52分07秒 | X37: =P37-R37 -> 0 | AX37: 马丽 | AY37: 张颖 | AZ37: 快递 | BA37: 月结
A38: 1 | B38: 2026 | C38: 1 | D38: 3 | E38: B0000034 | F38: 存续 | H38: 年梦琪 | I38: ZKZX34000857 | J38: 围产期造血干细胞 | K38: 否 | L38: 亳州区域 | M38: 涡阳县人民医院 | N38: 分期 | O38: 2026年1月3日19时59分 | P38: 25880 | Q38: 6480 | R38: 6480 | V38: 2026年1月3日11时51分52秒 | X38: =P38-R38 -> 19400 | AX38: 杨莉莉 | AY38: 张颖 | AZ38: 专线车 | BA38: 100
A39: 2 | B39: 2026 | C39: 1 | D39: 12 | E39: B0000035 | F39: 存续 | H39: 陆前进之妻 | I39: ZKZX34000835 | J39: 围产期造血干细胞 | K39: 否 | L39: 亳州区域 | M39: 利辛县人民医院 | N39: 分期 | O39: 2026年1月9日15时02分 | P39: 25880 | Q39: 6480 | R39: 6480 | V39: 2026年1月9日14时18分51秒2000，1月9日17时26分03秒4480 | X39: =P39-R39 -> 19400 | AX39: 赵文静 | AY39: 张颖 | AZ39: 快递 | BA39: 月结
A40: 3 | B40: 2026 | C40: 1 | D40: 18 | E40: B0000036 | F40: 存续 | H40: 牛勤 | I40: ZKZX34000844 | J40: 围产期造血干细胞 | K40: 否 | L40: 亳州区域 | M40: 涡阳县人民医院 | N40: 分期 | O40: 2026年1月18日06时50分 | P40: 25880 | Q40: 6480 | R40: 6480 | V40: 2026年1月17日20时54分41秒 | X40: =P40-R40 -> 19400 | AX40: 马丽 | AY40: 张颖 | AZ40: 专线车 | BA40: 100
...

Sheet 客户服务管理
A1: 实验室流转编码 | B1: 储存状态 | C1: 序号 | D1: 发送日期 | E1: 短信发送 情况 | F1: 协议编号 | G1: 母亲姓名 | H1: 母亲电话 | I1: 母亲身份证号码 | J1: 父亲姓名 | K1: 父亲电话 | L1: 父亲身份证号码 | M1: 回访日期 | N1: 微生物 回访情况 | O1: 满月 回访时间 | P1: 回访情况 | Q1: 是否 上户口 | R1: 宝宝姓名 | S1: 宝宝身份证号码 | T1: 性别 | U1: 分娩时间 | V1: 购买保险时间 | W1: 保单发送时间 | X1: 电子发票 发送时间 | Y1: 邮寄储存证时间 | Z1: 有效地址 | AA1: 市场专员 | AB1: 缴费方式 | AC1: 备注 | AD1: 协议书 | AE1: 保险单 | AF1: 知情同意书 | AG1: 健康调查表
A2: =样本采集管理!E2 -> B0000001 | B2: =样本采集管理!#REF! -> #REF! | D2: / | E2: / | F2: =样本采集管理!G2 -> 0 | G2: =样本采集管理!F2 -> 王晴晴 | T2: 女 | U2: 2025年9月7日13时45分 | AA2: =样本采集管理!O2 -> 马丽 | AB2: =样本采集管理!M2 -> 分期 | AD2: 0 | AE2: 0 | AF2: 1 | AG2: 1
A3: =样本采集管理!E3 -> B0000002 | B3: =样本采集管理!#REF! -> #REF! | C3: 1 | D3: 45908 | E3: / | F3: =样本采集管理!G3 -> ZKZX34000852 | G3: =样本采集管理!F3 -> 高居巧 | H3: 17860507206 | I3: 370911199712254424 | J3: 潘苗苗 | K3: 17860507206 | L3: 341223199906151717 | M3: 45919 | N3: 回访成功 | O3: 45946 | P3: 无人接听 | Q3: 是 | R3: 潘翊可 | S3: 370911202509074422 | T3: 女 | U3: 2025年9月7日15时36分 | V3: 45987 | W3: 46003 | X3: 45957 | Y3: 46007 | Z3: 安徽省涡阳县临涡安置小区5栋102室 | AA3: =样本采集管理!O3 -> 杨莉莉 | AB3: =样本采集管理!M3 -> 趸交 | AD3: 1 | AE3: 0 | AF3: 1 | AG3: 1
A4: =样本采集管理!E4 -> B0000003 | B4: =样本采集管理!#REF! -> #REF! | C4: 2 | D4: 45908 | E4: / | F4: =样本采集管理!G4 -> ZKZX34000850 | G4: =样本采集管理!F4 -> 徐嫣然 | H4: 15256086465 | I4: 341223199602142125 | J4: 刘强强 | L4: 34122319961021191X | M4: 45919 | N4: 无人接听 | O4: 45946 | P4: 回访成功 | Q4: 是 | R4: 刘一鸣 | S4: 341621202509081915 | T4: 男 | U4: 2025年9月8日15时41分 | V4: 45987 | W4: 46003 | X4: 45957 | Y4: 46007 | Z4: 安徽省涡阳县曹市镇徐楼行政村 | AA4: =样本采集管理!O4 -> 马丽 | AB4: =样本采集管理!M4 -> 分改趸 | AD4: 1 | AE4: 0 | AF4: 1 | AG4: 1
A5: =样本采集管理!E5 -> B0000004 | B5: =样本采集管理!#REF! -> #REF! | C5: 3 | D5: 45916 | E5: / | F5: =样本采集管理!G5 -> ZKZX34000849 | G5: =样本采集管理!F5 -> 郭梦朵 | H5: 18768571476 | I5: 34162120031101112X | J5: 马云瑞 | K5: 18756790377 | L5: 341223200112103516 | M5: =D5+8 -> 45924 | N5: 回访成功 | O5: =D5+31 -> 45947 | P5: 回访成功 | Q5: 是 | R5: 马沐恩 | S5: 341621202509153528 | T5: 女 | U5: 2025年9月15日08时50分 | V5: 45987 | W5: 46003 | X5: 45957 | Y5: 46007 | Z5: 安徽省亳州市涡阳县涡南镇 | AA5: =样本采集管理!O5 -> 马丽 | AB5: =样本采集管理!M5 -> 趸交 | AD5: 1 | AE5: 0 | AF5: 1 | AG5: 1
A6: =样本采集管理!E6 -> B0000005 | B6: =样本采集管理!#REF! -> #REF! | D6: 45919 | E6: 已发 | F6: =样本采集管理!G6 -> ZKZX34000859 | G6: =样本采集管理!F6 -> 魏星月 | H6: 19565821258 | M6: =D6+8 -> 45927 | O6: =D6+31 -> 45950 | T6: 男 | U6: 2025年9月18日16时09分 | AA6: =样本采集管理!O6 -> 杨莉莉 | AB6: =样本采集管理!M6 -> 定金 | AD6: 1 | AE6: 0 | AF6: 1 | AG6: 1
A7: =样本采集管理!E7 -> B0000006 | B7: =样本采集管理!#REF! -> #REF! | C7: 4 | D7: 45922 | E7: 已发 | F7: =样本采集管理!G7 -> ZKZX34000858 | G7: =样本采集管理!F7 -> 相晓燕 | H7: 17756838439 | I7: 341621199212164723 | J7: 焦新辰 | L7: 341223199108052730 | M7: =D7+8 -> 45930 | N7: 回访成功 | O7: =D7+31 -> 45953 | P7: 回访成功 | Q7: 是 | R7: 焦景芸 | S7: 341621202509212727 | T7: 女 | U7: 2025年9月21日16时20分 | V7: 45987 | W7: 46003 | X7: 45957 | Y7: 46007 | Z7: 安徽省亳州市涡阳县御花园小区 | AA7: =样本采集管理!O7 -> 杨莉莉 | AB7: =样本采集管理!M7 -> 趸交 | AD7: 1 | AE7: 0 | AF7: 1 | AG7: 1
A8: =样本采集管理!E8 -> B0000007 | B8: =样本采集管理!#REF! -> #REF! | D8: 45927 | E8: 已发 | F8: =样本采集管理!G8 -> ZKZX34000839 | G8: =样本采集管理!F8 -> 邵悦 | J8: 赵威 | K8: 18132899876 | M8: =D8+8 -> 45935 | O8: =D8+31 -> 45958 | T8: 男 | U8: 2025年9月27日12时55分 | AA8: =样本采集管理!O8 -> 张慧茹 | AB8: =样本采集管理!M8 -> 分期 | AC8: 有事情联系宝爸 宝妈不同意储存 | AD8: 1 | AE8: 0 | AF8: 1 | AG8: 1
A9: =样本采集管理!E9 -> B0000008 | B9: =样本采集管理!#REF! -> #REF! | C9: 1 | D9: 45940 | E9: 已发 | F9: =样本采集管理!G9 -> ZKZX34000854 | G9: =样本采集管理!F9 -> 尹璐 | H9: 13696590159 | I9: 341223199410080265 | J9: 张豪 | K9: 13296619295 | L9: 341223199306164311 | M9: =D9+8 -> 45948 | N9: 回访成功 | O9: =D9+31 -> 45971 | P9: 微信通知 | Q9: 是 | R9: 尹彰熠 | S9: 420102202510104013 | T9: 男 | U9: 2025年10月10日18时30分 | V9: 45987 | W9: 46003 | X9: 45992 | Y9: 46037 | Z9: 安徽省亳州市涡阳县万象城小区 | AA9: =样本采集管理!O9 -> 马丽 | AB9: =样本采集管理!M9 -> 趸交 | AC9: 有事情联系宝爸 宝妈不同意储存 | AD9: 1 | AE9: 0 | AF9: 1 | AG9: 1
A10: =样本采集管理!E10 -> B0000009 | B10: =样本采集管理!#REF! -> #REF! | C10: 2 | D10: 45942 | E10: 已发 | F10: =样本采集管理!G10 -> ZKZX34000830 | G10: =样本采集管理!F10 -> 周盼盼 | H10: 15551537770 | I10: 341281198711251047 | J10: 李海涛 | K10: 18610868888 | L10: 34128119840112689X | M10: =D10+8 -> 45950 | N10: 回访成功 | O10: =D10+31 -> 45973 | P10: 挂机 | Q10: 是 | R10: 李子潼 | S10: 341602202510121022 | T10: 女 | U10: 2025年10月12日11时12分 | V10: 45987 | W10: 46003 | X10: 45992 | Y10: 46037 | Z10: 安徽省亳州市碧桂园江山赋26栋2单元1004室 | AA10: =样本采集管理!O10 -> 孙恒利 | AB10: =样本采集管理!M10 -> 趸交 | AC10: 联系宝爸 | AD10: 1 | AE10: 0 | AF10: 1 | AG10: 1
A11: =样本采集管理!E11 -> B0000010 | B11: =样本采集管理!#REF! -> #REF! | C11: 3 | D11: 45942 | E11: 已发 | F11: =样本采集管理!G11 -> ZKZX34000838 | G11: =样本采集管理!F11 -> 董丽娟 | H11: 15255916531 | I11: 341227199309030728 | J11: 王龙 | K11: 15255918818 | L11: 341227199602074834 | M11: =D11+8 -> 45950 | N11: 回访成功 | O11: =D11+31 -> 45973 | P11: 回访成功 | Q11: 是 | R11: 王晓雨 | S11: 341623202510124823 | T11: 女 | U11: 2025年10月12日18时06分 | V11: 45987 | W11: 46003 | X11: 45992 | Y11: 46037 | Z11: 安徽省亳州市利辛县向阳路酒厂家属院 | AA11: =样本采集管理!O11 -> 赵文静 | AB11: =样本采集管理!M11 -> 分期 | AD11: 1 | AE11: 0 | AF11: 1 | AG11: 1
A12: =样本采集管理!E12 -> B0000011 | B12: =样本采集管理!#REF! -> #REF! | C12: 4 | D12: 45945 | E12: 已发 | F12: =样本采集管理!G12 -> ZKZX34000840 | G12: =样本采集管理!F12 -> 郑慧敏 | H12: 13731814428 | I12: 341223199210161765 | J12: 王洺浩 | K12: 18297396326 | L12: 341223198704024934 | M12: =D12+8 -> 45953 | N12: 回访成功 | O12: =D12+31 -> 45976 | P12: 回访成功 | Q12: 是 | R12: 王瑜涵 | S12: 341621202510156822 | T12: 女 | U12: 2025年10月15日10时08分 | V12: 45987 | W12: 46003 | X12: 45992 | Y12: 46037 | Z12: 安徽省亳州市涡阳县石工镇邮电局东20米王侠生活超市 | AA12: =样本采集管理!O12 -> 张慧茹 | AB12: =样本采集管理!M12 -> 分期 | AC12: 联系宝爸 | AD12: 1 | AE12: 0 | AF12: 1 | AG12: 1
A13: =样本采集管理!E13 -> B0000012 | B13: =样本采集管理!#REF! -> #REF! | D13: 45946 | E13: 已发 | F13: =样本采集管理!G13 -> ZKZX34000848 | G13: =样本采集管理!F13 -> 马晓艳 | H13: 15675599996 | M13: =D13+8 -> 45954 | O13: =D13+31 -> 45977 | T13: 女 | U13: 2025年10月16日16时40分 | AA13: =样本采集管理!O13 -> 杨莉莉 | AB13: =样本采集管理!M13 -> 定金 | AD13: 1 | AE13: 0 | AF13: 1 | AG13: 1
A14: =样本采集管理!E14 -> B0000013 | B14: =样本采集管理!#REF! -> #REF! | C14: 5 | D14: 45950 | E14: 已发 | F14: =样本采集管理!G14 -> ZKZX34000855 | G14: =样本采集管理!F14 -> 桂仪 | H14: 18824709831 | I14: 341224199410178226 | J14: 盛哲 | K14: 15256769995 | L14: 341223199403060012 | M14: =D14+8 -> 45958 | N14: 回访成功 | O14: 45982 | P14: 回访成功 | Q14: 是 | R14: 盛鼎 | S14: 341621202510205719 | T14: 男 | U14: 2025年10月20日16时05分 | V14: 45987 | W14: 46003 | X14: 45992 | Y14: 46037 | Z14: 安徽省涡阳县城关街道东环路棉麻公司家属院5栋二单元 | AA14: =样本采集管理!O14 -> 杨莉莉 | AB14: =样本采集管理!M14 -> 分改趸 | AD14: 1 | AE14: 0 | AF14: 1 | AG14: 1
A15: =样本采集管理!E15 -> B0000014 | B15: =样本采集管理!#REF! -> #REF! | C15: 6 | D15: 45959 | E15: 已发 | F15: =样本采集管理!G15 -> ZKZX34000846 | G15: =样本采集管理!F15 -> 马子怡 | H15: 15256744391 | I15: 341621200507231722 | J15: 汤帅 | L15: 341223199706140511 | M15: =D15+8 -> 45967 | N15: 挂机 | O15: =D15+31 -> 45990 | P15: 回访成功 | Q15: 是 | R15: 汤铭泽 | S15: 341621202510291717 | T15: 男 | U15: 2025年10月29日10时47分 | V15: 46017 | W15: 46021 | X15: 45992 | Y15: 46037 | Z15: 安徽省合肥市涡阳县星园街道汤俊宏达加油站 | AA15: =样本采集管理!O15 -> 马丽 | AB15: =样本采集管理!M15 -> 趸交 | AD15: 1 | AE15: 0 | AF15: 0 | AG15: 0
A16: =样本采集管理!E16 -> B0000015 | B16: =样本采集管理!#REF! -> #REF! | C16: 1 | D16: 45962 | E16: 已发 | F16: =样本采集管理!G16 -> ZKZX34000868 | G16: =样本采集管理!F16 -> 李美芳 | H16: 13349179628 | I16: 342130198308024026 | J16: 张海法 | K16: 13399673012 | L16: 341227198203273719 | M16: =D16+8 -> 45970 | N16: 回访成功 | O16: =D16+31 -> 45993 | P16: 回访成功 | Q16: 是 | R16: 张庆泽 | S16: 341623202511013711 | T16: 男 | U16: 2025年11月1日10时16分 | V16: 46017 | W16: 46021 | X16: 46055 | Y16: 46037 | Z16: 安徽省亳州市利辛县孙庙乡群堂村张沟庄20-1号 | AA16: =样本采集管理!O16 -> 赵文静 | AB16: =样本采集管理!M16 -> 分期 | AD16: 1 | AE16: 0 | AF16: 1 | AG16: 1
A17: =样本采集管理!E17 -> B0000016 | B17: =样本采集管理!#REF! -> #REF! | C17: 2 | D17: 45962 | E17: 已发 | F17: =样本采集管理!G17 -> ZKZX34000842 | G17: =样本采集管理!F17 -> 邓诗婷 | H17: 15215678593 | I17: 341621200111220728 | J17: 陆振 | K17: 15209894192 | L17: 341621200102171936 | M17: =D17+8 -> 45970 | N17: 回访成功 | O17: =D17+31 -> 45993 | P17: 回访成功 | Q17: 是 | R17: 陆屿珩 | S17: 341621202511011959 | T17: 男 | U17: 2025年11月1日11时56分 | V17: 46017 | W17: 46021 | X17: 46055 | Y17: 46037 | Z17: 安徽省亳州市涡阳县高炉镇 | AA17: =样本采集管理!O17 -> 张慧茹 | AB17: =样本采集管理!M17 -> 趸交 | AD17: 1 | AE17: 0 | AF17: 1 | AG17: 1
A18: =样本采集管理!E18 -> B0000017 | B18: =样本采集管理!#REF! -> #REF! | D18: 45975 | F18: =样本采集管理!G18 -> ZKZX34000841 | G18: =样本采集管理!F18 -> 杨薇薇 | K18: 18119981994 | M18: =D18+8 -> 45983 | O18: =D18+31 -> 46006 | T18: 男 | U18: 2025年11月1日17时50分 | AA18: =样本采集管理!O18 -> 张慧茹 | AB18: =样本采集管理!M18 -> 趸交 | AD18: 1 | AE18: 0 | AF18: 1 | AG18: 1
A19: =样本采集管理!E19 -> B0000018 | B19: =样本采集管理!#REF! -> #REF! | C19: 3 | D19: 45979 | E19: 已发 | F19: =样本采集管理!G19 -> ZKZX34000871 | G19: =样本采集管理!F19 -> 时斯宇 | H19: 15956799920 | I19: 341223199605100940 | J19: 尹航 | L19: 341621199402280215 | M19: =D19+8 -> 45987 | N19: 回访成功 | O19: =D19+31 -> 46010 | P19: 回访成功 | Q19: 是 | R19: 尹宥安 | S19: 341621202511185713 | T19: 男 | U19: 2025年11月18日16时09分 | V19: 46017 | W19: 46021 | X19: 46055 | Y19: 46037 | Z19: 安徽省涡阳县星园街道左岸小镇D16栋二单元605 | AA19: =样本采集管理!O19 -> 杨莉莉 | AB19: =样本采集管理!M19 -> 分期 | AD19: 1 | AF19: 1 | AG19: 1
A20: =样本采集管理!E20 -> B0000019 | B20: =样本采集管理!#REF! -> #REF! | C20: 4 | D20: 45980 | E20: 已发 | F20: =样本采集管理!G20 -> ZKZX34000856 | G20: =样本采集管理!F20 -> 席三改 | H20: 18795951161 | I20: 341223198701061721 | J20: 杨林林 | L20: 341223198910041997 | M20: =D20+8 -> 45988 | N20: 回访成功 | O20: =D20+31 -> 46011 | P20: 回访成功 | Q20: 是 | R20: 杨沐瑶 | S20: 341621202511191929 | T20: 女 | U20: 2025年11月19日08时53分 | V20: 46017 | W20: 46021 | X20: 46055 | Y20: 46037 | Z20: 安徽省亳州市涡阳县高炉镇杨楼自然村313号 | AA20: =样本采集管理!O20 -> 马丽 | AB20: =样本采集管理!M20 -> 分期 | AC20: 优先联系宝爸 | AD20: 1 | AF20: 1 | AG20: 1
A21: =样本采集管理!E21 -> BC0000003 | B21: =样本采集管理!#REF! -> #REF! | C21: 5 | D21: 45986 | E21: 已发 | F21: =样本采集管理!G21 -> ZKQD34000831 | G21: =样本采集管理!F21 -> 牛晨晨 | H21: 13075010733 | I21: 341621200112301941 | J21: 高乾乾 | L21: 34162120020119173X | M21: =D21+8 -> 45994 | N21: 回访成功 | O21: =D21+34 -> 46020 | P21: 回访成功 | Q21: 是 | R21: 高诗悦 | S21: 341621202511251725 | T21: 女 | U21: 2025年11月25日15时48分 | V21: 46023 | W21: 46023 | X21: 46055 | Y21: 46132 | Z21: 安徽省亳州市涡阳县星园街道星港城兰桂园 | AA21: =样本采集管理!O21 -> 张慧茹 | AB21: =样本采集管理!M21 -> 趸交 | AD21: 1 | AF21: 1 | AG21: 1
A22: =样本采集管理!E22 -> B0000020 | B22: =样本采集管理!#REF! -> #REF! | C22: 1 | D22: 45996 | E22: 已发 | F22: =样本采集管理!G22 -> ZKZX34000875 | G22: =样本采集管理!F22 -> 张连英 | H22: 18355901252 | I22: 341621198608105143 | J22: 马冰冰 | L22: 341223198511145115 | M22: =D22+8 -> 46004 | N22: 回访成功 | O22: =D22+31 -> 46027 | P22: 回访成功 | Q22: 是 | T22: 男 | U22: 2025年12月2日14时02分 | Z22: 安徽省亳州市涡阳县巨人印象小区 | AA22: =样本采集管理!O22 -> 杨莉莉 | AB22: =样本采集管理!M22 -> 分期 | AD22: 1 | AF22: 1 | AG22: 1
A23: =样本采集管理!E23 -> B0000021 | B23: =样本采集管理!#REF! -> #REF! | C23: 2 | D23: 45996 | E23: 已发 | F23: =样本采集管理!G23 -> ZKZX34000860 | G23: =样本采集管理!F23 -> 左燕丽 | I23: 341223198507064929 | J23: 罗亮亮 | K23: 15026666460 | L23: 341223198509294912 | M23: =D23+8 -> 46004 | N23: 回访成功 | O23: =D23+31 -> 46027 | P23: 回访成功 | Q23: 是 | R23: 罗文玥 | S23: 341621202512026829 | T23: 女 | U23: 2025年12月2日14时30分 | V23: 46023 | W23: 46023 | X23: 46055 | Y23: 46091 | Z23: 安徽省亳州市涡阳县状元府小区 | AA23: =样本采集管理!O23 -> 马丽 | AB23: =样本采集管理!M23 -> 分期 | AD23: 1 | AF23: 1 | AG23: 1
A24: =样本采集管理!E24 -> B0000022 | B24: =样本采集管理!#REF! -> #REF! | D24: 45995 | E24: 已发 | F24: =样本采集管理!G24 -> ZKZX34000896 | G24: =样本采集管理!F24 -> 毛静静 | H24: 18005516258 | I24: 341226199005171562 | J24: 孙鹏中 | K24: 18356024613 | L24: 410329198812117119 | M24: =D24+8 -> 46003 | N24: 回访成功 | O24: =D24+31 -> 46026 | T24: 男 | U24: 2025年12月4日17时50分 | AA24: =样本采集管理!O24 -> 0 | AB24: =样本采集管理!M24 -> 0 | AF24: 1 | AG24: 1
A25: =样本采集管理!E25 -> BC0000004 | B25: =样本采集管理!#REF! -> #REF! | D25: 45995 | E25: 已发 | F25: =样本采集管理!G25 -> ZKQD34000839 | G25: =样本采集管理!F25 -> 毛静静 | H25: 18005516258 | I25: 341226199005171562 | J25: 孙鹏中 | K25: 18356024613 | L25: 410329198812117119 | M25: =D25+8 -> 46003 | N25: 回访成功 | O25: =D25+31 -> 46026 | T25: 男 | U25: 2025年12月4日17时50分 | AA25: =样本采集管理!O25 -> 0 | AB25: =样本采集管理!M25 -> 0 | AF25: 1 | AG25: 1
A26: =样本采集管理!E26 -> B0000023 | B26: =样本采集管理!#REF! -> #REF! | C26: 3 | D26: 46000 | E26: 已发 | F26: =样本采集管理!G26 -> ZKZX34000874 | G26: =样本采集管理!F26 -> 龚杰敏 | H26: 17672680191 | I26: 34122319871016356X | J26: 程雷雷 | K26: 18255809917 | L26: 612501199203166319 | M26: =D26+8 -> 46008 | N26: 回访成功 | O26: =D26+31 -> 46031 | P26: 回访成功 | Q26: 是 | R26: 程苡沫 | S26: 611002202512074429 | T26: 女 | U26: 2025年12月7日09时46分 | V26: 46017 | W26: 46021 | X26: 46084 | Y26: 46091 | Z26: 安徽省亳州市涡阳县李马小区 | AA26: =样本采集管理!O26 -> 杨莉莉 | AB26: =样本采集管理!M26 -> 分期 | AD26: 1 | AF26: 1 | AG26: 1
A27: =样本采集管理!E27 -> B0000024 | B27: =样本采集管理!#REF! -> #REF! | C27: 4 | D27: 46000 | E27: 已发 | F27: =样本采集管理!G27 -> ZKZX34000872 | G27: =样本采集管理!F27 -> 刘亚梅 | H27: 18759983538 | I27: 341621199202024321 | J27: 张顺 | L27: 340621199305025633 | M27: =D27+8 -> 46008 | N27: 回访成功 | O27: =D27+31 -> 46031 | P27: 回访成功 | Q27: 是 | R27: 张明琦 | S27: 340621202512070044 | T27: 女 | U27: 2025年12月7日11时00分 | V27: 46050 | W27: 46055 | X27: 46084 | Y27: 46091 | Z27: 安徽省亳州市涡阳县碧桂园小区 | AA27: =样本采集管理!O27 -> 马丽 | AB27: =样本采集管理!M27 -> 趸交 | AD27: 1 | AF27: 1 | AG27: 1
A28: =样本采集管理!E28 -> B0000025 | B28: =样本采集管理!#REF! -> #REF! | C28: 5 | D28: 46000 | E28: 已发 | F28: =样本采集管理!G28 -> ZKZX34000851 | G28: =样本采集管理!F28 -> 付慧茹 | H28: 17681352537 | I28: 341621199903073169 | J28: 侯敬 | K28: 17681359635 | L28: 341621199906105111 | M28: =D28+8 -> 46008 | N28: 回访成功 | O28: =D28+31 -> 46031 | P28: 回访成功 | Q28: 是 | R28: 侯云晧 | S28: 341621202512087234 | T28: 男 | U28: 2025年12月8日08时51分 | V28: 46050 | W28: 46055 | X28: 46084 | Y28: 46091 | Z28: 安徽省亳州市涡阳县侯老营村 | AA28: =样本采集管理!O28 -> 杨莉莉 | AB28: =样本采集管理!M28 -> 趸交 | AD28: 1 | AF28: 1 | AG28: 1
A29: =样本采集管理!E29 -> B0000026 | B29: =样本采集管理!#REF! -> #REF! | C29: 6 | D29: 46002 | E29: 已发 | F29: =样本采集管理!G29 -> ZKZX34000882 | G29: =样本采集管理!F29 -> 李辰 | H29: 13966886556 | I29: 341223198810110027 | J29: 蒋琳珺 | K29: 17756760838 | L29: 341223198610130015 | M29: =D29+8 -> 46010 | N29: 回访成功 | O29: =D29+31 -> 46033 | P29: 回访成功 | Q29: 是 | R29: 李承泽 | S29: 341621202512110115 | T29: 男 | U29: 2025年12月11日09时16分 | V29: 46050 | W29: 46055 | X29: 46084 | Y29: 46091 | Z29: 安徽省亳州市涡阳县东环路盐业家属院 | AA29: =样本采集管理!O29 -> 马丽 | AB29: =样本采集管理!M29 -> 趸交 | AD29: 1 | AF29: 1 | AG29: 1
A30: =样本采集管理!E30 -> B0000027 | B30: =样本采集管理!#REF! -> #REF! | C30: 7 | D30: 46005 | E30: 已发 | F30: =样本采集管理!G30 -> ZKZX34000843 | G30: =样本采集管理!F30 -> 尹菱惜 | H30: 19032856884 | I30: 360427201005202029 | J30: 刘世轩 | K30: 15256768347 | L30: 341621200904174717 | M30: =D30+8 -> 46013 | N30: 回访成功 | O30: =D30+31 -> 46036 | P30: 回访成功 | Q30: 是 | R30: 刘怀谦 | S30: 341621202512140031 | T30: 男 | U30: 2025年12月14日20点37分 | V30: 46050 | W30: 46055 | X30: 46055 | Y30: 46091 | Z30: 安徽省亳州市涡阳县丹城镇刘尤村 | AA30: =样本采集管理!O30 -> 张慧茹 | AB30: =样本采集管理!M30 -> 趸交 | AD30: 1 | AF30: 1 | AG30: 1
A31: =样本采集管理!E31 -> B0000028 | B31: =样本采集管理!#REF! -> #REF! | C31: 8 | D31: 46007 | E31: 已发 | F31: =样本采集管理!G31 -> ZKZX34000853 | G31: =样本采集管理!F31 -> 邓真 | H31: 13856802009 | I31: 341621198704182923 | J31: 单晓泽 | K31: 13856802009 | L31: 341223198507100715 | M31: =D31+8 -> 46015 | N31: 回访成功 | O31: =D31+31 -> 46038 | P31: 回访成功 | Q31: 是 | R31: 单昕然 | S31: 341621202512150168 | T31: 男 | U31: 2025年12月14日20点37分 | V31: 46050 | W31: 46055 | X31: 46127 | Y31: 46091 | Z31: 安徽省亳州市涡阳县碧桂园公园天下9栋903室 | AA31: =样本采集管理!O31 -> 杨莉莉 | AB31: =样本采集管理!M31 -> 趸交 | AD31: 1 | AF31: 1 | AG31: 1
A32: =样本采集管理!E32 -> B0000029 | B32: =样本采集管理!#REF! -> #REF! | C32: 9 | D32: 46007 | E32: 已发 | F32: =样本采集管理!G32 -> ZKZX34000831 | G32: =样本采集管理!F32 -> 张肖晴 | H32: 19965938351 | I32: 34160219970512582X | J32: 石云飞 | K32: 15555291116 | L32: 341600199810025871 | M32: =D32+8 -> 46015 | N32: 回访成功 | O32: =D32+31 -> 46038 | P32: 回访成功 | Q32: 是 | R32: 石玖悦 | S32: 34160220251215002X | T32: 女 | U32: 2025年12月15日15时23分 | V32: 46050 | W32: 46055 | X32: 46127 | Y32: 46082 | Z32: 安徽省亳州市谯城区谯车镇石大营行政村石大营村24号 | AA32: =样本采集管理!O32 -> 孙恒利 | AB32: =样本采集管理!M32 -> 分期 | AD32: 1 | AG32: 1
A33: =样本采集管理!E33 -> B0000030 | B33: =样本采集管理!#REF! -> #REF! | C33: 10 | D33: 46007 | E33: 已发 | F33: =样本采集管理!G33 -> ZKZX34000886 | G33: =样本采集管理!F33 -> 马庆敏 | H33: 18226119601 | I33: 341621199101093520 | J33: 张南南 | K33: 18226119421 | L33: 34122319920406095X | M33: =D33+13 -> 46020 | N33: 回访成功 | O33: =D33+31 -> 46038 | P33: 回访成功 | Q33: 是 | R33: 张语轩 | S33: 341621202512160091 | T33: 男 | U33: 2025年12月16日09时51分 | V33: 46050 | W33: 46055 | X33: 46127 | Y33: 46091 | Z33: 安徽省亳州市涡阳县巨人小区 | AA33: =样本采集管理!O33 -> 马丽 | AB33: =样本采集管理!M33 -> 趸交 | AD33: 1 | AF33: 1 | AG33: 1
A34: =样本采集管理!E34 -> B0000031 | B34: =样本采集管理!#REF! -> #REF! | C34: 11 | D34: 46010 | E34: 已发 | F34: =样本采集管理!G34 -> ZKZX34000847 | G34: =样本采集管理!F34 -> 梁雨晴 | H34: 13156750817 | I34: 341621199102070080 | J34: 马云龙 | K34: 13156750817 | L34: 34122719910511265X | M34: =D34+8 -> 46018 | N34: 回访成功 | O34: =D34+31 -> 46041 | P34: 回访成功 | Q34: 是 | R34: 马知沐 | S34: 341621202512190063 | T34: 女 | U34: 2025年12月19日12时19分 | V34: 46109 | W34: 46127 | X34: 46127 | Y34: 46132 | Z34: 安徽省亳州市涡阳县紫光大道利群雅苑 | AA34: =样本采集管理!O34 -> 杨莉莉 | AB34: =样本采集管理!M34 -> 分期 | AD34: 1 | AF34: 1 | AG34: 1
A35: =样本采集管理!E35 -> 0 | B35: =样本采集管理!#REF! -> #REF! | F35: =样本采集管理!G35 -> ZKZX34000873 | G35: =样本采集管理!F35 -> 张璐璐 | M35: =D35+8 -> 8 | O35: =D35+31 -> 31 | AA35: =样本采集管理!O35 -> 马丽 | AB35: =样本采集管理!M35 -> 分期
A36: =样本采集管理!E36 -> B0000032 | B36: =样本采集管理!#REF! -> #REF! | C36: 12 | D36: 46016 | E36: 已发 | F36: =样本采集管理!G36 -> ZKZX34000837 | G36: =样本采集管理!F36 -> 李文婷 | H36: 18226072322 | I36: 341227198905133745 | J36: 孙鹏举 | K36: 15855889987 | L36: 341227198907110010 | M36: =D36+8 -> 46024 | N36: 回访成功 | O36: =D36+31 -> 46047 | P36: 回访成功 | Q36: 是 | R36: 孙加昕 | S36: 341623202512240262 | T36: 女 | U36: 2025年12月24日16时41分 | V36: 46109 | W36: 45762 | X36: 46055 | Y36: 46132 | Z36: 安徽省利辛县城关镇五一路8号49户 | AA36: =样本采集管理!O36 -> 赵文静 | AB36: =样本采集管理!M36 -> 趸交 | AD36: 1 | AF36: 1 | AG36: 1
A37: =样本采集管理!E37 -> B0000033 | B37: =样本采集管理!#REF! -> #REF! | C37: 13 | D37: 46017 | E37: 已发 | F37: =样本采集管理!G37 -> ZKZX34000845 | G37: =样本采集管理!F37 -> 姜平 | H37: 15385225637 | I37: 341223199810024342 | J37: 董云飞 | K37: 18924565585 | L37: 341621199604210514 | M37: =D37+8 -> 46025 | N37: 回访成功 | O37: =D37+31 -> 46048 | P37: 回访成功 | Q37: 否 | T37: 女 | U37: 2025年12月25日12时20分 | X37: 已开具 | Z37: 安徽省亳州市涡阳县上河郡 | AA37: =样本采集管理!O37 -> 马丽 | AB37: =样本采集管理!M37 -> 趸交 | AD37: 1 | AF37: 1 | AG37: 1
A38: =样本采集管理!E38 -> B0000034 | B38: =样本采集管理!#REF! -> #REF! | C38: 1 | D38: 46027 | E38: 已发 | F38: =样本采集管理!G38 -> ZKZX34000857 | G38: =样本采集管理!F38 -> 年梦琪 | H38: 19909670031 | I38: 341621200509202749 | J38: 郭林林 | K38: 19909670031 | L38: 341621200309302710 | M38: =D38+8 -> 46035 | N38: 回访成功 | O38: =D38+31 -> 46058 | P38: 回访成功 | Q38: 是 | R38: 郭宥浔 | S38: 341621202601030037 | T38: 男 | U38: 2026年1月3日19时58分 | V38: 46050 | W38: 46055 | X38: 46127 | Y38: 46132 | Z38: 安徽省亳州市涡阳县龙山赵庄 | AA38: =样本采集管理!O38 -> 杨莉莉 | AB38: =样本采集管理!M38 -> 分期 | AD38: 1 | AF38: 1 | AG38: 1
A39: =样本采集管理!E39 -> B0000035 | B39: =样本采集管理!#REF! -> #REF! | C39: 2 | D39: 46034 | E39: 已发 | F39: =样本采集管理!G39 -> ZKZX34000835 | G39: =样本采集管理!F39 -> 陆前进之妻 | H39: 15256736892 | I39: / | J39: 陆前进 | K39: 15256736892 | L39: 341623199010193051 | M39: =D39+8 -> 46042 | N39: 回访成功 | O39: =D39+31 -> 46065 | P39: 回访成功 | Q39: 是 | R39: 陆兆语 | S39: 341623202601090235 | T39: 男 | U39: 2026年01月09日15时02分 | V39: 46136 | W39: 46154 | X39: 46127 | Y39: 46163 | Z39: 安徽省亳州市利辛县城北镇陆水营 | AA39: =样本采集管理!O39 -> 赵文静 | AB39: =样本采集管理!M39 -> 分期 | AD39: 1 | AF39: 1 | AG39: 1
A40: =样本采集管理!E40 -> B0000036 | B40: =样本采集管理!#REF! -> #REF! | C40: 3 | D40: 46041 | E40: 已发 | F40: =样本采集管理!G40 -> ZKZX34000844 | G40: =样本采集管理!F40 -> 牛勤 | H40: 18726690130 | I40: 341223198212103329 | J40: 史云峰 | K40: 18256763305 | L40: 341223197111122315 | M40: =D40+8 -> 46049 | N40: 回访成功 | O40: =D40+31 -> 46072 | P40: 回访成功 | Q40: 是 | R40: 史恩泽 | S40: 341621202601180094 | T40: 男 | U40: 2026年1月18日06时50分 | V40: 46081 | W40: 46106 | X40: 46127 | Y40: 46132 | Z40: 安徽省亳州市涡阳县曹市镇 | AA40: =样本采集管理!O40 -> 马丽 | AB40: =样本采集管理!M40 -> 分期 | AD40: 1 | AF40: 1 | AG40: 1
...

Sheet 预签约管理
A1: 序号 | B1: 年 | C1: 月 | D1: 日 | E1: 协议编号 | F1: 母亲姓名 | G1: 样本类型 | H1: 采集地区 | I1: 采集医院 | J1: 缴费方式 | K1: 采集时间 | L1: 合同金额 | M1: 到账金额 | N1: 刷卡时间 | O1: 预产期 | P1: 市场专员 | Q1: 地区经理 | R1: 备注 | S1: 退款金额
A2: 1 | B2: 2025 | C2: 9 | D2: 19 | F2: 陈影 | M2: 1000元 | N2: 2025年9月19日17点26分13秒 | Q2: 张颖 | R2: 悔存-申请退定金 | S2: 1000元
A3: 2 | B3: 2026 | C3: 4 | D3: 2 | F3: 杨育蕾 | M3: 1000元（定金） | N3: 2026年4月2日16:49:42 | O3: 46296 | P3: 张慧茹 | Q3: 张颖
A4: 3 | B4: 2026 | C4: 5 | D4: 20 | F4: 董慧丽 | M4: 2000 | N4: 2026年5月20日09:13:34 | O4: 46191 | P4: 张慧茹 | Q4: 张颖
A5: 4 | B5: 2026 | C5: 12 | F5: 潘庆 | M5: 1000元 | R5: 悔存-申请退定金 | S5: 1000元
A6: 5 | B6: 2026 | C6: 6 | D6: 19 | F6: 王雅茹 | M6: 1000元 | N6: 2026年6月19日16:40:27 | O6: 2026年9月30 | P6: 孙恒利 | Q6: 张颖
A7: 6 | B7: 2026 | C7: 7 | D7: 14 | F7: 彭茹晴 | M7: 500元 | N7: 2026年7月14日10:35:43 | O7: 46244 | P7: 马丽 | Q7: 张颖

Sheet 科研表
A1: 序号 | B1: 年份 | C1: 月 | D1: 日 | E1: 当月核量号 | F1: 实验室编码 | G1: 储存状态 | H1: 废弃原因 | I1: 母亲姓名 | J1: 围产期造血干细胞 | K1: 采集 地区 | L1: 采集医院 | M1: 分娩时间 | N1: 采集时间 | O1: 市场专员@@ | P1: 地区经理 | Q1: 运输方式 | R1: 运费 | S1: 性别 | T1: 新生儿体重 | U1: 分娩方式 | V1: 胎次 | W1: 母血采集时间 | X1: 知情同意书 | Y1: 备注
A2: 1 | B2: 2025年 | C2: 8 | D2: 29 | E2: 202508001 | F2: A0000001 | G2: 实验室废弃 | H2: 母血乙肝阳性 | I2: 曹陆双 | J2: 实验室废弃 | K2: 亳州 | L2: 涡阳县人民医院 | M2: 2025年8月29日12时26分 | N2: 2025年8月29日12时27分 | O2: 杨莉莉 | P2: 张颖 | Q2: 顺丰快递 | R2: 25 | S2: 女 | T2: 3000g | U2: 顺产 | V2: 1 | W2: 2025年8月29日13时30分 | X2: 1
A3: 2 | B3: 2025年 | C3: 8 | D3: 29 | E3: 202508002 | F3: A0000002 | I3: 徐群英 | J3: 围产期造血干细胞 | K3: 亳州 | L3: 涡阳县中医院 | M3: 2025年8月29日20时27分 | N3: 2025年8月29日20时28分 | O3: 张慧茹 | P3: 张颖 | Q3: 专线车 | R3: 100 | S3: 女 | T3: 3420g | U3: 顺产 | V3: 3 | W3: 无母血 | X3: 1
A4: 3 | B4: 2025年 | C4: 8 | D4: 30 | E4: 202508003 | F4: A0000003 | I4: 韩文文 | J4: 围产期造血干细胞 | K4: 亳州 | L4: 涡阳县人民医院 | M4: 2025年8月30日15时20分 | N4: 2025年8月30日15时21分 | O4: 杨莉莉 | P4: 张颖 | Q4: 顺丰快递 | R4: 17 | S4: 男 | T4: 3000g | U4: 剖腹产 | V4: 2 | W4: 无母血 | X4: 1
A5: 4 | B5: 2025年 | C5: 8 | D5: 30 | E5: 202508004 | F5: A0000004 | I5: 王翠 | J5: 围产期造血干细胞 | K5: 亳州 | L5: 涡阳县中医院 | M5: 2025年8月30日19时52分 | N5: 2025年8月30日19时53分 | O5: 张慧茹 | P5: 张颖 | Q5: 专线车 | R5: 100 | S5: 男 | T5: 3800g | U5: 剖腹产 | V5: 3 | W5: 无母血 | X5: 1
B6: 2025年 | C6: 8 | D6: 31 | E6: 202508005 | F6: A0000005 | I6: 李劲泉 | J6: 围产期造血干细胞 | K6: 亳州 | L6: 涡阳县人民医院 | M6: 2025年8月31日09时11分 | N6: 2025年8月31日09时11分0秒 | O6: 马丽 | P6: 张颖 | S6: 女 | T6: 3000g | U6: 剖腹产 | V6: 2 | W6: 2025年8月31日08时00分00秒 | X6: 1
A7: 1 | B7: 2025年 | C7: 9 | D7: 1 | E7: 202509001 | F7: A0000006 | G7: 实验室废弃 | H7: 细胞数不足 | I7: 李欣怡 | J7: 实验室废弃 | K7: 亳州 | L7: 涡阳县人民医院 | M7: 2025年9月1日20时32分 | N7: 2025年9月1日20时33分 | O7: 马丽 | P7: 张颖 | Q7: 专线车 | R7: 100 | S7: 男 | T7: 3100g | U7: 顺产 | V7: 2 | W7: 无母血 | X7: 1
A8: 2 | B8: 2025年 | C8: 9 | D8: 2 | E8: 202509002 | F8: A0000007 | G8: 实验室废弃 | H8: 超时 | I8: 许惠琳 | J8: 实验室废弃 | K8: 亳州 | L8: 涡阳县中医院 | M8: 2025年9月2日9时54分 | N8: 2025年9月2日9时55分 | O8: 张慧茹 | P8: 张颖 | Q8: 顺丰快递 | R8: 22 | S8: 男 | T8: 2580g | U8: 顺产 | V8: 1 | W8: 无母血 | X8: 1
A9: 3 | B9: 2025年 | C9: 9 | D9: 7 | E9: 202509005 | F9: A0000008 | G9: 实验室废弃 | H9: 关卡没卡紧 | I9: 惠敏 | J9: 实验室废弃 | K9: 亳州 | L9: 涡阳县人民医院 | M9: 2025年9月7日11时10分 | N9: 2025年9月7日11时11分 | O9: 马丽 | P9: 张颖 | Q9: 顺丰快递 | R9: / | S9: 男 | T9: 3220g | U9: 剖腹产 | V9: 2 | W9: 无母血 | X9: 1
A10: 4 | B10: 2025年 | C10: 9 | D10: 9 | E10: 202509007 | F10: UBMC2025012 | I10: 夏兆生 | J10: NK | K10: 亳州 | L10: 涡阳县中医院 | M10: 2025年9月9日10时33分 | N10: 2025年9月9日10时34分 | O10: 张慧茹 | P10: 张颖 | Q10: 顺丰快递 | R10: 23 | S10: 女 | T10: 3900g | U10: 剖腹产 | V10: 2 | W10: 2025年9月9日15时30分 | X10: 1
A11: 5 | B11: 2025年 | C11: 9 | D11: 9 | E11: 202509008 | F11: UBMC2025013 | I11: 张梦梦 | J11: NK | K11: 亳州 | L11: 涡阳县中医院 | M11: 2025年9月9日12时00分 | N11: 2025年9月9日12时01分 | O11: 张慧茹 | P11: 张颖 | S11: 女 | T11: 2912g | U11: 剖腹产 | V11: 1 | W11: 无母血 | X11: 1
A12: 6 | B12: 2025年 | C12: 9 | D12: 11 | E12: 202509009 | F12: UBMC2025014 | I12: 王春红 | J12: NK | K12: 亳州 | L12: 涡阳县人民医院 | M12: 2025年9月11日18时13分 | N12: 2025年9月11日18时14分 | O12: 马丽 | P12: 张颖 | Q12: 专线车 | R12: 100 | S12: 男 | T12: 3860g | U12: 顺产 | V12: 1 | W12: 无母血 | X12: 1
A13: 7 | B13: 2025年 | C13: 9 | D13: 12 | E13: 202509010 | F13: UBMC2025015 | I13: 郑远平 | J13: NK | K13: 亳州 | L13: 涡阳县人民医院 | M13: 2025年9月12日10时39分 | N13: 2025年9月12日10时40分 | O13: 马丽 | P13: 张颖 | S13: 女 | T13: 3350g | U13: 顺产 | V13: 2 | W13: 无母血 | X13: 1
A14: 8 | B14: 2025年 | C14: 9 | D14: 13 | E14: 202509011 | F14: UBMC2025016 | I14: 李中华 | J14: NK | K14: 亳州 | L14: 涡阳县人民医院 | M14: 2025年9月13日20时46分 | N14: 2025年9月13日20时47分 | O14: 杨莉莉 | P14: 张颖 | Q14: 专线车 | R14: 100 | S14: 女 | T14: 4000g | U14: 剖腹产 | V14: 3 | W14: 无母血 | X14: 1
A15: 9 | B15: 2025年 | C15: 9 | D15: 16 | E15: 202509013 | F15: UBMC2025017 | I15: 李娜娜 | J15: NK | K15: 亳州 | L15: 涡阳县人民医院 | M15: 2025年9月15日16时52分 | N15: 2025年9月15日16时52分 | O15: 杨莉莉 | P15: 张颖 | Q15: 专线车 | R15: 100 | S15: 男 | T15: 3550 | U15: 顺产 | V15: 1 | W15: 无母血 | X15: 1
A16: 10 | B16: 2025年 | C16: 9 | D16: 26 | E16: 202509016 | F16: UBMC2025018 | I16: 王博倩 | J16: NK | K16: 亳州 | L16: 涡阳县中医院 | M16: 2025年9月26日17时07分 | N16: 2025年9月26日17时08分 | O16: 张慧茹 | P16: 张颖 | Q16: 专线车 | R16: 100 | S16: 女 | T16: 3600g | U16: 剖腹产 | V16: 1 | W16: 无母血 | X16: 1
A17: 11 | B17: 2025年 | C17: 9 | D17: 30 | E17: 202509018 | F17: UBMC2025019 | I17: 侯婷婷 | J17: NK | K17: 亳州 | L17: 涡阳县人民医院 | M17: 2025年9月30日09时13分 | N17: 2025年9月30日09时14分 | O17: 杨莉莉 | P17: 张颖 | Q17: 顺丰快递 | R17: 月结 | S17: 女 | T17: 3300g | U17: 顺产 | V17: 2 | W17: 无母血 | X17: 1
A18: 1 | B18: 2025年 | C18: 10 | D18: 20 | E18: 202510007 | F18: UBMC2025020 | G18: UBMC | I18: 王红 | J18: NK | K18: 亳州 | L18: 涡阳县中医院 | M18: 2025年10月20日14时08分 | N18: 2025年10月20日14时09分 | O18: 张慧茹 | P18: 张颖 | Q18: 顺丰快递 | R18: 月结 | S18: 男 | T18: 4300g | U18: 顺产 | V18: 3 | W18: 无母血 | X18: 1
A19: 2 | B19: 2025年 | C19: 10 | D19: 27 | E19: 202510008 | F19: UBMC2025021 | G19: UBMC | I19: 吕芷情 | J19: NK | K19: 亳州 | L19: 涡阳县中医院 | M19: 2025年10月27日10时30分 | N19: 2025年10月27日10时31分 | O19: 张慧茹 | P19: 张颖 | Q19: 顺丰快递 | R19: 月结 | S19: 男 | T19: 3490g | U19: 顺产 | V19: 1 | W19: 无母血 | X19: 1
B20: 2025年 | C20: 10 | D20: 27 | E20: 202510009 | F20: / | G20: 废弃未制备 | H20: 无知情同意书 | I20: 刘雅雯 | J20: 实验室废弃 | K20: 亳州 | L20: 涡阳县中医院 | M20: 2025年10月27日11时42分 | N20: 2025年10月27日11时43分 | O20: 张慧茹 | P20: 张颖 | Q20: 顺丰快递 | R20: 月结 | S20: 女 | T20: 3060g | U20: 顺产 | V20: 1 | W20: 无母血 | X20: /
A21: 3 | B21: 2025年 | C21: 10 | D21: 31 | E21: 202510011 | F21: UBMC2025022 | G21: UBMC | I21: 何文静 | J21: NK | K21: 亳州 | L21: 涡阳县中医院 | M21: 2025年10月31日17时46分 | N21: 2025年10月31日17时47分 | O21: 张慧茹 | P21: 张颖 | Q21: 专线车 | R21: 100 | S21: 男 | T21: 3400g | U21: 顺产 | V21: 1 | W21: 无母血 | X21: 1
A22: 1 | B22: 2025年 | C22: 11 | D22: 1 | E22: 202511001 | F22: / | G22: 实验室废弃 | H22: 血量少 | I22: 张世华 | J22: 实验室废弃 | K22: 亳州 | L22: 涡阳县中医院 | M22: 2025年11月1日1时52分 | N22: 2025年11月1日1时53分 | O22: 张慧茹 | P22: 张颖 | S22: 女 | T22: 3150g | U22: 顺产 | V22: 1 | W22: 无母血 | X22: 1
A23: 2 | B23: 2025年 | C23: 11 | D23: 4 | E23: 202511004 | F23: UBMC2025023 | I23: 马抬抬 | J23: NK | K23: 亳州 | L23: 涡阳县人民医院 | M23: 2025年11月4日08时40分 | N23: 2025年11月4日08时41分 | O23: 杨莉莉 | P23: 张颖 | Q23: 顺丰快递 | R23: 月结 | S23: 女 | T23: 3350g | U23: 顺产 | V23: 1 | W23: 无母血 | X23: 1
A24: 3 | B24: 2025年 | C24: 11 | D24: 19 | E24: 202511009 | F24: UBMC2025025 | I24: 刘迎迎 | J24: NK | K24: 亳州 | L24: 涡阳县人民医院 | M24: 2025年11月19日21时45分 | N24: 2025年11月19日21时46分 | O24: 杨莉莉 | P24: 张颖 | Q24: 专线车 | R24: 100 | S24: 男 | T24: 3380g | U24: 顺产 | V24: 1 | W24: 无母血 | X24: 1
A25: 4 | B25: 2025年 | C25: 11 | D25: 19 | E25: 202511008 | F25: UBMC2025026 | I25: 王千喜 | J25: NK | K25: 亳州 | L25: 涡阳县人民医院 | M25: 2025年11月19日18时29分 | N25: 2025年11月19日18时30分 | O25: 杨莉莉 | P25: 张颖 | S25: 女 | T25: 2500g | U25: 顺产 | V25: 1 | W25: 无母血 | X25: 1
A26: 5 | B26: 2025年 | C26: 11 | D26: 19 | G26: 属地废弃 | H26: 血量少 | I26: 冯文文 | J26: 属地废弃 | K26: 亳州 | L26: 涡阳县人民医院 | O26: 杨莉莉 | P26: 张颖 | X26: 1 | Y26: 已核销
A27: 6 | B27: 2025年 | C27: 11 | D27: 20 | G27: 属地废弃 | H27: 血量少 | I27: 孙莹莹 | J27: 属地废弃 | K27: 亳州 | L27: 涡阳县人民医院 | O27: 杨莉莉 | P27: 张颖 | X27: 1 | Y27: 已核销
A28: 7 | B28: 2025年 | C28: 11 | D28: 20 | G28: 属地废弃 | H28: 血量少 | I28: 李宏燕 | J28: 属地废弃 | K28: 亳州 | L28: 涡阳县中医院 | O28: 张慧茹 | P28: 张颖 | X28: 1 | Y28: 已核销
A29: 8 | B29: 2025年 | C29: 11 | D29: 21 | E29: 202511010 | F29: UBMC2025027 | I29: 邢会会 | J29: NK | K29: 亳州 | L29: 涡阳县人民医院 | M29: 2025年11月21日08时40分 | N29: 2025年11月21日08时41分 | O29: 马丽 | P29: 张颖 | Q29: 顺丰快递 | R29: 月结 | S29: 女 | T29: 3400g | U29: 剖腹产 | V29: 2 | W29: 无母血 | X29: 1
A30: 9 | B30: 2025年 | C30: 11 | D30: 21 | G30: 属地废弃 | H30: 血量少 | I30: 赵翠 | J30: 属地废弃 | K30: 亳州 | L30: 涡阳县人民医院 | O30: 马丽 | P30: 张颖 | X30: 1 | Y30: 已核销
A31: 10 | B31: 2025年 | C31: 11 | D31: 26 | G31: 属地废弃 | H31: 血量少 | I31: 冯婷婷 | J31: 属地废弃 | K31: 亳州 | L31: 涡阳县中医院 | O31: 张慧茹 | P31: 张颖 | X31: 1 | Y31: 已核销
A32: 11 | B32: 2025年 | C32: 11 | D32: 28 | E32: 202511012 | F32: UBMC2025028 | I32: 郭静云 | J32: NK | K32: 亳州 | L32: 涡阳县中医院 | M32: 2025年11月28日12时02分 | N32: 2025年11月28日12时03分 | O32: 张慧茹 | P32: 张颖 | Q32: 顺丰快递 | R32: 月结 | S32: 女 | T32: 3200g | U32: 剖腹产 | V32: 1 | W32: 无母血 | X32: 1
A33: 12 | B33: 2025年 | C33: 11 | D33: 28 | G33: 属地废弃 | H33: 血量少 | I33: 刘丽娜 | J33: 属地废弃 | K33: 亳州 | L33: 涡阳县人民医院 | O33: 马丽 | P33: 张颖 | X33: 1 | Y33: 已核销
A34: 13 | B34: 2025年 | C34: 11 | D34: 29 | G34: 属地废弃 | H34: 血量少 | I34: 薛玉清 | J34: 属地废弃 | K34: 亳州 | L34: 涡阳县中医院 | O34: 张慧茹 | P34: 张颖 | X34: 1 | Y34: 已核销
A35: 1 | B35: 2025年 | C35: 12 | D35: 3 | E35: 202512003 | F35: UBMC2025029 | I35: 杨晶晶 | J35: NK | K35: 亳州 | L35: 涡阳县中医院 | M35: 2025年12月03日11时30分 | N35: 2025年12月03日11时31分 | O35: 张慧茹 | P35: 张颖 | Q35: 顺丰快递 | R35: 月结 | S35: 男 | T35: 3580g | U35: / | V35: 2 | W35: 无母血 | X35: 1
A36: 2 | B36: 2025年 | C36: 12 | D36: 3 | E36: 202512004 | F36: UBMC2025030 | I36: 沈蕊 | J36: NK | K36: 亳州 | L36: 涡阳县中医院 | M36: 2025年12月03日9时59分 | N36: 2025年12月03日10时00分 | O36: 张慧茹 | P36: 张颖 | S36: 女 | T36: 3040g | U36: 顺产 | V36: 1 | W36: 无母血 | X36: 1
A37: 3 | B37: 2025年 | C37: 12 | D37: 2 | G37: 属地废弃 | I37: 邢金雨 | J37: 属地废弃 | K37: 亳州 | L37: 涡阳县人民医院 | O37: 马丽 | P37: 张颖 | X37: 1 | Y37: 已核销
A38: 4 | B38: 2025年 | C38: 12 | D38: 5 | G38: 属地废弃 | I38: 李艳琼 | J38: 属地废弃 | K38: 亳州 | L38: 涡阳县人民医院 | O38: 杨莉莉 | P38: 张颖 | X38: 1 | Y38: 已核销
A39: 5 | B39: 2025年 | C39: 12 | D39: 5 | E39: 202512007 | F39: UBMC2025032 | I39: 李慧甜 | J39: NK | K39: 亳州 | L39: 涡阳县中医院 | M39: 2025.12.5 15:30 | N39: 2025.12.5 15:31 | O39: 张慧茹 | P39: 张颖 | Q39: 顺丰快递 | R39: 月结 | S39: 男 | T39: 3100g | U39: 剖腹产 | V39: 2 | W39: 无母血 | X39: 1
A40: 6 | B40: 2025年 | C40: 12 | D40: 5 | E40: 202512008 | F40: UBMC2025033 | I40: 李秀丽 | J40: NK | K40: 亳州 | L40: 涡阳县中医院 | M40: 2025.12.5 16:53 | N40: 2025.12.5 16:54 | O40: 张慧茹 | P40: 张颖 | S40: 女 | T40: 2800g | U40: 剖腹产 | V40: 3 | W40: 无母血 | X40: 1
...

Sheet 退款表
A1: 日期 | B1: 类型 | C1: 摘要 | D1: 收账金额 | E1: 退款金额 | F1: 银行退款 | G1: 收款人姓名 | H1: 归属人 | I1: 是否制备 | J1: 备注 | K1: 退款日期
A2: 45901 | B2: 悔存 | C2: 王晴晴 | D2: 5000 | E2: 5000 | G2: 杨晨 | H2: 马丽 | I2: 是 | J2: 已退款
A3: 45901 | B3: 悔存 | C3: 魏星月ZKZX34000859 | D3: 2000 | E3: 1000 | F3: 1000 | H3: 杨莉莉 | I3: 是 | J3: 已退款 | K3: 45924
A4: 45901 | B4: 悔存 | C4: 陈影 | D4: 1000 | E4: 1000 | F4: 1000 | I4: 否 | J4: 已退款 | K4: 45924
A5: 45901 | B5: 悔存 | C5: 邵悦ZKZX34000839 | D5: 6480 | E5: 5480 | F5: 5480 | G5: 赵威 | H5: 张慧茹 | I5: 是 | J5: 已退款 | K5: 45954
A6: 45931 | B6: 悔存 | C6: 马晓艳ZKZX34000848 | D6: 2000 | E6: 2000 | F6: 2000 | G6: 臧董标 | H6: 杨莉莉 | I6: 是 | J6: 已退款 | K6: 45954
A7: 45931 | B7: 细菌阳性 | C7: 杨薇薇ZKZX34000841 | D7: 22880 | E7: 22880 | F7: 22880 | G7: 杨秀平 | H7: 张慧茹 | I7: 是 | J7: 已退款 | K7: 45982
A8: 45992 | B8: 悔存 | C8: 张璐璐ZKZX34000873 | D8: 6480 | E8: 6480 | G8: 王辉 | H8: 马丽 | I8: 否 | J8: 已退款
A9: 45992 | B9: 悔存 | C9: 潘庆 | D9: 1000 | E9: 1000 | F9: 1000 | H9: 赵文静 | I9: 否 | J9: 已退款 | K9: 46031
A10: 46054 | B10: 悔存 | C10: 程红ZKZX34000902 | D10: 6480 | E10: 6480 | F10: 6480 | G10: 华浩 | H10: 马丽 | I10: 否 | J10: 已退款 | K10: 46184
A11: 46023 | B11: 悔存 | C11: 李欣欣ZKZX34000876 | D11: 6480 | E11: 6480 | G11: 牛志强 | H11: 张慧茹 | I11: 是 | J11: 已退款
A12: 46082 | B12: 悔存 | C12: 徐睿君ZKZX34000897 | D12: 6480 | E12: 5480 | F12: 5480 | H12: 杨莉莉 | I12: 是 | J12: 已退款 | K12: 46171
A13: 46113 | B13: 悔存 | C13: 李建欣ZKZX34000878 | D13: 6480 | E13: 5480 | G13: 方斌 | H13: 张慧茹 | I13: 是 | J13: 已退款
A14: 46113 | B14: 乙肝阳性 | C14: 王玉玉ZKZX34000883 | D14: 22880 | E14: 21880 | F14: 41760 | H14: 马丽 | I14: 否 | J14: 已退款 | K14: 46191
A15: 46113 | B15: 乙肝阳性 | C15: 王玉玉ZKQD34000861 | D15: 20880 | E15: 19880 | H15: 马丽 | I15: 否 | J15: 已退款 | K15: 46191
A16: 46174 | B16: 悔存 | C16: 邓敏ZKZX34000930 | D16: 6480 | E16: 5480 | H16: 杨莉莉 | I16: 是
A17: 46204 | B17: 乙肝阳性 | C17: 李影ZKZX34000956 | D17: 6480 | E17: 5480
E20: =SUM(E2:E18) -> 121480
